Workbook

Sheet Instructions
A1: Instructions and FAQs:
A3: First, please enter your Service Unit in the box: | F3: 10
A5: Next, please enter your Troop number in this box: | F5: 40726
A7: Immediately after you download:
B8: You must save your spreadsheet to your hard drive. If you don't, it won't let you propogate the names throughout the spreadsheet, and it will act as though the spreadsheet is read-only.
A9: How to enter Junior Names in the spreadsheet:
B10: Double-Click on the Tabs at the bottom of the page that say "Junior 1", "Junior 2", etc. That will highlight the text. Simply type the girl's first name on the tab. That will cause her name to proliferate throughout the spreadsheet.
A11: The Parent Contact Info page:
B12: The Parent Contact Info page is simply there to give you a place to collect parent info for your scouts. Use it or not. It will have no effect on the rest of the sheet. This is just there as a tool for you.
A13: The Registration page:
B14: The Registration page is there to give you some help in remembering who has given you their registration papers, health history, paid their money to your council and your service unit. This will not spread anywhere else on the sheet. For the leader names, simply click on the names to change your leaders' names.
A15: The Attendance page:
B16: The Attendance page is used to help you keep track of who was present at various events, such as Meetings, Campouts, etc.
A17: The Dues page:
B18: Enter dues as you receive them. The sheet is set up for you to record money. Simply type in what they were able to contribute.
A19: How to enter credit on the Badges, Earned Age-Level, Signs, Bridgining and Bronze pages:
B20: To enter credit on the Badges page, enter an A as a girl completes each requirement.
A21: The Summary page:
B22: The summary page is for keeping track, at a glance, of where you are patches-wise. You can quickly see, at a glance, what you have already awarded to the girls, and what you still owe them. As you enter completion information in other parts of the spreadsheet, as soon as a girl is complete for an award, it will automatically pop up an E (and highlight it) on the Summary page. When you present the award to the girl, enter an A when you present the award (and the highlight goes away). Here is also where you will enter your Fun Patches. Simply type in the patch you need to order then place the "E" in the Earned column and it will calculate for you on the Summary page as well as enter it onto the individual girls' pages.
A23: The Order page:
B24: You will never enter any information on the Order page. It is a completely automated page that gleens information from the Summary page. When it is time for you to turn in your request for awards from your awards chair, simply go to the Order page for that information. Every time a girl earns a patch, the numbers on this page increase. When you award the patch to the girl (and enter an A on the Summary page), the numbers decrease.
A25: What's the purpose of the individual Junior pages?
B26: You will never enter any information on the individual Junior pages. Those pages are for you to occasionally print out and hand to the parents. You can use them to let a parent know what their daughter has and has not completed. You can also use that page to make homework assignments for the girls.
A27: Troubleshooting & Frequently Asked Questions
B28: First, most issues can be solved by carefully reading these instructions. I encourage you to re-read this entire page before you do anything else. If that doesn't help, then the home site has a troubleshooting and FAQ page:
C29: http://trax.boy-scouts.net/faq.htm
B30: If neither of these has helped, then please e-mail me and ask. However, I ask that you please exhaust the above resources before you e-mail me. I get several e-mails per day asking for help, and to be honest, if they ask a question which I've already covered in these instructions and/or the FAQ page, I'm very likely to ignore the e-mail. Please read before you e-mail me.
A31: What's the password?
B32: First, I wouldn't recommend unprotecting the spreadsheet. It has been locked for your protection. Basically, it has been locked to keep you from messing up the formulas. It's designed as such that if you are getting a message telling you that a cell is protected, then you are trying to type in the wrong box. But if you must know, the password is: junior
A33: What about sharing and editing this sheet?
B34: 1. You have my permission to share this spreadsheet, absolutely free of charge, to any scouter anywhere.
B35: 2. You have my permission to post this spreadsheet on any server willing to host it. I will, however, ask that if you DO post this spreadsheet on a server somewhere, that you occasionally check back to the two main site that will host this sheet to check for updates (to make sure you have the latest version available. The site is:
B36: The Girl Scout Trax Website: | E36: http://trax.boy-scouts.net/gstrax.htm
B37: 3. You have my permission to modify this sheet in any way to suit your own needs, however, if you do, please don't post your modified version anywhere on the internet.
B38: 4. You have my permission to e-mail me with suggestions for improvements you'd like to see, but please don't be offended if I don't use your suggestions.
A39: How can you contact me?
B40: aedmunds@bellsouth.net
A41: Version History
B42: JuniorTrax 1.0 | C42: 39462 | D42: - Initial release of the software package.
B44: JuniorTrax 1.1 | C44: 39716 | D44: - Fixed minor glitches and added Journey Awards
B46: JuniorTrax 1.2 | C46: 39727 | D46: - Widespread Commercial release of software
B48: JuniorTrax 1.3 | C48: 39797 | D48: - fixed issues with conversion, modified individual pages, added dues page
B50: JuniorTrax 1.4 | C50: 39812 | D50: - fixed minor silly glitches that I missed
B52: JuniorTrax 1.5 | C52: 39876 | D52: - fixed minor silly glitches that I missed
B54: JuniorTrax 1.6 | C54: 39922 | D54: - Modified formulas to make spreadsheet work on both Microsoft Excel and OpenOffice Calc.
B55: JuniorTrax 1.7 | C55: 40035 | D55: - Added new Journey, more minor glitches fixed, added tab for council's own
B56: JuniorTrax 1.8 | C56: 40112 | D56: -fixing issues with minor glitches…again, that I missed
B57: JuniorTrax 1.9 | C57: 40562 | D57: -added new journey
B58: JuniorTrax 2.0 | C58: 40872 | D58: -amended to reflect changes in new Girl's Guide for Scouting. Removed all other badges. Contains new requirements for Bronze Award, reflects the Age-Level Awards as in Girl's Guide for Scouting. Modified Individual Junior pages as well.
B62: JuniorTrax 2.1 | C62: 40924 | D62: -added Summit Pin to Age-Level, Summary, Order and Individual Tabs

Sheet Parent Contact Info
A1: =Bekah!$A$1 -> Bekah | B1: Johnson | C1: Date of Birth: | E1: EMERGENCY CONTACT
A2: girl's email | C2: Cell Phone:
A3: Primary Adult | C3: Second Adult | F3: Name:
A4: Relationship: | B4: mom | C4: Relationship:
A5: Name: | B5: Bekah | C5: Name: | F5: Relationship:
A6: Address: | C6: Address:
A7: City, State ZIP: | C7: City, State ZIP: | F7: Home Phone:
A8: Home Phone: | C8: Home Phone:
A9: Work Phone: | C9: Work Phone: | F9: Work Phone:
A10: Cell Phone: | C10: Cell Phone:
A11: Home e-mail: | C11: Home e-mail: | F11: Cell Phone:
A12: Work e-mail: | C12: Work e-mail:
A13: =Elizabeth!$A$1 -> Elizabeth | B13: Hanson | C13: Date of Birth: | D13: 36917 | E13: EMERGENCY CONTACT
A14: girl's email | B14: Sandy Hanson | C14: Cell Phone:
A15: Primary Adult | C15: Second Adult | F15: Name: | G15: Michelle Foltz
A16: Relationship: | B16: Mom | C16: Relationship: | D16: dad- Jeff Hanson
A17: Name: | B17: Elizabeth | C17: Name: | F17: Relationship: | G17: Friend
A18: Address: | B18: 33 Battalion Ct | C18: Address: | D18: 49 Greatwood Ct
A19: City, State ZIP: | B19: Bunker Hill, WV 25413 | C19: City, State ZIP: | D19: Inwood, WvV 25428 | F19: Home Phone:
A20: Home Phone: | C20: Home Phone: | D20: 3042292748
A21: Work Phone: | C21: Work Phone: | F21: Work Phone:
A22: Cell Phone: | B22: 3045827108 | C22: Cell Phone: | D22: 3045825508
A23: Home e-mail: | C23: Home e-mail: | F23: Cell Phone: | G23: 3046716272
A24: Work e-mail: | C24: Work e-mail:
A25: =Meagan!$A$1 -> Meagan | B25: <<Last Name>> | C25: Date of Birth: | E25: EMERGENCY CONTACT
A26: girl's email | C26: Cell Phone:
A27: Primary Adult | C27: Second Adult | F27: Name:
A28: Relationship: | C28: Relationship:
A29: Name: | C29: Name: | F29: Relationship:
A30: Address: | C30: Address:
A31: City, State ZIP: | C31: City, State ZIP: | F31: Home Phone:
A32: Home Phone: | C32: Home Phone:
A33: Work Phone: | C33: Work Phone: | F33: Work Phone:
A34: Cell Phone: | C34: Cell Phone:
A35: Home e-mail: | C35: Home e-mail: | F35: Cell Phone:
A36: Work e-mail: | C36: Work e-mail:
A37: ='Junior 4'!$A$1 -> Junior 4 | B37: <<Last Name>> | C37: Date of Birth: | E37: EMERGENCY CONTACT
A38: girl's email | C38: Cell Phone:
A39: Primary Adult | C39: Second Adult | F39: Name:
A40: Relationship: | C40: Relationship:
A41: Name: | C41: Name: | F41: Relationship:
A42: Address: | C42: Address:
A43: City, State ZIP: | C43: City, State ZIP: | F43: Home Phone:
A44: Home Phone: | C44: Home Phone:
A45: Work Phone: | C45: Work Phone: | F45: Work Phone:
A46: Cell Phone: | C46: Cell Phone:
A47: Home e-mail: | C47: Home e-mail: | F47: Cell Phone:
A48: Work e-mail: | C48: Work e-mail:
A49: ='Junior 5'!$A$1 -> Junior 5 | B49: <<Last Name>> | C49: Date of Birth: | E49: EMERGENCY CONTACT
A50: girl's email | C50: Cell Phone:
A51: Primary Adult | C51: Second Adult | F51: Name:
A52: Relationship: | C52: Relationship:
A53: Name: | C53: Name: | F53: Relationship:
A54: Address: | C54: Address:
A55: City, State ZIP: | C55: City, State ZIP: | F55: Home Phone:
A56: Home Phone: | C56: Home Phone:
A57: Work Phone: | C57: Work Phone: | F57: Work Phone:
A58: Cell Phone: | C58: Cell Phone:
A59: Home e-mail: | C59: Home e-mail: | F59: Cell Phone:
A60: Work e-mail: | C60: Work e-mail:
A61: ='Junior 6'!$A$1 -> Junior 6 | B61: <<Last Name>> | C61: Date of Birth: | E61: EMERGENCY CONTACT
A62: girl's email | C62: Cell Phone:
A63: Primary Adult | C63: Second Adult | F63: Name:
A64: Relationship: | C64: Relationship:
A65: Name: | C65: Name: | F65: Relationship:
A66: Address: | C66: Address:
A67: City, State ZIP: | C67: City, State ZIP: | F67: Home Phone:
A68: Home Phone: | C68: Home Phone:
A69: Work Phone: | C69: Work Phone: | F69: Work Phone:
A70: Cell Phone: | C70: Cell Phone:
A71: Home e-mail: | C71: Home e-mail: | F71: Cell Phone:
A72: Work e-mail: | C72: Work e-mail:
A73: ='Junior 7'!$A$1 -> Junior 7 | B73: <<Last Name>> | C73: Date of Birth: | E73: EMERGENCY CONTACT
A74: girl's email | C74: Cell Phone:
A75: Primary Adult | C75: Second Adult | F75: Name:
A76: Relationship: | C76: Relationship:
A77: Name: | C77: Name: | F77: Relationship:
A78: Address: | C78: Address:
A79: City, State ZIP: | C79: City, State ZIP: | F79: Home Phone:
A80: Home Phone: | C80: Home Phone:
A81: Work Phone: | C81: Work Phone: | F81: Work Phone:
A82: Cell Phone: | C82: Cell Phone:
A83: Home e-mail: | C83: Home e-mail: | F83: Cell Phone:
A84: Work e-mail: | C84: Work e-mail:
A85: ='Junior 8'!$A$1 -> Junior 8 | B85: <<Last Name>> | C85: Date of Birth: | E85: EMERGENCY CONTACT
A86: girl's email | C86: Cell Phone:
A87: Primary Adult | C87: Second Adult | F87: Name:
A88: Relationship: | C88: Relationship:
A89: Name: | C89: Name: | F89: Relationship:
A90: Address: | C90: Address:
A91: City, State ZIP: | C91: City, State ZIP: | F91: Home Phone:
A92: Home Phone: | C92: Home Phone:
A93: Work Phone: | C93: Work Phone: | F93: Work Phone:
A94: Cell Phone: | C94: Cell Phone:
A95: Home e-mail: | C95: Home e-mail: | F95: Cell Phone:
A96: Work e-mail: | C96: Work e-mail:
A97: ='Junior 9'!$A$1 -> Junior 9 | B97: <<Last Name>> | C97: Date of Birth: | E97: EMERGENCY CONTACT
A98: girl's email | C98: Cell Phone:
A99: Primary Adult | C99: Second Adult | F99: Name:
A100: Relationship: | C100: Relationship:
...

Sheet Registration
B1: Service Unit: | C1: =Instructions!F3 -> 10 | D1: =Bekah!$A$1 -> Bekah | E1: =Elizabeth!$A$1 -> Elizabeth | F1: =Meagan!$A$1 -> Meagan | G1: ='Junior 4'!$A$1 -> Junior 4 | H1: ='Junior 5'!$A$1 -> Junior 5 | I1: ='Junior 6'!$A$1 -> Junior 6 | J1: ='Junior 7'!$A$1 -> Junior 7 | K1: ='Junior 8'!$A$1 -> Junior 8 | L1: ='Junior 9'!$A$1 -> Junior 9 | M1: ='Junior 10'!$A$1 -> Junior 10 | N1: ='Junior 11'!$A$1 -> Junior 11 | O1: ='Junior 12'!$A$1 -> Junior 12 | P1: ='Junior 13'!$A$1 -> Junior 13 | Q1: ='Junior 14'!$A$1 -> Junior 14 | R1: ='Junior 15'!$A$1 -> Junior 15 | S1: Leader 1 | T1: Leader 2 | U1: Leader 3 | V1: Leader 4 | W1: Leader 5 | X1: Leader 6 | Y1: Leader 7
B2: Troop: | C2: =Instructions!F5 -> 40726
A4: Enter A for credit
A6: 1 | B6: Registration Papers
A7: 2 | B7: Girl Scout Council Dues
A8: 3 | B8: Service Unit Dues
A9: 4 | B9: Annual Fund
A10: 5 | B10: Health History | E10: a
B11: Status: (P)artial or (C)omplete | D11: =IF(AND(D6="A",D7="A",D8="A",D9="A",D10="A"),"C",IF(COUNTIF(D6:D10,"A")>0,"P"," ")) | E11: =IF(AND(E6="A",E7="A",E8="A",E9="A",E10="A"),"C",IF(COUNTIF(E6:E10,"A")>0,"P"," ")) -> P | F11: =IF(AND(F6="A",F7="A",F8="A",F9="A",F10="A"),"C",IF(COUNTIF(F6:F10,"A")>0,"P"," ")) | G11: =IF(AND(G6="A",G7="A",G8="A",G9="A",G10="A"),"C",IF(COUNTIF(G6:G10,"A")>0,"P"," ")) | H11: =IF(AND(H6="A",H7="A",H8="A",H9="A",H10="A"),"C",IF(COUNTIF(H6:H10,"A")>0,"P"," ")) | I11: =IF(AND(I6="A",I7="A",I8="A",I9="A",I10="A"),"C",IF(COUNTIF(I6:I10,"A")>0,"P"," ")) | J11: =IF(AND(J6="A",J7="A",J8="A",J9="A",J10="A"),"C",IF(COUNTIF(J6:J10,"A")>0,"P"," ")) | K11: =IF(AND(K6="A",K7="A",K8="A",K9="A",K10="A"),"C",IF(COUNTIF(K6:K10,"A")>0,"P"," ")) | ... R11: =IF(AND(R6="A",R7="A",R8="A",R9="A",R10="A"),"C",IF(COUNTIF(R6:R10,"A")>0,"P"," ")) | S11: =IF(AND(S6="A",S7="A",S10="A"),"C",IF(COUNTIF(S6:S10,"A")>0,"P"," ")) | T11: =IF(AND(T6="A",T7="A",T10="A"),"C",IF(COUNTIF(T6:T10,"A")>0,"P"," ")) | U11: =IF(AND(U6="A",U7="A",U10="A"),"C",IF(COUNTIF(U6:U10,"A")>0,"P"," ")) | V11: =IF(AND(V6="A",V7="A",V10="A"),"C",IF(COUNTIF(V6:V10,"A")>0,"P"," ")) | W11: =IF(AND(W6="A",W7="A",W10="A"),"C",IF(COUNTIF(W6:W10,"A")>0,"P"," ")) | X11: =IF(AND(X6="A",X7="A",X10="A"),"C",IF(COUNTIF(X6:X10,"A")>0,"P"," ")) | Y11: =IF(AND(Y6="A",Y7="A",Y10="A"),"C",IF(COUNTIF(Y6:Y10,"A")>0,"P"," "))
A13: 1 | B13: Registration Papers
A14: 2 | B14: Girl Scout Council Dues
A15: 3 | B15: Service Unit Dues
A16: 4 | B16: Annual Fund
A17: 5 | B17: Health History
B18: Status: (P)artial or (C)omplete | D18: =IF(AND(D13="A",D14="A",D15="A",D16="A",D17="A"),"C",IF(COUNTIF(D13:D17,"A")>0,"P"," ")) | E18: =IF(AND(E13="A",E14="A",E15="A",E16="A",E17="A"),"C",IF(COUNTIF(E13:E17,"A")>0,"P"," ")) | F18: =IF(AND(F13="A",F14="A",F15="A",F16="A",F17="A"),"C",IF(COUNTIF(F13:F17,"A")>0,"P"," ")) | G18: =IF(AND(G13="A",G14="A",G15="A",G16="A",G17="A"),"C",IF(COUNTIF(G13:G17,"A")>0,"P"," ")) | H18: =IF(AND(H13="A",H14="A",H15="A",H16="A",H17="A"),"C",IF(COUNTIF(H13:H17,"A")>0,"P"," ")) | I18: =IF(AND(I13="A",I14="A",I15="A",I16="A",I17="A"),"C",IF(COUNTIF(I13:I17,"A")>0,"P"," ")) | J18: =IF(AND(J13="A",J14="A",J15="A",J16="A",J17="A"),"C",IF(COUNTIF(J13:J17,"A")>0,"P"," ")) | K18: =IF(AND(K13="A",K14="A",K15="A",K16="A",K17="A"),"C",IF(COUNTIF(K13:K17,"A")>0,"P"," ")) | ... R18: =IF(AND(R13="A",R14="A",R15="A",R16="A",R17="A"),"C",IF(COUNTIF(R13:R17,"A")>0,"P"," ")) | S18: =IF(AND(S13="A",S14="A",S17="A"),"C",IF(COUNTIF(S13:S17,"A")>0,"P"," ")) | T18: =IF(AND(T13="A",T14="A",T17="A"),"C",IF(COUNTIF(T13:T17,"A")>0,"P"," ")) | U18: =IF(AND(U13="A",U14="A",U17="A"),"C",IF(COUNTIF(U13:U17,"A")>0,"P"," ")) | V18: =IF(AND(V13="A",V14="A",V17="A"),"C",IF(COUNTIF(V13:V17,"A")>0,"P"," ")) | W18: =IF(AND(W13="A",W14="A",W17="A"),"C",IF(COUNTIF(W13:W17,"A")>0,"P"," ")) | X18: =IF(AND(X13="A",X14="A",X17="A"),"C",IF(COUNTIF(X13:X17,"A")>0,"P"," ")) | Y18: =IF(AND(Y13="A",Y14="A",Y17="A"),"C",IF(COUNTIF(Y13:Y17,"A")>0,"P"," "))

Sheet Dues
A1: Enter amount received | B1: =Bekah!$A$1 -> Bekah | C1: =Elizabeth!$A$1 -> Elizabeth | D1: =Meagan!$A$1 -> Meagan | E1: ='Junior 4'!$A$1 -> Junior 4 | F1: ='Junior 5'!$A$1 -> Junior 5 | G1: ='Junior 6'!$A$1 -> Junior 6 | H1: ='Junior 7'!$A$1 -> Junior 7 | I1: ='Junior 8'!$A$1 -> Junior 8 | J1: ='Junior 9'!$A$1 -> Junior 9 | K1: ='Junior 10'!$A$1 -> Junior 10 | L1: ='Junior 11'!$A$1 -> Junior 11 | M1: ='Junior 12'!$A$1 -> Junior 12 | N1: ='Junior 13'!$A$1 -> Junior 13 | O1: ='Junior 14'!$A$1 -> Junior 14 | P1: ='Junior 15'!$A$1 -> Junior 15 | Q1: meeting totals
A4: Date
Q5: =SUM(B5:P5) -> 0
Q6: =SUM(B6:P6) -> 0
Q7: =SUM(B7:P7) -> 0
Q8: =SUM(B8:P8) -> 0
Q9: =SUM(B9:P9) -> 0
Q10: =SUM(B10:P10) -> 0
Q11: =SUM(B11:P11) -> 0
Q12: =SUM(B12:P12) -> 0
Q13: =SUM(B13:P13) -> 0
Q14: =SUM(B14:P14) -> 0
Q15: =SUM(B15:P15) -> 0
Q16: =SUM(B16:P16) -> 0
... Q24: =SUM(B24:P24) -> 0
A25: yearly total (per girl) | B25: =SUM(B5:B24) -> 0 | C25: =SUM(C5:C24) -> 0 | D25: =SUM(D5:D24) -> 0 | E25: =SUM(E5:E24) -> 0 | F25: =SUM(F5:F24) -> 0 | G25: =SUM(G5:G24) -> 0 | H25: =SUM(H5:H24) -> 0 | I25: =SUM(I5:I24) -> 0 | ... Q25: =SUM(Q5:Q24) -> 0
Q27: =SUM(B27:P27) -> 0
Q28: =SUM(B28:P28) -> 0
Q29: =SUM(B29:P29) -> 0
Q30: =SUM(B30:P30) -> 0
Q31: =SUM(B31:P31) -> 0
Q32: =SUM(B32:P32) -> 0
Q33: =SUM(B33:P33) -> 0
Q34: =SUM(B34:P34) -> 0
Q35: =SUM(B35:P35) -> 0
Q36: =SUM(B36:P36) -> 0
Q37: =SUM(B37:P37) -> 0
Q38: =SUM(B38:P38) -> 0
... Q46: =SUM(B46:P46) -> 0
A47: yearly total (per girl) | B47: =SUM(B27:B46) -> 0 | C47: =SUM(C27:C46) -> 0 | D47: =SUM(D27:D46) -> 0 | E47: =SUM(E27:E46) -> 0 | F47: =SUM(F27:F46) -> 0 | G47: =SUM(G27:G46) -> 0 | H47: =SUM(H27:H46) -> 0 | I47: =SUM(I27:I46) -> 0 | ... Q47: =SUM(Q27:Q46) -> 0

Sheet Attendance
A1: Attendance | C1: =Bekah!$A$1 -> Bekah | D1: =Elizabeth!$A$1 -> Elizabeth | E1: =Meagan!$A$1 -> Meagan | F1: ='Junior 4'!$A$1 -> Junior 4 | G1: ='Junior 5'!$A$1 -> Junior 5 | H1: ='Junior 6'!$A$1 -> Junior 6 | I1: ='Junior 7'!$A$1 -> Junior 7 | J1: ='Junior 8'!$A$1 -> Junior 8 | K1: ='Junior 9'!$A$1 -> Junior 9 | L1: ='Junior 10'!$A$1 -> Junior 10 | M1: ='Junior 11'!$A$1 -> Junior 11 | N1: ='Junior 12'!$A$1 -> Junior 12 | O1: ='Junior 13'!$A$1 -> Junior 13 | P1: ='Junior 14'!$A$1 -> Junior 14 | Q1: ='Junior 15'!$A$1 -> Junior 15
A2: Enter A to indicated Attendance at the Event.
A4: Date | B4: Event Attended (Meeting, Field Trip, Day Camp, etc)
A5: 41169 | B5: meeting | C5: a | D5: a
A6: 41183 | B6: meeting | C6: a | D6: a
A7: 41197 | B7: meeting | C7: a | D7: a
A8: 41218 | B8: meeting | C8: a | D8: a | E8: a
A9: 41232 | B9: meeting (victoria csi badge) | D9: a
A10: 41248 | B10: meeting (cookie prep)
A11: 41262 | B11: Christmas caroling and party | C11: a
A12: 41281 | B12: metting (stephanie movie badge) | C12: a | D12: a | E12: a

Sheet Badges
B1: Service Unit | C1: =Instructions!F3 -> 10 | D1: =Bekah!$A$1 -> Bekah | E1: =Elizabeth!$A$1 -> Elizabeth | F1: =Meagan!$A$1 -> Meagan | G1: ='Junior 4'!$A$1 -> Junior 4 | H1: ='Junior 5'!$A$1 -> Junior 5 | I1: ='Junior 6'!$A$1 -> Junior 6 | J1: ='Junior 7'!$A$1 -> Junior 7 | K1: ='Junior 8'!$A$1 -> Junior 8 | L1: ='Junior 9'!$A$1 -> Junior 9 | M1: ='Junior 10'!$A$1 -> Junior 10 | N1: ='Junior 11'!$A$1 -> Junior 11 | O1: ='Junior 12'!$A$1 -> Junior 12 | P1: ='Junior 13'!$A$1 -> Junior 13 | Q1: ='Junior 14'!$A$1 -> Junior 14 | R1: ='Junior 15'!$A$1 -> Junior 15
B2: Troop | C2: =Instructions!F5 -> 40726
A3: Enter A for credit
A5: It's Your World -- Change It!
B6: Digital Photographer | D6: Every step has three choices. Do ONE choice to complete each step.
B7: 1 | C7: Learn about digital cameras from an
C8: Interview a local photographer or | D8: a | E8: a | F8: a
C9: Visit a camera store
C10: Teach yourself the basics
B11: 2 | C11: Take tons of photographs | D11: =IF(COUNTIF(D8:D10,"A")>=1,"C",IF(COUNTIF(D8:D10,"A")>0,"P"," ")) -> C | E11: =IF(COUNTIF(E8:E10,"A")>=1,"C",IF(COUNTIF(E8:E10,"A")>0,"P"," ")) -> C | F11: =IF(COUNTIF(F8:F10,"A")>=1,"C",IF(COUNTIF(F8:F10,"A")>0,"P"," ")) -> C | G11: =IF(COUNTIF(G8:G10,"A")>=1,"C",IF(COUNTIF(G8:G10,"A")>0,"P"," ")) | H11: =IF(COUNTIF(H8:H10,"A")>=1,"C",IF(COUNTIF(H8:H10,"A")>0,"P"," ")) | I11: =IF(COUNTIF(I8:I10,"A")>=1,"C",IF(COUNTIF(I8:I10,"A")>0,"P"," ")) | J11: =IF(COUNTIF(J8:J10,"A")>=1,"C",IF(COUNTIF(J8:J10,"A")>0,"P"," ")) | K11: =IF(COUNTIF(K8:K10,"A")>=1,"C",IF(COUNTIF(K8:K10,"A")>0,"P"," ")) | ... R11: =IF(COUNTIF(R8:R10,"A")>=1,"C",IF(COUNTIF(R8:R10,"A")>0,"P"," "))
C12: Photograph a friend or group of | D12: a | E12: a | F12: a
C13: Photograph a pet
C14: Photograph a landscape
B15: 3 | C15: Edit three photos | D15: =IF(COUNTIF(D12:D14,"A")>=1,"C",IF(COUNTIF(D12:D14,"A")>0,"P"," ")) -> C | E15: =IF(COUNTIF(E12:E14,"A")>=1,"C",IF(COUNTIF(E12:E14,"A")>0,"P"," ")) -> C | F15: =IF(COUNTIF(F12:F14,"A")>=1,"C",IF(COUNTIF(F12:F14,"A")>0,"P"," ")) -> C | G15: =IF(COUNTIF(G12:G14,"A")>=1,"C",IF(COUNTIF(G12:G14,"A")>0,"P"," ")) | H15: =IF(COUNTIF(H12:H14,"A")>=1,"C",IF(COUNTIF(H12:H14,"A")>0,"P"," ")) | I15: =IF(COUNTIF(I12:I14,"A")>=1,"C",IF(COUNTIF(I12:I14,"A")>0,"P"," ")) | J15: =IF(COUNTIF(J12:J14,"A")>=1,"C",IF(COUNTIF(J12:J14,"A")>0,"P"," ")) | K15: =IF(COUNTIF(K12:K14,"A")>=1,"C",IF(COUNTIF(K12:K14,"A")>0,"P"," ")) | ... R15: =IF(COUNTIF(R12:R14,"A")>=1,"C",IF(COUNTIF(R12:R14,"A")>0,"P"," "))
C16: Fix something
C17: Change something | E17: a | F17: a
C18: Add something
B19: 4 | C19: Make a digital photo project | D19: =IF(COUNTIF(D16:D18,"A")>=1,"C",IF(COUNTIF(D16:D18,"A")>0,"P"," ")) | E19: =IF(COUNTIF(E16:E18,"A")>=1,"C",IF(COUNTIF(E16:E18,"A")>0,"P"," ")) -> C | F19: =IF(COUNTIF(F16:F18,"A")>=1,"C",IF(COUNTIF(F16:F18,"A")>0,"P"," ")) -> C | G19: =IF(COUNTIF(G16:G18,"A")>=1,"C",IF(COUNTIF(G16:G18,"A")>0,"P"," ")) | H19: =IF(COUNTIF(H16:H18,"A")>=1,"C",IF(COUNTIF(H16:H18,"A")>0,"P"," ")) | I19: =IF(COUNTIF(I16:I18,"A")>=1,"C",IF(COUNTIF(I16:I18,"A")>0,"P"," ")) | J19: =IF(COUNTIF(J16:J18,"A")>=1,"C",IF(COUNTIF(J16:J18,"A")>0,"P"," ")) | K19: =IF(COUNTIF(K16:K18,"A")>=1,"C",IF(COUNTIF(K16:K18,"A")>0,"P"," ")) | ... R19: =IF(COUNTIF(R16:R18,"A")>=1,"C",IF(COUNTIF(R16:R18,"A")>0,"P"," "))
C20: Create a collage
C21: Create a panoramic photo to
C22: Make a gift for someone special | E22: a | F22: a
B23: 5 | C23: Share your photos | D23: =IF(COUNTIF(D20:D22,"A")>=1,"C",IF(COUNTIF(D20:D22,"A")>0,"P"," ")) | E23: =IF(COUNTIF(E20:E22,"A")>=1,"C",IF(COUNTIF(E20:E22,"A")>0,"P"," ")) -> C | F23: =IF(COUNTIF(F20:F22,"A")>=1,"C",IF(COUNTIF(F20:F22,"A")>0,"P"," ")) -> C | G23: =IF(COUNTIF(G20:G22,"A")>=1,"C",IF(COUNTIF(G20:G22,"A")>0,"P"," ")) | H23: =IF(COUNTIF(H20:H22,"A")>=1,"C",IF(COUNTIF(H20:H22,"A")>0,"P"," ")) | I23: =IF(COUNTIF(I20:I22,"A")>=1,"C",IF(COUNTIF(I20:I22,"A")>0,"P"," ")) | J23: =IF(COUNTIF(J20:J22,"A")>=1,"C",IF(COUNTIF(J20:J22,"A")>0,"P"," ")) | K23: =IF(COUNTIF(K20:K22,"A")>=1,"C",IF(COUNTIF(K20:K22,"A")>0,"P"," ")) | ... R23: =IF(COUNTIF(R20:R22,"A")>=1,"C",IF(COUNTIF(R20:R22,"A")>0,"P"," "))
C24: Make a digital album
C25: Stage an art show
C26: Start an online photo journal | D26: a | E26: a
D27: =IF(COUNTIF(D24:D26,"A")>=1,"C",IF(COUNTIF(D24:D26,"A")>0,"P"," ")) -> C | E27: =IF(COUNTIF(E24:E26,"A")>=1,"C",IF(COUNTIF(E24:E26,"A")>0,"P"," ")) -> C | F27: =IF(COUNTIF(F24:F26,"A")>=1,"C",IF(COUNTIF(F24:F26,"A")>0,"P"," ")) | G27: =IF(COUNTIF(G24:G26,"A")>=1,"C",IF(COUNTIF(G24:G26,"A")>0,"P"," ")) | H27: =IF(COUNTIF(H24:H26,"A")>=1,"C",IF(COUNTIF(H24:H26,"A")>0,"P"," ")) | I27: =IF(COUNTIF(I24:I26,"A")>=1,"C",IF(COUNTIF(I24:I26,"A")>0,"P"," ")) | J27: =IF(COUNTIF(J24:J26,"A")>=1,"C",IF(COUNTIF(J24:J26,"A")>0,"P"," ")) | K27: =IF(COUNTIF(K24:K26,"A")>=1,"C",IF(COUNTIF(K24:K26,"A")>0,"P"," ")) | ... R27: =IF(COUNTIF(R24:R26,"A")>=1,"C",IF(COUNTIF(R24:R26,"A")>0,"P"," "))
C28: Status: (P)artial or (C)omplete | D28: =IF(COUNTIF(D11:D27,"C")>4,"C",IF(COUNTIF(D11:D27,"C")>0,"P"," ")) -> P | E28: =IF(COUNTIF(E11:E27,"C")>4,"C",IF(COUNTIF(E11:E27,"C")>0,"P"," ")) -> C | F28: =IF(COUNTIF(F11:F27,"C")>4,"C",IF(COUNTIF(F11:F27,"C")>0,"P"," ")) -> P | G28: =IF(COUNTIF(G11:G27,"C")>4,"C",IF(COUNTIF(G11:G27,"C")>0,"P"," ")) | H28: =IF(COUNTIF(H11:H27,"C")>4,"C",IF(COUNTIF(H11:H27,"C")>0,"P"," ")) | I28: =IF(COUNTIF(I11:I27,"C")>4,"C",IF(COUNTIF(I11:I27,"C")>0,"P"," ")) | J28: =IF(COUNTIF(J11:J27,"C")>4,"C",IF(COUNTIF(J11:J27,"C")>0,"P"," ")) | K28: =IF(COUNTIF(K11:K27,"C")>4,"C",IF(COUNTIF(K11:K27,"C")>0,"P"," ")) | ... R28: =IF(COUNTIF(R11:R27,"C")>4,"C",IF(COUNTIF(R11:R27,"C")>0,"P"," "))
B29: Staying Fit
B30: 1 | C30: Start moving
C31: Try 30 minutes of aerobic activity
C32: Find a way to make your day more
C33: Forget being a couch potato
B34: 2 | C34: Keep your fit body fueled | D34: =IF(COUNTIF(D31:D33,"A")>=1,"C",IF(COUNTIF(D31:D33,"A")>0,"P"," ")) | E34: =IF(COUNTIF(E31:E33,"A")>=1,"C",IF(COUNTIF(E31:E33,"A")>0,"P"," ")) | F34: =IF(COUNTIF(F31:F33,"A")>=1,"C",IF(COUNTIF(F31:F33,"A")>0,"P"," ")) | G34: =IF(COUNTIF(G31:G33,"A")>=1,"C",IF(COUNTIF(G31:G33,"A")>0,"P"," ")) | H34: =IF(COUNTIF(H31:H33,"A")>=1,"C",IF(COUNTIF(H31:H33,"A")>0,"P"," ")) | I34: =IF(COUNTIF(I31:I33,"A")>=1,"C",IF(COUNTIF(I31:I33,"A")>0,"P"," ")) | J34: =IF(COUNTIF(J31:J33,"A")>=1,"C",IF(COUNTIF(J31:J33,"A")>0,"P"," ")) | K34: =IF(COUNTIF(K31:K33,"A")>=1,"C",IF(COUNTIF(K31:K33,"A")>0,"P"," ")) | ... R34: =IF(COUNTIF(R31:R33,"A")>=1,"C",IF(COUNTIF(R31:R33,"A")>0,"P"," "))
C35: Be a food-label detective
C36: Play a brainstorm game
C37: Nutrient scavenger hunt
B38: 3 | C38: Know how to stress less | D38: =IF(COUNTIF(D35:D37,"A")>=1,"C",IF(COUNTIF(D35:D37,"A")>0,"P"," ")) | E38: =IF(COUNTIF(E35:E37,"A")>=1,"C",IF(COUNTIF(E35:E37,"A")>0,"P"," ")) | F38: =IF(COUNTIF(F35:F37,"A")>=1,"C",IF(COUNTIF(F35:F37,"A")>0,"P"," ")) | G38: =IF(COUNTIF(G35:G37,"A")>=1,"C",IF(COUNTIF(G35:G37,"A")>0,"P"," ")) | H38: =IF(COUNTIF(H35:H37,"A")>=1,"C",IF(COUNTIF(H35:H37,"A")>0,"P"," ")) | I38: =IF(COUNTIF(I35:I37,"A")>=1,"C",IF(COUNTIF(I35:I37,"A")>0,"P"," ")) | J38: =IF(COUNTIF(J35:J37,"A")>=1,"C",IF(COUNTIF(J35:J37,"A")>0,"P"," ")) | K38: =IF(COUNTIF(K35:K37,"A")>=1,"C",IF(COUNTIF(K35:K37,"A")>0,"P"," ")) | ... R38: =IF(COUNTIF(R35:R37,"A")>=1,"C",IF(COUNTIF(R35:R37,"A")>0,"P"," "))
C39: Dear self
C40: Helping others help us
C41: Create a stress-free zone
B42: 4 | C42: Get the truth about health | D42: =IF(COUNTIF(D39:D41,"A")>=1,"C",IF(COUNTIF(D39:D41,"A")>0,"P"," ")) | E42: =IF(COUNTIF(E39:E41,"A")>=1,"C",IF(COUNTIF(E39:E41,"A")>0,"P"," ")) | F42: =IF(COUNTIF(F39:F41,"A")>=1,"C",IF(COUNTIF(F39:F41,"A")>0,"P"," ")) | G42: =IF(COUNTIF(G39:G41,"A")>=1,"C",IF(COUNTIF(G39:G41,"A")>0,"P"," ")) | H42: =IF(COUNTIF(H39:H41,"A")>=1,"C",IF(COUNTIF(H39:H41,"A")>0,"P"," ")) | I42: =IF(COUNTIF(I39:I41,"A")>=1,"C",IF(COUNTIF(I39:I41,"A")>0,"P"," ")) | J42: =IF(COUNTIF(J39:J41,"A")>=1,"C",IF(COUNTIF(J39:J41,"A")>0,"P"," ")) | K42: =IF(COUNTIF(K39:K41,"A")>=1,"C",IF(COUNTIF(K39:K41,"A")>0,"P"," ")) | ... R42: =IF(COUNTIF(R39:R41,"A")>=1,"C",IF(COUNTIF(R39:R41,"A")>0,"P"," "))
C43: Review health websites
C44: Talk to a health professional
C45: Find truth in advertising
B46: 5 | C46: Help your family stay fit | D46: =IF(COUNTIF(D43:D45,"A")>=1,"C",IF(COUNTIF(D43:D45,"A")>0,"P"," ")) | E46: =IF(COUNTIF(E43:E45,"A")>=1,"C",IF(COUNTIF(E43:E45,"A")>0,"P"," ")) | F46: =IF(COUNTIF(F43:F45,"A")>=1,"C",IF(COUNTIF(F43:F45,"A")>0,"P"," ")) | G46: =IF(COUNTIF(G43:G45,"A")>=1,"C",IF(COUNTIF(G43:G45,"A")>0,"P"," ")) | H46: =IF(COUNTIF(H43:H45,"A")>=1,"C",IF(COUNTIF(H43:H45,"A")>0,"P"," ")) | I46: =IF(COUNTIF(I43:I45,"A")>=1,"C",IF(COUNTIF(I43:I45,"A")>0,"P"," ")) | J46: =IF(COUNTIF(J43:J45,"A")>=1,"C",IF(COUNTIF(J43:J45,"A")>0,"P"," ")) | K46: =IF(COUNTIF(K43:K45,"A")>=1,"C",IF(COUNTIF(K43:K45,"A")>0,"P"," ")) | ... R46: =IF(COUNTIF(R43:R45,"A")>=1,"C",IF(COUNTIF(R43:R45,"A")>0,"P"," "))
C47: Have a "slow food" dinner
C48: Come up with an active family
C49: Have a family check-in night
D50: =IF(COUNTIF(D47:D49,"A")>=1,"C",IF(COUNTIF(D47:D49,"A")>0,"P"," ")) | E50: =IF(COUNTIF(E47:E49,"A")>=1,"C",IF(COUNTIF(E47:E49,"A")>0,"P"," ")) | F50: =IF(COUNTIF(F47:F49,"A")>=1,"C",IF(COUNTIF(F47:F49,"A")>0,"P"," ")) | G50: =IF(COUNTIF(G47:G49,"A")>=1,"C",IF(COUNTIF(G47:G49,"A")>0,"P"," ")) | H50: =IF(COUNTIF(H47:H49,"A")>=1,"C",IF(COUNTIF(H47:H49,"A")>0,"P"," ")) | I50: =IF(COUNTIF(I47:I49,"A")>=1,"C",IF(COUNTIF(I47:I49,"A")>0,"P"," ")) | J50: =IF(COUNTIF(J47:J49,"A")>=1,"C",IF(COUNTIF(J47:J49,"A")>0,"P"," ")) | K50: =IF(COUNTIF(K47:K49,"A")>=1,"C",IF(COUNTIF(K47:K49,"A")>0,"P"," ")) | ... R50: =IF(COUNTIF(R47:R49,"A")>=1,"C",IF(COUNTIF(R47:R49,"A")>0,"P"," "))
C51: Status: (P)artial or (C)omplete | D51: =IF(COUNTIF(D34:D50,"C")>4,"C",IF(COUNTIF(D34:D50,"C")>0,"P"," ")) | E51: =IF(COUNTIF(E34:E50,"C")>4,"C",IF(COUNTIF(E34:E50,"C")>0,"P"," ")) | F51: =IF(COUNTIF(F34:F50,"C")>4,"C",IF(COUNTIF(F34:F50,"C")>0,"P"," ")) | G51: =IF(COUNTIF(G34:G50,"C")>4,"C",IF(COUNTIF(G34:G50,"C")>0,"P"," ")) | H51: =IF(COUNTIF(H34:H50,"C")>4,"C",IF(COUNTIF(H34:H50,"C")>0,"P"," ")) | I51: =IF(COUNTIF(I34:I50,"C")>4,"C",IF(COUNTIF(I34:I50,"C")>0,"P"," ")) | J51: =IF(COUNTIF(J34:J50,"C")>4,"C",IF(COUNTIF(J34:J50,"C")>0,"P"," ")) | K51: =IF(COUNTIF(K34:K50,"C")>4,"C",IF(COUNTIF(K34:K50,"C")>0,"P"," ")) | ... R51: =IF(COUNTIF(R34:R50,"C")>4,"C",IF(COUNTIF(R34:R50,"C")>0,"P"," "))
B52: Musician
B53: 1 | C53: Explore how music is made
C54: Find out about three different
C55: Be a conductor
C56: Get in the musical mood
B57: 2 | C57: Travel around the world of music | D57: =IF(COUNTIF(D54:D56,"A")>=1,"C",IF(COUNTIF(D54:D56,"A")>0,"P"," ")) | E57: =IF(COUNTIF(E54:E56,"A")>=1,"C",IF(COUNTIF(E54:E56,"A")>0,"P"," ")) | F57: =IF(COUNTIF(F54:F56,"A")>=1,"C",IF(COUNTIF(F54:F56,"A")>0,"P"," ")) | G57: =IF(COUNTIF(G54:G56,"A")>=1,"C",IF(COUNTIF(G54:G56,"A")>0,"P"," ")) | H57: =IF(COUNTIF(H54:H56,"A")>=1,"C",IF(COUNTIF(H54:H56,"A")>0,"P"," ")) | I57: =IF(COUNTIF(I54:I56,"A")>=1,"C",IF(COUNTIF(I54:I56,"A")>0,"P"," ")) | J57: =IF(COUNTIF(J54:J56,"A")>=1,"C",IF(COUNTIF(J54:J56,"A")>0,"P"," ")) | K57: =IF(COUNTIF(K54:K56,"A")>=1,"C",IF(COUNTIF(K54:K56,"A")>0,"P"," ")) | ... R57: =IF(COUNTIF(R54:R56,"A")>=1,"C",IF(COUNTIF(R54:R56,"A")>0,"P"," "))
C58: Listen to one pop song from three
C59: Find out more about three
C60: Oh say, can you see
B61: 3 | C61: Check out the music in your life | D61: =IF(COUNTIF(D58:D60,"A")>=1,"C",IF(COUNTIF(D58:D60,"A")>0,"P"," ")) | E61: =IF(COUNTIF(E58:E60,"A")>=1,"C",IF(COUNTIF(E58:E60,"A")>0,"P"," ")) | F61: =IF(COUNTIF(F58:F60,"A")>=1,"C",IF(COUNTIF(F58:F60,"A")>0,"P"," ")) | G61: =IF(COUNTIF(G58:G60,"A")>=1,"C",IF(COUNTIF(G58:G60,"A")>0,"P"," ")) | H61: =IF(COUNTIF(H58:H60,"A")>=1,"C",IF(COUNTIF(H58:H60,"A")>0,"P"," ")) | I61: =IF(COUNTIF(I58:I60,"A")>=1,"C",IF(COUNTIF(I58:I60,"A")>0,"P"," ")) | J61: =IF(COUNTIF(J58:J60,"A")>=1,"C",IF(COUNTIF(J58:J60,"A")>0,"P"," ")) | K61: =IF(COUNTIF(K58:K60,"A")>=1,"C",IF(COUNTIF(K58:K60,"A")>0,"P"," ")) | ... R61: =IF(COUNTIF(R58:R60,"A")>=1,"C",IF(COUNTIF(R58:R60,"A")>0,"P"," "))
C62: Take a music poll
C63: Go to a live musical performance
C64: Interview someone with a job in
B65: 4 | C65: Make your own music | D65: =IF(COUNTIF(D62:D64,"A")>=1,"C",IF(COUNTIF(D62:D64,"A")>0,"P"," ")) | E65: =IF(COUNTIF(E62:E64,"A")>=1,"C",IF(COUNTIF(E62:E64,"A")>0,"P"," ")) | F65: =IF(COUNTIF(F62:F64,"A")>=1,"C",IF(COUNTIF(F62:F64,"A")>0,"P"," ")) | G65: =IF(COUNTIF(G62:G64,"A")>=1,"C",IF(COUNTIF(G62:G64,"A")>0,"P"," ")) | H65: =IF(COUNTIF(H62:H64,"A")>=1,"C",IF(COUNTIF(H62:H64,"A")>0,"P"," ")) | I65: =IF(COUNTIF(I62:I64,"A")>=1,"C",IF(COUNTIF(I62:I64,"A")>0,"P"," ")) | J65: =IF(COUNTIF(J62:J64,"A")>=1,"C",IF(COUNTIF(J62:J64,"A")>0,"P"," ")) | K65: =IF(COUNTIF(K62:K64,"A")>=1,"C",IF(COUNTIF(K62:K64,"A")>0,"P"," ")) | ... R65: =IF(COUNTIF(R62:R64,"A")>=1,"C",IF(COUNTIF(R62:R64,"A")>0,"P"," "))
C66: Make a simple instrument
C67: Compose your own song
C68: Make up lyrics to a song
B69: 5 | C69: Perform your music | D69: =IF(COUNTIF(D66:D68,"A")>=1,"C",IF(COUNTIF(D66:D68,"A")>0,"P"," ")) | E69: =IF(COUNTIF(E66:E68,"A")>=1,"C",IF(COUNTIF(E66:E68,"A")>0,"P"," ")) | F69: =IF(COUNTIF(F66:F68,"A")>=1,"C",IF(COUNTIF(F66:F68,"A")>0,"P"," ")) | G69: =IF(COUNTIF(G66:G68,"A")>=1,"C",IF(COUNTIF(G66:G68,"A")>0,"P"," ")) | H69: =IF(COUNTIF(H66:H68,"A")>=1,"C",IF(COUNTIF(H66:H68,"A")>0,"P"," ")) | I69: =IF(COUNTIF(I66:I68,"A")>=1,"C",IF(COUNTIF(I66:I68,"A")>0,"P"," ")) | J69: =IF(COUNTIF(J66:J68,"A")>=1,"C",IF(COUNTIF(J66:J68,"A")>0,"P"," ")) | K69: =IF(COUNTIF(K66:K68,"A")>=1,"C",IF(COUNTIF(K66:K68,"A")>0,"P"," ")) | ... R69: =IF(COUNTIF(R66:R68,"A")>=1,"C",IF(COUNTIF(R66:R68,"A")>0,"P"," "))
C70: Create a performance
C71: Perform in a musical event
C72: Add to your skills
D73: =IF(COUNTIF(D70:D72,"A")>=1,"C",IF(COUNTIF(D70:D72,"A")>0,"P"," ")) | E73: =IF(COUNTIF(E70:E72,"A")>=1,"C",IF(COUNTIF(E70:E72,"A")>0,"P"," ")) | F73: =IF(COUNTIF(F70:F72,"A")>=1,"C",IF(COUNTIF(F70:F72,"A")>0,"P"," ")) | G73: =IF(COUNTIF(G70:G72,"A")>=1,"C",IF(COUNTIF(G70:G72,"A")>0,"P"," ")) | H73: =IF(COUNTIF(H70:H72,"A")>=1,"C",IF(COUNTIF(H70:H72,"A")>0,"P"," ")) | I73: =IF(COUNTIF(I70:I72,"A")>=1,"C",IF(COUNTIF(I70:I72,"A")>0,"P"," ")) | J73: =IF(COUNTIF(J70:J72,"A")>=1,"C",IF(COUNTIF(J70:J72,"A")>0,"P"," ")) | K73: =IF(COUNTIF(K70:K72,"A")>=1,"C",IF(COUNTIF(K70:K72,"A")>0,"P"," ")) | ... R73: =IF(COUNTIF(R70:R72,"A")>=1,"C",IF(COUNTIF(R70:R72,"A")>0,"P"," "))
C74: Status: (P)artial or (C)omplete | D74: =IF(COUNTIF(D57:D73,"C")>4,"C",IF(COUNTIF(D57:D73,"C")>0,"P"," ")) | E74: =IF(COUNTIF(E57:E73,"C")>4,"C",IF(COUNTIF(E57:E73,"C")>0,"P"," ")) | F74: =IF(COUNTIF(F57:F73,"C")>4,"C",IF(COUNTIF(F57:F73,"C")>0,"P"," ")) | G74: =IF(COUNTIF(G57:G73,"C")>4,"C",IF(COUNTIF(G57:G73,"C")>0,"P"," ")) | H74: =IF(COUNTIF(H57:H73,"C")>4,"C",IF(COUNTIF(H57:H73,"C")>0,"P"," ")) | I74: =IF(COUNTIF(I57:I73,"C")>4,"C",IF(COUNTIF(I57:I73,"C")>0,"P"," ")) | J74: =IF(COUNTIF(J57:J73,"C")>4,"C",IF(COUNTIF(J57:J73,"C")>0,"P"," ")) | K74: =IF(COUNTIF(K57:K73,"C")>4,"C",IF(COUNTIF(K57:K73,"C")>0,"P"," ")) | ... R74: =IF(COUNTIF(R57:R73,"C")>4,"C",IF(COUNTIF(R57:R73,"C")>0,"P"," "))
B75: Entertainment Technology
B76: 1 | C76: Animate your own artwork
C77: Make a flip book
C78: Play around with stop-action
C79: Make your own thaumatrope
B80: 2 | C80: Dig into video game development | D80: =IF(COUNTIF(D77:D79,"A")>=1,"C",IF(COUNTIF(D77:D79,"A")>0,"P"," ")) | E80: =IF(COUNTIF(E77:E79,"A")>=1,"C",IF(COUNTIF(E77:E79,"A")>0,"P"," ")) | F80: =IF(COUNTIF(F77:F79,"A")>=1,"C",IF(COUNTIF(F77:F79,"A")>0,"P"," ")) | G80: =IF(COUNTIF(G77:G79,"A")>=1,"C",IF(COUNTIF(G77:G79,"A")>0,"P"," ")) | H80: =IF(COUNTIF(H77:H79,"A")>=1,"C",IF(COUNTIF(H77:H79,"A")>0,"P"," ")) | I80: =IF(COUNTIF(I77:I79,"A")>=1,"C",IF(COUNTIF(I77:I79,"A")>0,"P"," ")) | J80: =IF(COUNTIF(J77:J79,"A")>=1,"C",IF(COUNTIF(J77:J79,"A")>0,"P"," ")) | K80: =IF(COUNTIF(K77:K79,"A")>=1,"C",IF(COUNTIF(K77:K79,"A")>0,"P"," ")) | ... R80: =IF(COUNTIF(R77:R79,"A")>=1,"C",IF(COUNTIF(R77:R79,"A")>0,"P"," "))
C81: Use a free downloadable program
C82: Go onto an interactive site
C83: Talk to a developer
B84: 3 | C84: Try the science of amusement park | D84: =IF(COUNTIF(D81:D83,"A")>=1,"C",IF(COUNTIF(D81:D83,"A")>0,"P"," ")) | E84: =IF(COUNTIF(E81:E83,"A")>=1,"C",IF(COUNTIF(E81:E83,"A")>0,"P"," ")) | F84: =IF(COUNTIF(F81:F83,"A")>=1,"C",IF(COUNTIF(F81:F83,"A")>0,"P"," ")) | G84: =IF(COUNTIF(G81:G83,"A")>=1,"C",IF(COUNTIF(G81:G83,"A")>0,"P"," ")) | H84: =IF(COUNTIF(H81:H83,"A")>=1,"C",IF(COUNTIF(H81:H83,"A")>0,"P"," ")) | I84: =IF(COUNTIF(I81:I83,"A")>=1,"C",IF(COUNTIF(I81:I83,"A")>0,"P"," ")) | J84: =IF(COUNTIF(J81:J83,"A")>=1,"C",IF(COUNTIF(J81:J83,"A")>0,"P"," ")) | K84: =IF(COUNTIF(K81:K83,"A")>=1,"C",IF(COUNTIF(K81:K83,"A")>0,"P"," ")) | ... R84: =IF(COUNTIF(R81:R83,"A")>=1,"C",IF(COUNTIF(R81:R83,"A")>0,"P"," "))
C85: Create a roller coaster with marbles | D85: a
C86: Catapult some stuff
C87: Figure out centrifugal force
B88: 4 | C88: Create your own special effects | D88: =IF(COUNTIF(D85:D87,"A")>=1,"C",IF(COUNTIF(D85:D87,"A")>0,"P"," ")) -> C | E88: =IF(COUNTIF(E85:E87,"A")>=1,"C",IF(COUNTIF(E85:E87,"A")>0,"P"," ")) | F88: =IF(COUNTIF(F85:F87,"A")>=1,"C",IF(COUNTIF(F85:F87,"A")>0,"P"," ")) | G88: =IF(COUNTIF(G85:G87,"A")>=1,"C",IF(COUNTIF(G85:G87,"A")>0,"P"," ")) | H88: =IF(COUNTIF(H85:H87,"A")>=1,"C",IF(COUNTIF(H85:H87,"A")>0,"P"," ")) | I88: =IF(COUNTIF(I85:I87,"A")>=1,"C",IF(COUNTIF(I85:I87,"A")>0,"P"," ")) | J88: =IF(COUNTIF(J85:J87,"A")>=1,"C",IF(COUNTIF(J85:J87,"A")>0,"P"," ")) | K88: =IF(COUNTIF(K85:K87,"A")>=1,"C",IF(COUNTIF(K85:K87,"A")>0,"P"," ")) | ... R88: =IF(COUNTIF(R85:R87,"A")>=1,"C",IF(COUNTIF(R85:R87,"A")>0,"P"," "))
C89: Try the blue screen | D89: a
C90: Play makeup artist
C91: Make your own 3-D glasses
B92: 5 | C92: Surf a sound wave | D92: =IF(COUNTIF(D89:D91,"A")>=1,"C",IF(COUNTIF(D89:D91,"A")>0,"P"," ")) -> C | E92: =IF(COUNTIF(E89:E91,"A")>=1,"C",IF(COUNTIF(E89:E91,"A")>0,"P"," ")) | F92: =IF(COUNTIF(F89:F91,"A")>=1,"C",IF(COUNTIF(F89:F91,"A")>0,"P"," ")) | G92: =IF(COUNTIF(G89:G91,"A")>=1,"C",IF(COUNTIF(G89:G91,"A")>0,"P"," ")) | H92: =IF(COUNTIF(H89:H91,"A")>=1,"C",IF(COUNTIF(H89:H91,"A")>0,"P"," ")) | I92: =IF(COUNTIF(I89:I91,"A")>=1,"C",IF(COUNTIF(I89:I91,"A")>0,"P"," ")) | J92: =IF(COUNTIF(J89:J91,"A")>=1,"C",IF(COUNTIF(J89:J91,"A")>0,"P"," ")) | K92: =IF(COUNTIF(K89:K91,"A")>=1,"C",IF(COUNTIF(K89:K91,"A")>0,"P"," ")) | ... R92: =IF(COUNTIF(R89:R91,"A")>=1,"C",IF(COUNTIF(R89:R91,"A")>0,"P"," "))
C93: Experiment with acoustics
C94: Go on an elephant hike
C95: Make a ringtone for yourself, a
D96: =IF(COUNTIF(D93:D95,"A")>=1,"C",IF(COUNTIF(D93:D95,"A")>0,"P"," ")) | E96: =IF(COUNTIF(E93:E95,"A")>=1,"C",IF(COUNTIF(E93:E95,"A")>0,"P"," ")) | F96: =IF(COUNTIF(F93:F95,"A")>=1,"C",IF(COUNTIF(F93:F95,"A")>0,"P"," ")) | G96: =IF(COUNTIF(G93:G95,"A")>=1,"C",IF(COUNTIF(G93:G95,"A")>0,"P"," ")) | H96: =IF(COUNTIF(H93:H95,"A")>=1,"C",IF(COUNTIF(H93:H95,"A")>0,"P"," ")) | I96: =IF(COUNTIF(I93:I95,"A")>=1,"C",IF(COUNTIF(I93:I95,"A")>0,"P"," ")) | J96: =IF(COUNTIF(J93:J95,"A")>=1,"C",IF(COUNTIF(J93:J95,"A")>0,"P"," ")) | K96: =IF(COUNTIF(K93:K95,"A")>=1,"C",IF(COUNTIF(K93:K95,"A")>0,"P"," ")) | ... R96: =IF(COUNTIF(R93:R95,"A")>=1,"C",IF(COUNTIF(R93:R95,"A")>0,"P"," "))
C97: Status: (P)artial or (C)omplete | D97: =IF(COUNTIF(D80:D96,"C")>4,"C",IF(COUNTIF(D80:D96,"C")>0,"P"," ")) -> P | E97: =IF(COUNTIF(E80:E96,"C")>4,"C",IF(COUNTIF(E80:E96,"C")>0,"P"," ")) | F97: =IF(COUNTIF(F80:F96,"C")>4,"C",IF(COUNTIF(F80:F96,"C")>0,"P"," ")) | G97: =IF(COUNTIF(G80:G96,"C")>4,"C",IF(COUNTIF(G80:G96,"C")>0,"P"," ")) | H97: =IF(COUNTIF(H80:H96,"C")>4,"C",IF(COUNTIF(H80:H96,"C")>0,"P"," ")) | I97: =IF(COUNTIF(I80:I96,"C")>4,"C",IF(COUNTIF(I80:I96,"C")>0,"P"," ")) | J97: =IF(COUNTIF(J80:J96,"C")>4,"C",IF(COUNTIF(J80:J96,"C")>0,"P"," ")) | K97: =IF(COUNTIF(K80:K96,"C")>4,"C",IF(COUNTIF(K80:K96,"C")>0,"P"," ")) | ... R97: =IF(COUNTIF(R80:R96,"C")>4,"C",IF(COUNTIF(R80:R96,"C")>0,"P"," "))
B98: Scribe
B99: 1 | C99: Start with a poem
C100: Write one haiku and one limerick
C101: Write one sonnet
...

Sheet Journeys
B1: Service Unit: | C1: =Instructions!F3 -> 10 | D1: =Bekah!$A$1 -> Bekah | E1: =Elizabeth!$A$1 -> Elizabeth | F1: =Meagan!$A$1 -> Meagan | G1: ='Junior 4'!$A$1 -> Junior 4 | H1: ='Junior 5'!$A$1 -> Junior 5 | I1: ='Junior 6'!$A$1 -> Junior 6 | J1: ='Junior 7'!$A$1 -> Junior 7 | K1: ='Junior 8'!$A$1 -> Junior 8 | L1: ='Junior 9'!$A$1 -> Junior 9 | M1: ='Junior 10'!$A$1 -> Junior 10 | N1: ='Junior 11'!$A$1 -> Junior 11 | O1: ='Junior 12'!$A$1 -> Junior 12 | P1: ='Junior 13'!$A$1 -> Junior 13 | Q1: ='Junior 14'!$A$1 -> Junior 14 | R1: ='Junior 15'!$A$1 -> Junior 15
B2: Troop: | C2: =Instructions!F5 -> 40726
A4: Enter A for credit
A5: It's Your World -- Change It!
A6: Agent of Change
B7: The Power of One Award
B8: 1 | C8: discover and share the powerful | D8: a | E8: a
B9: 2 | C9: use their own "power log" to | D9: a | E9: a
B10: 3 | C10: discover what the Girl Scout Law | D10: a | E10: a
C11: Status: (P)artial or (C)omplete | D11: =IF(COUNTIF(D8:D10,"A")>2,"C",IF(COUNTIF(D8:D10,"A")>0,"P"," ")) -> C | E11: =IF(COUNTIF(E8:E10,"A")>2,"C",IF(COUNTIF(E8:E10,"A")>0,"P"," ")) -> C | F11: =IF(COUNTIF(F8:F10,"A")>2,"C",IF(COUNTIF(F8:F10,"A")>0,"P"," ")) | G11: =IF(COUNTIF(G8:G10,"A")>2,"C",IF(COUNTIF(G8:G10,"A")>0,"P"," ")) | H11: =IF(COUNTIF(H8:H10,"A")>2,"C",IF(COUNTIF(H8:H10,"A")>0,"P"," ")) | I11: =IF(COUNTIF(I8:I10,"A")>2,"C",IF(COUNTIF(I8:I10,"A")>0,"P"," ")) | J11: =IF(COUNTIF(J8:J10,"A")>2,"C",IF(COUNTIF(J8:J10,"A")>0,"P"," ")) | K11: =IF(COUNTIF(K8:K10,"A")>2,"C",IF(COUNTIF(K8:K10,"A")>0,"P"," ")) | ... R11: =IF(COUNTIF(R8:R10,"A")>2,"C",IF(COUNTIF(R8:R10,"A")>0,"P"," "))
B12: The Power of Team Award
B13: 1 | C13: create a short "supergirl" story, | D13: a | E13: a
B14: 2 | C14: make a team decision | D14: a | E14: a
C15: Status: (P)artial or (C)omplete | D15: =IF(COUNTIF(D13:D14,"A")>1,"C",IF(COUNTIF(D13:D14,"A")>0,"P"," ")) -> C | E15: =IF(COUNTIF(E13:E14,"A")>1,"C",IF(COUNTIF(E13:E14,"A")>0,"P"," ")) -> C | F15: =IF(COUNTIF(F13:F14,"A")>1,"C",IF(COUNTIF(F13:F14,"A")>0,"P"," ")) | G15: =IF(COUNTIF(G13:G14,"A")>1,"C",IF(COUNTIF(G13:G14,"A")>0,"P"," ")) | H15: =IF(COUNTIF(H13:H14,"A")>1,"C",IF(COUNTIF(H13:H14,"A")>0,"P"," ")) | I15: =IF(COUNTIF(I13:I14,"A")>1,"C",IF(COUNTIF(I13:I14,"A")>0,"P"," ")) | J15: =IF(COUNTIF(J13:J14,"A")>1,"C",IF(COUNTIF(J13:J14,"A")>0,"P"," ")) | K15: =IF(COUNTIF(K13:K14,"A")>1,"C",IF(COUNTIF(K13:K14,"A")>0,"P"," ")) | ... R15: =IF(COUNTIF(R13:R14,"A")>1,"C",IF(COUNTIF(R13:R14,"A")>0,"P"," "))
B16: The Power of Community Award
B17: 1 | C17: take action on your plan, reach | D17: a | E17: a
B18: 2 | C18: join in their Girl Scout Junior circle | D18: a | E18: a
C19: Status: (P)artial or (C)omplete | D19: =IF(COUNTIF(D17:D18,"A")>1,"C",IF(COUNTIF(D17:D18,"A")>0,"P"," ")) -> C | E19: =IF(COUNTIF(E17:E18,"A")>1,"C",IF(COUNTIF(E17:E18,"A")>0,"P"," ")) -> P | F19: =IF(COUNTIF(F17:F18,"A")>1,"C",IF(COUNTIF(F17:F18,"A")>0,"P"," ")) | G19: =IF(COUNTIF(G17:G18,"A")>1,"C",IF(COUNTIF(G17:G18,"A")>0,"P"," ")) | H19: =IF(COUNTIF(H17:H18,"A")>1,"C",IF(COUNTIF(H17:H18,"A")>0,"P"," ")) | I19: =IF(COUNTIF(I17:I18,"A")>1,"C",IF(COUNTIF(I17:I18,"A")>0,"P"," ")) | J19: =IF(COUNTIF(J17:J18,"A")>1,"C",IF(COUNTIF(J17:J18,"A")>0,"P"," ")) | K19: =IF(COUNTIF(K17:K18,"A")>1,"C",IF(COUNTIF(K17:K18,"A")>0,"P"," ")) | ... R19: =IF(COUNTIF(R17:R18,"A")>1,"C",IF(COUNTIF(R17:R18,"A")>0,"P"," "))
A21: It's Your Planet -- Love It!
A22: GET MOVING!
B23: Energize Award
B24: 1 | C24: Make an Energy Pledge
B25: 2 | C25: Try at least two other Energize
B26: 3 | C26: Check out how other people
C27: Status: (P)artial or (C)omplete | D27: =IF(COUNTIF(D24:D26,"A")=3,"C",IF(COUNTIF(D24:D26,"A")>0,"P"," ")) | E27: =IF(COUNTIF(E24:E26,"A")=3,"C",IF(COUNTIF(E24:E26,"A")>0,"P"," ")) | F27: =IF(COUNTIF(F24:F26,"A")=3,"C",IF(COUNTIF(F24:F26,"A")>0,"P"," ")) | G27: =IF(COUNTIF(G24:G26,"A")=3,"C",IF(COUNTIF(G24:G26,"A")>0,"P"," ")) | H27: =IF(COUNTIF(H24:H26,"A")=3,"C",IF(COUNTIF(H24:H26,"A")>0,"P"," ")) | I27: =IF(COUNTIF(I24:I26,"A")=3,"C",IF(COUNTIF(I24:I26,"A")>0,"P"," ")) | J27: =IF(COUNTIF(J24:J26,"A")=3,"C",IF(COUNTIF(J24:J26,"A")>0,"P"," ")) | K27: =IF(COUNTIF(K24:K26,"A")=3,"C",IF(COUNTIF(K24:K26,"A")>0,"P"," ")) | ... R27: =IF(COUNTIF(R24:R26,"A")=3,"C",IF(COUNTIF(R24:R26,"A")>0,"P"," "))
B28: Investigate Award
B29: 1 | C29: Learn about energy use
B30: 2 | C30: Work with their families
B31: 3 | C31: Investigate energy use
C32: Status: (P)artial or (C)omplete | D32: =IF(COUNTIF(D29:D31,"A")=3,"C",IF(COUNTIF(D29:D31,"A")>0,"P"," ")) | E32: =IF(COUNTIF(E29:E31,"A")=3,"C",IF(COUNTIF(E29:E31,"A")>0,"P"," ")) | F32: =IF(COUNTIF(F29:F31,"A")=3,"C",IF(COUNTIF(F29:F31,"A")>0,"P"," ")) | G32: =IF(COUNTIF(G29:G31,"A")=3,"C",IF(COUNTIF(G29:G31,"A")>0,"P"," ")) | H32: =IF(COUNTIF(H29:H31,"A")=3,"C",IF(COUNTIF(H29:H31,"A")>0,"P"," ")) | I32: =IF(COUNTIF(I29:I31,"A")=3,"C",IF(COUNTIF(I29:I31,"A")>0,"P"," ")) | J32: =IF(COUNTIF(J29:J31,"A")=3,"C",IF(COUNTIF(J29:J31,"A")>0,"P"," ")) | K32: =IF(COUNTIF(K29:K31,"A")=3,"C",IF(COUNTIF(K29:K31,"A")>0,"P"," ")) | ... R32: =IF(COUNTIF(R29:R31,"A")=3,"C",IF(COUNTIF(R29:R31,"A")>0,"P"," "))
B33: Innovate Award
B34: 1 | C34: Identify an energy issue
B35: 2 | C35: Share the news
C36: Status: (P)artial or (C)omplete | D36: =IF(COUNTIF(D34:D35,"A")=2,"C",IF(COUNTIF(D34:D35,"A")>0,"P"," ")) | E36: =IF(COUNTIF(E34:E35,"A")=2,"C",IF(COUNTIF(E34:E35,"A")>0,"P"," ")) | F36: =IF(COUNTIF(F34:F35,"A")=2,"C",IF(COUNTIF(F34:F35,"A")>0,"P"," ")) | G36: =IF(COUNTIF(G34:G35,"A")=2,"C",IF(COUNTIF(G34:G35,"A")>0,"P"," ")) | H36: =IF(COUNTIF(H34:H35,"A")=2,"C",IF(COUNTIF(H34:H35,"A")>0,"P"," ")) | I36: =IF(COUNTIF(I34:I35,"A")=2,"C",IF(COUNTIF(I34:I35,"A")>0,"P"," ")) | J36: =IF(COUNTIF(J34:J35,"A")=2,"C",IF(COUNTIF(J34:J35,"A")>0,"P"," ")) | K36: =IF(COUNTIF(K34:K35,"A")=2,"C",IF(COUNTIF(K34:K35,"A")>0,"P"," ")) | ... R36: =IF(COUNTIF(R34:R35,"A")=2,"C",IF(COUNTIF(R34:R35,"A")>0,"P"," "))
A38: It's Your Story -- Tell It!
A39: aMUSE
B40: Reach Out
B41: 1 | C41: Reach Out
C42: Status: (P)artial or (C)omplete | D42: =IF(COUNTIF(D41:D41,"A")=1,"C",IF(COUNTIF(D41:D41,"A")>0,"P"," ")) | E42: =IF(COUNTIF(E41:E41,"A")=1,"C",IF(COUNTIF(E41:E41,"A")>0,"P"," ")) | F42: =IF(COUNTIF(F41:F41,"A")=1,"C",IF(COUNTIF(F41:F41,"A")>0,"P"," ")) | G42: =IF(COUNTIF(G41:G41,"A")=1,"C",IF(COUNTIF(G41:G41,"A")>0,"P"," ")) | H42: =IF(COUNTIF(H41:H41,"A")=1,"C",IF(COUNTIF(H41:H41,"A")>0,"P"," ")) | I42: =IF(COUNTIF(I41:I41,"A")=1,"C",IF(COUNTIF(I41:I41,"A")>0,"P"," ")) | J42: =IF(COUNTIF(J41:J41,"A")=1,"C",IF(COUNTIF(J41:J41,"A")>0,"P"," ")) | K42: =IF(COUNTIF(K41:K41,"A")=1,"C",IF(COUNTIF(K41:K41,"A")>0,"P"," ")) | ... R42: =IF(COUNTIF(R41:R41,"A")=1,"C",IF(COUNTIF(R41:R41,"A")>0,"P"," "))
B43: Speak Out
B44: 1 | C44: Speak Out
C45: Status: (P)artial or (C)omplete | D45: =IF(COUNTIF(D44:D44,"A")=1,"C",IF(COUNTIF(D44:D44,"A")>0,"P"," ")) | E45: =IF(COUNTIF(E44:E44,"A")=1,"C",IF(COUNTIF(E44:E44,"A")>0,"P"," ")) | F45: =IF(COUNTIF(F44:F44,"A")=1,"C",IF(COUNTIF(F44:F44,"A")>0,"P"," ")) | G45: =IF(COUNTIF(G44:G44,"A")=1,"C",IF(COUNTIF(G44:G44,"A")>0,"P"," ")) | H45: =IF(COUNTIF(H44:H44,"A")=1,"C",IF(COUNTIF(H44:H44,"A")>0,"P"," ")) | I45: =IF(COUNTIF(I44:I44,"A")=1,"C",IF(COUNTIF(I44:I44,"A")>0,"P"," ")) | J45: =IF(COUNTIF(J44:J44,"A")=1,"C",IF(COUNTIF(J44:J44,"A")>0,"P"," ")) | K45: =IF(COUNTIF(K44:K44,"A")=1,"C",IF(COUNTIF(K44:K44,"A")>0,"P"," ")) | ... R45: =IF(COUNTIF(R44:R44,"A")=1,"C",IF(COUNTIF(R44:R44,"A")>0,"P"," "))
B46: Try Out
B47: 1 | C47: Try Out
C48: Status: (P)artial or (C)omplete | D48: =IF(COUNTIF(D47:D47,"A")=1,"C",IF(COUNTIF(D47:D47,"A")>0,"P"," ")) | E48: =IF(COUNTIF(E47:E47,"A")=1,"C",IF(COUNTIF(E47:E47,"A")>0,"P"," ")) | F48: =IF(COUNTIF(F47:F47,"A")=1,"C",IF(COUNTIF(F47:F47,"A")>0,"P"," ")) | G48: =IF(COUNTIF(G47:G47,"A")=1,"C",IF(COUNTIF(G47:G47,"A")>0,"P"," ")) | H48: =IF(COUNTIF(H47:H47,"A")=1,"C",IF(COUNTIF(H47:H47,"A")>0,"P"," ")) | I48: =IF(COUNTIF(I47:I47,"A")=1,"C",IF(COUNTIF(I47:I47,"A")>0,"P"," ")) | J48: =IF(COUNTIF(J47:J47,"A")=1,"C",IF(COUNTIF(J47:J47,"A")>0,"P"," ")) | K48: =IF(COUNTIF(K47:K47,"A")=1,"C",IF(COUNTIF(K47:K47,"A")>0,"P"," ")) | ... R48: =IF(COUNTIF(R47:R47,"A")=1,"C",IF(COUNTIF(R47:R47,"A")>0,"P"," "))

Sheet Council Own
B1: Service Unit: | C1: =[1]Instructions!E3 -> 0 | D1: =Bekah!$A$1 -> Bekah | E1: =Elizabeth!$A$1 -> Elizabeth | F1: =Meagan!$A$1 -> Meagan | G1: ='Junior 4'!$A$1 -> Junior 4 | H1: ='Junior 5'!$A$1 -> Junior 5 | I1: ='Junior 6'!$A$1 -> Junior 6 | J1: ='Junior 7'!$A$1 -> Junior 7 | K1: ='Junior 8'!$A$1 -> Junior 8 | L1: ='Junior 9'!$A$1 -> Junior 9 | M1: ='Junior 10'!$A$1 -> Junior 10 | N1: ='Junior 11'!$A$1 -> Junior 11 | O1: ='Junior 12'!$A$1 -> Junior 12 | P1: ='Junior 13'!$A$1 -> Junior 13 | Q1: ='Junior 14'!$A$1 -> Junior 14 | R1: ='Junior 15'!$A$1 -> Junior 15
B2: Troop: | C2: =[1]Instructions!E5 -> 0
A4: Enter A for credit
A5: Council's Own
B6: <<List Badge Here>> | D6: Every step has three choices. Do ONE choice to complete each step.
B7: 1 | C7: <List Requirement Here> | S7: These I modeled after all the others. If you can attain a picture, you may paste it in the space to the left of the name. You will enter the name of the badge, and all the requirements under the name. I've left the comments open so that you may enter the specific requirements here. Everything will transfer through to all the other necessary sheets. The status portion is set the same at 1 step for each requirements to complete. You may change if you know how, otherwise, just enter the A's if they're done.
C8: <List Requirement Here>
C9: <List Requirement Here>
C10: <List Requirement Here>
B11: 2 | C11: <List Requirement Here> | D11: =IF(COUNTIF(D8:D10,"A")>=1,"C",IF(COUNTIF(D8:D10,"A")>0,"P"," ")) | E11: =IF(COUNTIF(E8:E10,"A")>=1,"C",IF(COUNTIF(E8:E10,"A")>0,"P"," ")) | F11: =IF(COUNTIF(F8:F10,"A")>=1,"C",IF(COUNTIF(F8:F10,"A")>0,"P"," ")) | G11: =IF(COUNTIF(G8:G10,"A")>=1,"C",IF(COUNTIF(G8:G10,"A")>0,"P"," ")) | H11: =IF(COUNTIF(H8:H10,"A")>=1,"C",IF(COUNTIF(H8:H10,"A")>0,"P"," ")) | I11: =IF(COUNTIF(I8:I10,"A")>=1,"C",IF(COUNTIF(I8:I10,"A")>0,"P"," ")) | J11: =IF(COUNTIF(J8:J10,"A")>=1,"C",IF(COUNTIF(J8:J10,"A")>0,"P"," ")) | K11: =IF(COUNTIF(K8:K10,"A")>=1,"C",IF(COUNTIF(K8:K10,"A")>0,"P"," ")) | ... R11: =IF(COUNTIF(R8:R10,"A")>=1,"C",IF(COUNTIF(R8:R10,"A")>0,"P"," "))
C12: <List Requirement Here>
C13: <List Requirement Here>
C14: <List Requirement Here>
B15: 3 | C15: <List Requirement Here> | D15: =IF(COUNTIF(D12:D14,"A")>=1,"C",IF(COUNTIF(D12:D14,"A")>0,"P"," ")) | E15: =IF(COUNTIF(E12:E14,"A")>=1,"C",IF(COUNTIF(E12:E14,"A")>0,"P"," ")) | F15: =IF(COUNTIF(F12:F14,"A")>=1,"C",IF(COUNTIF(F12:F14,"A")>0,"P"," ")) | G15: =IF(COUNTIF(G12:G14,"A")>=1,"C",IF(COUNTIF(G12:G14,"A")>0,"P"," ")) | H15: =IF(COUNTIF(H12:H14,"A")>=1,"C",IF(COUNTIF(H12:H14,"A")>0,"P"," ")) | I15: =IF(COUNTIF(I12:I14,"A")>=1,"C",IF(COUNTIF(I12:I14,"A")>0,"P"," ")) | J15: =IF(COUNTIF(J12:J14,"A")>=1,"C",IF(COUNTIF(J12:J14,"A")>0,"P"," ")) | K15: =IF(COUNTIF(K12:K14,"A")>=1,"C",IF(COUNTIF(K12:K14,"A")>0,"P"," ")) | ... R15: =IF(COUNTIF(R12:R14,"A")>=1,"C",IF(COUNTIF(R12:R14,"A")>0,"P"," "))
C16: <List Requirement Here>
C17: <List Requirement Here>
C18: <List Requirement Here>
B19: 4 | C19: <List Requirement Here> | D19: =IF(COUNTIF(D16:D18,"A")>=1,"C",IF(COUNTIF(D16:D18,"A")>0,"P"," ")) | E19: =IF(COUNTIF(E16:E18,"A")>=1,"C",IF(COUNTIF(E16:E18,"A")>0,"P"," ")) | F19: =IF(COUNTIF(F16:F18,"A")>=1,"C",IF(COUNTIF(F16:F18,"A")>0,"P"," ")) | G19: =IF(COUNTIF(G16:G18,"A")>=1,"C",IF(COUNTIF(G16:G18,"A")>0,"P"," ")) | H19: =IF(COUNTIF(H16:H18,"A")>=1,"C",IF(COUNTIF(H16:H18,"A")>0,"P"," ")) | I19: =IF(COUNTIF(I16:I18,"A")>=1,"C",IF(COUNTIF(I16:I18,"A")>0,"P"," ")) | J19: =IF(COUNTIF(J16:J18,"A")>=1,"C",IF(COUNTIF(J16:J18,"A")>0,"P"," ")) | K19: =IF(COUNTIF(K16:K18,"A")>=1,"C",IF(COUNTIF(K16:K18,"A")>0,"P"," ")) | ... R19: =IF(COUNTIF(R16:R18,"A")>=1,"C",IF(COUNTIF(R16:R18,"A")>0,"P"," "))
C20: <List Requirement Here>
C21: <List Requirement Here>
C22: <List Requirement Here>
B23: 5 | C23: <List Requirement Here> | D23: =IF(COUNTIF(D20:D22,"A")>=1,"C",IF(COUNTIF(D20:D22,"A")>0,"P"," ")) | E23: =IF(COUNTIF(E20:E22,"A")>=1,"C",IF(COUNTIF(E20:E22,"A")>0,"P"," ")) | F23: =IF(COUNTIF(F20:F22,"A")>=1,"C",IF(COUNTIF(F20:F22,"A")>0,"P"," ")) | G23: =IF(COUNTIF(G20:G22,"A")>=1,"C",IF(COUNTIF(G20:G22,"A")>0,"P"," ")) | H23: =IF(COUNTIF(H20:H22,"A")>=1,"C",IF(COUNTIF(H20:H22,"A")>0,"P"," ")) | I23: =IF(COUNTIF(I20:I22,"A")>=1,"C",IF(COUNTIF(I20:I22,"A")>0,"P"," ")) | J23: =IF(COUNTIF(J20:J22,"A")>=1,"C",IF(COUNTIF(J20:J22,"A")>0,"P"," ")) | K23: =IF(COUNTIF(K20:K22,"A")>=1,"C",IF(COUNTIF(K20:K22,"A")>0,"P"," ")) | ... R23: =IF(COUNTIF(R20:R22,"A")>=1,"C",IF(COUNTIF(R20:R22,"A")>0,"P"," "))
C24: <List Requirement Here>
C25: <List Requirement Here>
C26: <List Requirement Here>
D27: =IF(COUNTIF(D24:D26,"A")>=1,"C",IF(COUNTIF(D24:D26,"A")>0,"P"," ")) | E27: =IF(COUNTIF(E24:E26,"A")>=1,"C",IF(COUNTIF(E24:E26,"A")>0,"P"," ")) | F27: =IF(COUNTIF(F24:F26,"A")>=1,"C",IF(COUNTIF(F24:F26,"A")>0,"P"," ")) | G27: =IF(COUNTIF(G24:G26,"A")>=1,"C",IF(COUNTIF(G24:G26,"A")>0,"P"," ")) | H27: =IF(COUNTIF(H24:H26,"A")>=1,"C",IF(COUNTIF(H24:H26,"A")>0,"P"," ")) | I27: =IF(COUNTIF(I24:I26,"A")>=1,"C",IF(COUNTIF(I24:I26,"A")>0,"P"," ")) | J27: =IF(COUNTIF(J24:J26,"A")>=1,"C",IF(COUNTIF(J24:J26,"A")>0,"P"," ")) | K27: =IF(COUNTIF(K24:K26,"A")>=1,"C",IF(COUNTIF(K24:K26,"A")>0,"P"," ")) | ... R27: =IF(COUNTIF(R24:R26,"A")>=1,"C",IF(COUNTIF(R24:R26,"A")>0,"P"," "))
C28: Status: (P)artial or (C)omplete | D28: =IF(COUNTIF(D11:D27,"C")>4,"C",IF(COUNTIF(D11:D27,"C")>0,"P"," ")) | E28: =IF(COUNTIF(E11:E27,"C")>4,"C",IF(COUNTIF(E11:E27,"C")>0,"P"," ")) | F28: =IF(COUNTIF(F11:F27,"C")>4,"C",IF(COUNTIF(F11:F27,"C")>0,"P"," ")) | G28: =IF(COUNTIF(G11:G27,"C")>4,"C",IF(COUNTIF(G11:G27,"C")>0,"P"," ")) | H28: =IF(COUNTIF(H11:H27,"C")>4,"C",IF(COUNTIF(H11:H27,"C")>0,"P"," ")) | I28: =IF(COUNTIF(I11:I27,"C")>4,"C",IF(COUNTIF(I11:I27,"C")>0,"P"," ")) | J28: =IF(COUNTIF(J11:J27,"C")>4,"C",IF(COUNTIF(J11:J27,"C")>0,"P"," ")) | K28: =IF(COUNTIF(K11:K27,"C")>4,"C",IF(COUNTIF(K11:K27,"C")>0,"P"," ")) | ... R28: =IF(COUNTIF(R11:R27,"C")>4,"C",IF(COUNTIF(R11:R27,"C")>0,"P"," "))
B30: <<List Badge Here>>
B31: 1 | C31: <List Requirement Here>
C32: <List Requirement Here>
C33: <List Requirement Here>
C34: <List Requirement Here>
B35: 2 | C35: <List Requirement Here> | D35: =IF(COUNTIF(D32:D34,"A")>=1,"C",IF(COUNTIF(D32:D34,"A")>0,"P"," ")) | E35: =IF(COUNTIF(E32:E34,"A")>=1,"C",IF(COUNTIF(E32:E34,"A")>0,"P"," ")) | F35: =IF(COUNTIF(F32:F34,"A")>=1,"C",IF(COUNTIF(F32:F34,"A")>0,"P"," ")) | G35: =IF(COUNTIF(G32:G34,"A")>=1,"C",IF(COUNTIF(G32:G34,"A")>0,"P"," ")) | H35: =IF(COUNTIF(H32:H34,"A")>=1,"C",IF(COUNTIF(H32:H34,"A")>0,"P"," ")) | I35: =IF(COUNTIF(I32:I34,"A")>=1,"C",IF(COUNTIF(I32:I34,"A")>0,"P"," ")) | J35: =IF(COUNTIF(J32:J34,"A")>=1,"C",IF(COUNTIF(J32:J34,"A")>0,"P"," ")) | K35: =IF(COUNTIF(K32:K34,"A")>=1,"C",IF(COUNTIF(K32:K34,"A")>0,"P"," ")) | ... R35: =IF(COUNTIF(R32:R34,"A")>=1,"C",IF(COUNTIF(R32:R34,"A")>0,"P"," "))
C36: <List Requirement Here>
C37: <List Requirement Here>
C38: <List Requirement Here>
B39: 3 | C39: <List Requirement Here> | D39: =IF(COUNTIF(D36:D38,"A")>=1,"C",IF(COUNTIF(D36:D38,"A")>0,"P"," ")) | E39: =IF(COUNTIF(E36:E38,"A")>=1,"C",IF(COUNTIF(E36:E38,"A")>0,"P"," ")) | F39: =IF(COUNTIF(F36:F38,"A")>=1,"C",IF(COUNTIF(F36:F38,"A")>0,"P"," ")) | G39: =IF(COUNTIF(G36:G38,"A")>=1,"C",IF(COUNTIF(G36:G38,"A")>0,"P"," ")) | H39: =IF(COUNTIF(H36:H38,"A")>=1,"C",IF(COUNTIF(H36:H38,"A")>0,"P"," ")) | I39: =IF(COUNTIF(I36:I38,"A")>=1,"C",IF(COUNTIF(I36:I38,"A")>0,"P"," ")) | J39: =IF(COUNTIF(J36:J38,"A")>=1,"C",IF(COUNTIF(J36:J38,"A")>0,"P"," ")) | K39: =IF(COUNTIF(K36:K38,"A")>=1,"C",IF(COUNTIF(K36:K38,"A")>0,"P"," ")) | ... R39: =IF(COUNTIF(R36:R38,"A")>=1,"C",IF(COUNTIF(R36:R38,"A")>0,"P"," "))
C40: <List Requirement Here>
C41: <List Requirement Here>
C42: <List Requirement Here>
B43: 4 | C43: <List Requirement Here> | D43: =IF(COUNTIF(D40:D42,"A")>=1,"C",IF(COUNTIF(D40:D42,"A")>0,"P"," ")) | E43: =IF(COUNTIF(E40:E42,"A")>=1,"C",IF(COUNTIF(E40:E42,"A")>0,"P"," ")) | F43: =IF(COUNTIF(F40:F42,"A")>=1,"C",IF(COUNTIF(F40:F42,"A")>0,"P"," ")) | G43: =IF(COUNTIF(G40:G42,"A")>=1,"C",IF(COUNTIF(G40:G42,"A")>0,"P"," ")) | H43: =IF(COUNTIF(H40:H42,"A")>=1,"C",IF(COUNTIF(H40:H42,"A")>0,"P"," ")) | I43: =IF(COUNTIF(I40:I42,"A")>=1,"C",IF(COUNTIF(I40:I42,"A")>0,"P"," ")) | J43: =IF(COUNTIF(J40:J42,"A")>=1,"C",IF(COUNTIF(J40:J42,"A")>0,"P"," ")) | K43: =IF(COUNTIF(K40:K42,"A")>=1,"C",IF(COUNTIF(K40:K42,"A")>0,"P"," ")) | ... R43: =IF(COUNTIF(R40:R42,"A")>=1,"C",IF(COUNTIF(R40:R42,"A")>0,"P"," "))
C44: <List Requirement Here>
C45: <List Requirement Here>
C46: <List Requirement Here>
B47: 5 | C47: <List Requirement Here> | D47: =IF(COUNTIF(D44:D46,"A")>=1,"C",IF(COUNTIF(D44:D46,"A")>0,"P"," ")) | E47: =IF(COUNTIF(E44:E46,"A")>=1,"C",IF(COUNTIF(E44:E46,"A")>0,"P"," ")) | F47: =IF(COUNTIF(F44:F46,"A")>=1,"C",IF(COUNTIF(F44:F46,"A")>0,"P"," ")) | G47: =IF(COUNTIF(G44:G46,"A")>=1,"C",IF(COUNTIF(G44:G46,"A")>0,"P"," ")) | H47: =IF(COUNTIF(H44:H46,"A")>=1,"C",IF(COUNTIF(H44:H46,"A")>0,"P"," ")) | I47: =IF(COUNTIF(I44:I46,"A")>=1,"C",IF(COUNTIF(I44:I46,"A")>0,"P"," ")) | J47: =IF(COUNTIF(J44:J46,"A")>=1,"C",IF(COUNTIF(J44:J46,"A")>0,"P"," ")) | K47: =IF(COUNTIF(K44:K46,"A")>=1,"C",IF(COUNTIF(K44:K46,"A")>0,"P"," ")) | ... R47: =IF(COUNTIF(R44:R46,"A")>=1,"C",IF(COUNTIF(R44:R46,"A")>0,"P"," "))
C48: <List Requirement Here>
C49: <List Requirement Here>
C50: <List Requirement Here>
D51: =IF(COUNTIF(D48:D50,"A")>=1,"C",IF(COUNTIF(D48:D50,"A")>0,"P"," ")) | E51: =IF(COUNTIF(E48:E50,"A")>=1,"C",IF(COUNTIF(E48:E50,"A")>0,"P"," ")) | F51: =IF(COUNTIF(F48:F50,"A")>=1,"C",IF(COUNTIF(F48:F50,"A")>0,"P"," ")) | G51: =IF(COUNTIF(G48:G50,"A")>=1,"C",IF(COUNTIF(G48:G50,"A")>0,"P"," ")) | H51: =IF(COUNTIF(H48:H50,"A")>=1,"C",IF(COUNTIF(H48:H50,"A")>0,"P"," ")) | I51: =IF(COUNTIF(I48:I50,"A")>=1,"C",IF(COUNTIF(I48:I50,"A")>0,"P"," ")) | J51: =IF(COUNTIF(J48:J50,"A")>=1,"C",IF(COUNTIF(J48:J50,"A")>0,"P"," ")) | K51: =IF(COUNTIF(K48:K50,"A")>=1,"C",IF(COUNTIF(K48:K50,"A")>0,"P"," ")) | ... R51: =IF(COUNTIF(R48:R50,"A")>=1,"C",IF(COUNTIF(R48:R50,"A")>0,"P"," "))
C52: Status: (P)artial or (C)omplete | D52: =IF(COUNTIF(D35:D51,"C")>4,"C",IF(COUNTIF(D35:D51,"C")>0,"P"," ")) | E52: =IF(COUNTIF(E35:E51,"C")>4,"C",IF(COUNTIF(E35:E51,"C")>0,"P"," ")) | F52: =IF(COUNTIF(F35:F51,"C")>4,"C",IF(COUNTIF(F35:F51,"C")>0,"P"," ")) | G52: =IF(COUNTIF(G35:G51,"C")>4,"C",IF(COUNTIF(G35:G51,"C")>0,"P"," ")) | H52: =IF(COUNTIF(H35:H51,"C")>4,"C",IF(COUNTIF(H35:H51,"C")>0,"P"," ")) | I52: =IF(COUNTIF(I35:I51,"C")>4,"C",IF(COUNTIF(I35:I51,"C")>0,"P"," ")) | J52: =IF(COUNTIF(J35:J51,"C")>4,"C",IF(COUNTIF(J35:J51,"C")>0,"P"," ")) | K52: =IF(COUNTIF(K35:K51,"C")>4,"C",IF(COUNTIF(K35:K51,"C")>0,"P"," ")) | ... R52: =IF(COUNTIF(R35:R51,"C")>4,"C",IF(COUNTIF(R35:R51,"C")>0,"P"," "))
B54: <<List Badge Here>>
B55: 1 | C55: <List Requirement Here>
C56: <List Requirement Here>
C57: <List Requirement Here>
C58: <List Requirement Here>
B59: 2 | C59: <List Requirement Here> | D59: =IF(COUNTIF(D56:D58,"A")>=1,"C",IF(COUNTIF(D56:D58,"A")>0,"P"," ")) | E59: =IF(COUNTIF(E56:E58,"A")>=1,"C",IF(COUNTIF(E56:E58,"A")>0,"P"," ")) | F59: =IF(COUNTIF(F56:F58,"A")>=1,"C",IF(COUNTIF(F56:F58,"A")>0,"P"," ")) | G59: =IF(COUNTIF(G56:G58,"A")>=1,"C",IF(COUNTIF(G56:G58,"A")>0,"P"," ")) | H59: =IF(COUNTIF(H56:H58,"A")>=1,"C",IF(COUNTIF(H56:H58,"A")>0,"P"," ")) | I59: =IF(COUNTIF(I56:I58,"A")>=1,"C",IF(COUNTIF(I56:I58,"A")>0,"P"," ")) | J59: =IF(COUNTIF(J56:J58,"A")>=1,"C",IF(COUNTIF(J56:J58,"A")>0,"P"," ")) | K59: =IF(COUNTIF(K56:K58,"A")>=1,"C",IF(COUNTIF(K56:K58,"A")>0,"P"," ")) | ... R59: =IF(COUNTIF(R56:R58,"A")>=1,"C",IF(COUNTIF(R56:R58,"A")>0,"P"," "))
C60: <List Requirement Here>
C61: <List Requirement Here>
C62: <List Requirement Here>
B63: 3 | C63: <List Requirement Here> | D63: =IF(COUNTIF(D60:D62,"A")>=1,"C",IF(COUNTIF(D60:D62,"A")>0,"P"," ")) | E63: =IF(COUNTIF(E60:E62,"A")>=1,"C",IF(COUNTIF(E60:E62,"A")>0,"P"," ")) | F63: =IF(COUNTIF(F60:F62,"A")>=1,"C",IF(COUNTIF(F60:F62,"A")>0,"P"," ")) | G63: =IF(COUNTIF(G60:G62,"A")>=1,"C",IF(COUNTIF(G60:G62,"A")>0,"P"," ")) | H63: =IF(COUNTIF(H60:H62,"A")>=1,"C",IF(COUNTIF(H60:H62,"A")>0,"P"," ")) | I63: =IF(COUNTIF(I60:I62,"A")>=1,"C",IF(COUNTIF(I60:I62,"A")>0,"P"," ")) | J63: =IF(COUNTIF(J60:J62,"A")>=1,"C",IF(COUNTIF(J60:J62,"A")>0,"P"," ")) | K63: =IF(COUNTIF(K60:K62,"A")>=1,"C",IF(COUNTIF(K60:K62,"A")>0,"P"," ")) | ... R63: =IF(COUNTIF(R60:R62,"A")>=1,"C",IF(COUNTIF(R60:R62,"A")>0,"P"," "))
C64: <List Requirement Here>
C65: <List Requirement Here>
C66: <List Requirement Here>
B67: 4 | C67: <List Requirement Here> | D67: =IF(COUNTIF(D64:D66,"A")>=1,"C",IF(COUNTIF(D64:D66,"A")>0,"P"," ")) | E67: =IF(COUNTIF(E64:E66,"A")>=1,"C",IF(COUNTIF(E64:E66,"A")>0,"P"," ")) | F67: =IF(COUNTIF(F64:F66,"A")>=1,"C",IF(COUNTIF(F64:F66,"A")>0,"P"," ")) | G67: =IF(COUNTIF(G64:G66,"A")>=1,"C",IF(COUNTIF(G64:G66,"A")>0,"P"," ")) | H67: =IF(COUNTIF(H64:H66,"A")>=1,"C",IF(COUNTIF(H64:H66,"A")>0,"P"," ")) | I67: =IF(COUNTIF(I64:I66,"A")>=1,"C",IF(COUNTIF(I64:I66,"A")>0,"P"," ")) | J67: =IF(COUNTIF(J64:J66,"A")>=1,"C",IF(COUNTIF(J64:J66,"A")>0,"P"," ")) | K67: =IF(COUNTIF(K64:K66,"A")>=1,"C",IF(COUNTIF(K64:K66,"A")>0,"P"," ")) | ... R67: =IF(COUNTIF(R64:R66,"A")>=1,"C",IF(COUNTIF(R64:R66,"A")>0,"P"," "))
C68: <List Requirement Here>
C69: <List Requirement Here>
C70: <List Requirement Here>
B71: 5 | C71: <List Requirement Here> | D71: =IF(COUNTIF(D68:D70,"A")>=1,"C",IF(COUNTIF(D68:D70,"A")>0,"P"," ")) | E71: =IF(COUNTIF(E68:E70,"A")>=1,"C",IF(COUNTIF(E68:E70,"A")>0,"P"," ")) | F71: =IF(COUNTIF(F68:F70,"A")>=1,"C",IF(COUNTIF(F68:F70,"A")>0,"P"," ")) | G71: =IF(COUNTIF(G68:G70,"A")>=1,"C",IF(COUNTIF(G68:G70,"A")>0,"P"," ")) | H71: =IF(COUNTIF(H68:H70,"A")>=1,"C",IF(COUNTIF(H68:H70,"A")>0,"P"," ")) | I71: =IF(COUNTIF(I68:I70,"A")>=1,"C",IF(COUNTIF(I68:I70,"A")>0,"P"," ")) | J71: =IF(COUNTIF(J68:J70,"A")>=1,"C",IF(COUNTIF(J68:J70,"A")>0,"P"," ")) | K71: =IF(COUNTIF(K68:K70,"A")>=1,"C",IF(COUNTIF(K68:K70,"A")>0,"P"," ")) | ... R71: =IF(COUNTIF(R68:R70,"A")>=1,"C",IF(COUNTIF(R68:R70,"A")>0,"P"," "))
C72: <List Requirement Here>
C73: <List Requirement Here>
C74: <List Requirement Here>
D75: =IF(COUNTIF(D72:D74,"A")>=1,"C",IF(COUNTIF(D72:D74,"A")>0,"P"," ")) | E75: =IF(COUNTIF(E72:E74,"A")>=1,"C",IF(COUNTIF(E72:E74,"A")>0,"P"," ")) | F75: =IF(COUNTIF(F72:F74,"A")>=1,"C",IF(COUNTIF(F72:F74,"A")>0,"P"," ")) | G75: =IF(COUNTIF(G72:G74,"A")>=1,"C",IF(COUNTIF(G72:G74,"A")>0,"P"," ")) | H75: =IF(COUNTIF(H72:H74,"A")>=1,"C",IF(COUNTIF(H72:H74,"A")>0,"P"," ")) | I75: =IF(COUNTIF(I72:I74,"A")>=1,"C",IF(COUNTIF(I72:I74,"A")>0,"P"," ")) | J75: =IF(COUNTIF(J72:J74,"A")>=1,"C",IF(COUNTIF(J72:J74,"A")>0,"P"," ")) | K75: =IF(COUNTIF(K72:K74,"A")>=1,"C",IF(COUNTIF(K72:K74,"A")>0,"P"," ")) | ... R75: =IF(COUNTIF(R72:R74,"A")>=1,"C",IF(COUNTIF(R72:R74,"A")>0,"P"," "))
C76: Status: (P)artial or (C)omplete | D76: =IF(COUNTIF(D59:D75,"C")>4,"C",IF(COUNTIF(D59:D75,"C")>0,"P"," ")) | E76: =IF(COUNTIF(E59:E75,"C")>4,"C",IF(COUNTIF(E59:E75,"C")>0,"P"," ")) | F76: =IF(COUNTIF(F59:F75,"C")>4,"C",IF(COUNTIF(F59:F75,"C")>0,"P"," ")) | G76: =IF(COUNTIF(G59:G75,"C")>4,"C",IF(COUNTIF(G59:G75,"C")>0,"P"," ")) | H76: =IF(COUNTIF(H59:H75,"C")>4,"C",IF(COUNTIF(H59:H75,"C")>0,"P"," ")) | I76: =IF(COUNTIF(I59:I75,"C")>4,"C",IF(COUNTIF(I59:I75,"C")>0,"P"," ")) | J76: =IF(COUNTIF(J59:J75,"C")>4,"C",IF(COUNTIF(J59:J75,"C")>0,"P"," ")) | K76: =IF(COUNTIF(K59:K75,"C")>4,"C",IF(COUNTIF(K59:K75,"C")>0,"P"," ")) | ... R76: =IF(COUNTIF(R59:R75,"C")>4,"C",IF(COUNTIF(R59:R75,"C")>0,"P"," "))
B78: <<List Badge Here>>
B79: 1 | C79: <List Requirement Here>
C80: <List Requirement Here>
C81: <List Requirement Here>
C82: <List Requirement Here>
B83: 2 | C83: <List Requirement Here> | D83: =IF(COUNTIF(D80:D82,"A")>=1,"C",IF(COUNTIF(D80:D82,"A")>0,"P"," ")) | E83: =IF(COUNTIF(E80:E82,"A")>=1,"C",IF(COUNTIF(E80:E82,"A")>0,"P"," ")) | F83: =IF(COUNTIF(F80:F82,"A")>=1,"C",IF(COUNTIF(F80:F82,"A")>0,"P"," ")) | G83: =IF(COUNTIF(G80:G82,"A")>=1,"C",IF(COUNTIF(G80:G82,"A")>0,"P"," ")) | H83: =IF(COUNTIF(H80:H82,"A")>=1,"C",IF(COUNTIF(H80:H82,"A")>0,"P"," ")) | I83: =IF(COUNTIF(I80:I82,"A")>=1,"C",IF(COUNTIF(I80:I82,"A")>0,"P"," ")) | J83: =IF(COUNTIF(J80:J82,"A")>=1,"C",IF(COUNTIF(J80:J82,"A")>0,"P"," ")) | K83: =IF(COUNTIF(K80:K82,"A")>=1,"C",IF(COUNTIF(K80:K82,"A")>0,"P"," ")) | ... R83: =IF(COUNTIF(R80:R82,"A")>=1,"C",IF(COUNTIF(R80:R82,"A")>0,"P"," "))
C84: <List Requirement Here>
C85: <List Requirement Here>
C86: <List Requirement Here>
B87: 3 | C87: <List Requirement Here> | D87: =IF(COUNTIF(D84:D86,"A")>=1,"C",IF(COUNTIF(D84:D86,"A")>0,"P"," ")) | E87: =IF(COUNTIF(E84:E86,"A")>=1,"C",IF(COUNTIF(E84:E86,"A")>0,"P"," ")) | F87: =IF(COUNTIF(F84:F86,"A")>=1,"C",IF(COUNTIF(F84:F86,"A")>0,"P"," ")) | G87: =IF(COUNTIF(G84:G86,"A")>=1,"C",IF(COUNTIF(G84:G86,"A")>0,"P"," ")) | H87: =IF(COUNTIF(H84:H86,"A")>=1,"C",IF(COUNTIF(H84:H86,"A")>0,"P"," ")) | I87: =IF(COUNTIF(I84:I86,"A")>=1,"C",IF(COUNTIF(I84:I86,"A")>0,"P"," ")) | J87: =IF(COUNTIF(J84:J86,"A")>=1,"C",IF(COUNTIF(J84:J86,"A")>0,"P"," ")) | K87: =IF(COUNTIF(K84:K86,"A")>=1,"C",IF(COUNTIF(K84:K86,"A")>0,"P"," ")) | ... R87: =IF(COUNTIF(R84:R86,"A")>=1,"C",IF(COUNTIF(R84:R86,"A")>0,"P"," "))
C88: <List Requirement Here>
C89: <List Requirement Here>
C90: <List Requirement Here>
B91: 4 | C91: <List Requirement Here> | D91: =IF(COUNTIF(D88:D90,"A")>=1,"C",IF(COUNTIF(D88:D90,"A")>0,"P"," ")) | E91: =IF(COUNTIF(E88:E90,"A")>=1,"C",IF(COUNTIF(E88:E90,"A")>0,"P"," ")) | F91: =IF(COUNTIF(F88:F90,"A")>=1,"C",IF(COUNTIF(F88:F90,"A")>0,"P"," ")) | G91: =IF(COUNTIF(G88:G90,"A")>=1,"C",IF(COUNTIF(G88:G90,"A")>0,"P"," ")) | H91: =IF(COUNTIF(H88:H90,"A")>=1,"C",IF(COUNTIF(H88:H90,"A")>0,"P"," ")) | I91: =IF(COUNTIF(I88:I90,"A")>=1,"C",IF(COUNTIF(I88:I90,"A")>0,"P"," ")) | J91: =IF(COUNTIF(J88:J90,"A")>=1,"C",IF(COUNTIF(J88:J90,"A")>0,"P"," ")) | K91: =IF(COUNTIF(K88:K90,"A")>=1,"C",IF(COUNTIF(K88:K90,"A")>0,"P"," ")) | ... R91: =IF(COUNTIF(R88:R90,"A")>=1,"C",IF(COUNTIF(R88:R90,"A")>0,"P"," "))
C92: <List Requirement Here>
C93: <List Requirement Here>
C94: <List Requirement Here>
B95: 5 | C95: <List Requirement Here> | D95: =IF(COUNTIF(D92:D94,"A")>=1,"C",IF(COUNTIF(D92:D94,"A")>0,"P"," ")) | E95: =IF(COUNTIF(E92:E94,"A")>=1,"C",IF(COUNTIF(E92:E94,"A")>0,"P"," ")) | F95: =IF(COUNTIF(F92:F94,"A")>=1,"C",IF(COUNTIF(F92:F94,"A")>0,"P"," ")) | G95: =IF(COUNTIF(G92:G94,"A")>=1,"C",IF(COUNTIF(G92:G94,"A")>0,"P"," ")) | H95: =IF(COUNTIF(H92:H94,"A")>=1,"C",IF(COUNTIF(H92:H94,"A")>0,"P"," ")) | I95: =IF(COUNTIF(I92:I94,"A")>=1,"C",IF(COUNTIF(I92:I94,"A")>0,"P"," ")) | J95: =IF(COUNTIF(J92:J94,"A")>=1,"C",IF(COUNTIF(J92:J94,"A")>0,"P"," ")) | K95: =IF(COUNTIF(K92:K94,"A")>=1,"C",IF(COUNTIF(K92:K94,"A")>0,"P"," ")) | ... R95: =IF(COUNTIF(R92:R94,"A")>=1,"C",IF(COUNTIF(R92:R94,"A")>0,"P"," "))
C96: <List Requirement Here>
C97: <List Requirement Here>
C98: <List Requirement Here>
D99: =IF(COUNTIF(D96:D98,"A")>=1,"C",IF(COUNTIF(D96:D98,"A")>0,"P"," ")) | E99: =IF(COUNTIF(E96:E98,"A")>=1,"C",IF(COUNTIF(E96:E98,"A")>0,"P"," ")) | F99: =IF(COUNTIF(F96:F98,"A")>=1,"C",IF(COUNTIF(F96:F98,"A")>0,"P"," ")) | G99: =IF(COUNTIF(G96:G98,"A")>=1,"C",IF(COUNTIF(G96:G98,"A")>0,"P"," ")) | H99: =IF(COUNTIF(H96:H98,"A")>=1,"C",IF(COUNTIF(H96:H98,"A")>0,"P"," ")) | I99: =IF(COUNTIF(I96:I98,"A")>=1,"C",IF(COUNTIF(I96:I98,"A")>0,"P"," ")) | J99: =IF(COUNTIF(J96:J98,"A")>=1,"C",IF(COUNTIF(J96:J98,"A")>0,"P"," ")) | K99: =IF(COUNTIF(K96:K98,"A")>=1,"C",IF(COUNTIF(K96:K98,"A")>0,"P"," ")) | ... R99: =IF(COUNTIF(R96:R98,"A")>=1,"C",IF(COUNTIF(R96:R98,"A")>0,"P"," "))
C100: Status: (P)artial or (C)omplete | D100: =IF(COUNTIF(D83:D99,"C")>4,"C",IF(COUNTIF(D83:D99,"C")>0,"P"," ")) | E100: =IF(COUNTIF(E83:E99,"C")>4,"C",IF(COUNTIF(E83:E99,"C")>0,"P"," ")) | F100: =IF(COUNTIF(F83:F99,"C")>4,"C",IF(COUNTIF(F83:F99,"C")>0,"P"," ")) | G100: =IF(COUNTIF(G83:G99,"C")>4,"C",IF(COUNTIF(G83:G99,"C")>0,"P"," ")) | H100: =IF(COUNTIF(H83:H99,"C")>4,"C",IF(COUNTIF(H83:H99,"C")>0,"P"," ")) | I100: =IF(COUNTIF(I83:I99,"C")>4,"C",IF(COUNTIF(I83:I99,"C")>0,"P"," ")) | J100: =IF(COUNTIF(J83:J99,"C")>4,"C",IF(COUNTIF(J83:J99,"C")>0,"P"," ")) | K100: =IF(COUNTIF(K83:K99,"C")>4,"C",IF(COUNTIF(K83:K99,"C")>0,"P"," ")) | ... R100: =IF(COUNTIF(R83:R99,"C")>4,"C",IF(COUNTIF(R83:R99,"C")>0,"P"," "))
B102: <<List Badge Here>>
B103: 1 | C103: <List Requirement Here>
C104: <List Requirement Here>
C105: <List Requirement Here>
...

Sheet Bronze Award
B1: Service Unit: | C1: =Instructions!F3 -> 10 | D1: =Bekah!$A$1 -> Bekah | E1: =Elizabeth!$A$1 -> Elizabeth | F1: =Meagan!$A$1 -> Meagan | G1: ='Junior 4'!$A$1 -> Junior 4 | H1: ='Junior 5'!$A$1 -> Junior 5 | I1: ='Junior 6'!$A$1 -> Junior 6 | J1: ='Junior 7'!$A$1 -> Junior 7 | K1: ='Junior 8'!$A$1 -> Junior 8 | L1: ='Junior 9'!$A$1 -> Junior 9 | M1: ='Junior 10'!$A$1 -> Junior 10 | N1: ='Junior 11'!$A$1 -> Junior 11 | O1: ='Junior 12'!$A$1 -> Junior 12 | P1: ='Junior 13'!$A$1 -> Junior 13 | Q1: ='Junior 14'!$A$1 -> Junior 14 | R1: ='Junior 15'!$A$1 -> Junior 15
B2: Troop: | C2: =Instructions!F5 -> 40726
A3: Enter A for credit
D6: Bronze Award
B7: 1 | C7: Go on a Girl Scout Junior Journey | D7: a | E7: a
B8: 2 | C8: Build your Girl Scout Junior Team | D8: a | E8: a
B9: 3 | C9: Exploer your community | D9: a | E9: a
B10: 4 | C10: Choose your Bronze project | D10: a | E10: a
B11: 5 | C11: Make a plan | D11: a | E11: a
B12: 6 | C12: Put your plan in motion | D12: a | E12: a
B13: 7 | C13: Spread the word | D13: a | E13: a
C14: Status: (P)artial or (C)omplete | D14: =IF(COUNTIF(D7:D13,"A")=7,"C",IF(COUNTIF(D7:D13,"A")>0,"P"," ")) -> C | E14: =IF(COUNTIF(E7:E13,"A")=7,"C",IF(COUNTIF(E7:E13,"A")>0,"P"," ")) -> C | F14: =IF(COUNTIF(F7:F13,"A")=7,"C",IF(COUNTIF(F7:F13,"A")>0,"P"," ")) | G14: =IF(COUNTIF(G7:G13,"A")=7,"C",IF(COUNTIF(G7:G13,"A")>0,"P"," ")) | H14: =IF(COUNTIF(H7:H13,"A")=7,"C",IF(COUNTIF(H7:H13,"A")>0,"P"," ")) | I14: =IF(COUNTIF(I7:I13,"A")=7,"C",IF(COUNTIF(I7:I13,"A")>0,"P"," ")) | J14: =IF(COUNTIF(J7:J13,"A")=7,"C",IF(COUNTIF(J7:J13,"A")>0,"P"," ")) | K14: =IF(COUNTIF(K7:K13,"A")=7,"C",IF(COUNTIF(K7:K13,"A")>0,"P"," ")) | ... R14: =IF(COUNTIF(R7:R13,"A")=7,"C",IF(COUNTIF(R7:R13,"A")>0,"P"," "))

Sheet Bridging
B1: Service Unit | C1: 0 | D1: =Bekah!$A$1 -> Bekah | E1: =Elizabeth!$A$1 -> Elizabeth | F1: =Meagan!$A$1 -> Meagan | G1: ='Junior 4'!$A$1 -> Junior 4 | H1: ='Junior 5'!$A$1 -> Junior 5 | I1: ='Junior 6'!$A$1 -> Junior 6 | J1: ='Junior 7'!$A$1 -> Junior 7 | K1: ='Junior 8'!$A$1 -> Junior 8 | L1: ='Junior 9'!$A$1 -> Junior 9 | M1: ='Junior 10'!$A$1 -> Junior 10 | N1: ='Junior 11'!$A$1 -> Junior 11 | O1: ='Junior 12'!$A$1 -> Junior 12 | P1: ='Junior 13'!$A$1 -> Junior 13 | Q1: ='Junior 14'!$A$1 -> Junior 14 | R1: ='Junior 15'!$A$1 -> Junior 15
B2: Troop | C2: 0
A4: Enter A for credit
B6: Pass It On!
B7: 1 | C7: Invite Brownies to attend one of your
B8: 2 | C8: Invite girls your age who aren't Girl
B9: 3 | C9: Team up with the girls in your group | D9: a | E9: a | F9: a
D10: =IF(COUNTIF(D7:D9,"A")>=1,"C",IF(COUNTIF(D7:D9,"A")>0,"P"," ")) -> C | E10: =IF(COUNTIF(E7:E9,"A")>=1,"C",IF(COUNTIF(E7:E9,"A")>0,"P"," ")) -> C | F10: =IF(COUNTIF(F7:F9,"A")>=1,"C",IF(COUNTIF(F7:F9,"A")>0,"P"," ")) -> C | G10: =IF(COUNTIF(G7:G9,"A")>=1,"C",IF(COUNTIF(G7:G9,"A")>0,"P"," ")) | H10: =IF(COUNTIF(H7:H9,"A")>=1,"C",IF(COUNTIF(H7:H9,"A")>0,"P"," ")) | I10: =IF(COUNTIF(I7:I9,"A")>=1,"C",IF(COUNTIF(I7:I9,"A")>0,"P"," ")) | J10: =IF(COUNTIF(J7:J9,"A")>=1,"C",IF(COUNTIF(J7:J9,"A")>0,"P"," ")) | K10: =IF(COUNTIF(K7:K9,"A")>=1,"C",IF(COUNTIF(K7:K9,"A")>0,"P"," ")) | ... R10: =IF(COUNTIF(R7:R9,"A")>=1,"C",IF(COUNTIF(R7:R9,"A")>0,"P"," "))
B11: Look Ahead!
B12: 1 | C12: Ask a Girl Scout Cadette to talk to you | D12: a | E12: a | F12: a
B13: 2 | C13: Do you want to work on your Girl Scout | D13: a | E13: a | F13: a
B14: 3 | C14: Talk to Cadettes about which Journeys | D14: a | E14: a | F14: a
D15: =IF(COUNTIF(D12:D14,"A")>=1,"C",IF(COUNTIF(D12:D14,"A")>0,"P"," ")) -> C | E15: =IF(COUNTIF(E12:E14,"A")>=1,"C",IF(COUNTIF(E12:E14,"A")>0,"P"," ")) -> C | F15: =IF(COUNTIF(F12:F14,"A")>=1,"C",IF(COUNTIF(F12:F14,"A")>0,"P"," ")) -> C | G15: =IF(COUNTIF(G12:G14,"A")>=1,"C",IF(COUNTIF(G12:G14,"A")>0,"P"," ")) | H15: =IF(COUNTIF(H12:H14,"A")>=1,"C",IF(COUNTIF(H12:H14,"A")>0,"P"," ")) | I15: =IF(COUNTIF(I12:I14,"A")>=1,"C",IF(COUNTIF(I12:I14,"A")>0,"P"," ")) | J15: =IF(COUNTIF(J12:J14,"A")>=1,"C",IF(COUNTIF(J12:J14,"A")>0,"P"," ")) | K15: =IF(COUNTIF(K12:K14,"A")>=1,"C",IF(COUNTIF(K12:K14,"A")>0,"P"," ")) | ... R15: =IF(COUNTIF(R12:R14,"A")>=1,"C",IF(COUNTIF(R12:R14,"A")>0,"P"," "))
C16: Plan a Ceremony
D17: =IF(COUNTIF(D16:D16,"A")=1,"C",IF(COUNTIF(D16:D16,"A")>0,"P"," ")) | E17: =IF(COUNTIF(E16:E16,"A")=1,"C",IF(COUNTIF(E16:E16,"A")>0,"P"," ")) | F17: =IF(COUNTIF(F16:F16,"A")=1,"C",IF(COUNTIF(F16:F16,"A")>0,"P"," ")) | G17: =IF(COUNTIF(G16:G16,"A")=1,"C",IF(COUNTIF(G16:G16,"A")>0,"P"," ")) | H17: =IF(COUNTIF(H16:H16,"A")=1,"C",IF(COUNTIF(H16:H16,"A")>0,"P"," ")) | I17: =IF(COUNTIF(I16:I16,"A")=1,"C",IF(COUNTIF(I16:I16,"A")>0,"P"," ")) | J17: =IF(COUNTIF(J16:J16,"A")=1,"C",IF(COUNTIF(J16:J16,"A")>0,"P"," ")) | K17: =IF(COUNTIF(K16:K16,"A")=1,"C",IF(COUNTIF(K16:K16,"A")>0,"P"," ")) | ... R17: =IF(COUNTIF(R16:R16,"A")=1,"C",IF(COUNTIF(R16:R16,"A")>0,"P"," "))
C18: Status: (P)artial or (C)omplete | D18: =IF(COUNTIF(D7:D17,"C")=3,"C",IF(COUNTIF(D7:D17,"C")>0,"P"," ")) -> P | E18: =IF(COUNTIF(E7:E17,"C")=3,"C",IF(COUNTIF(E7:E17,"C")>0,"P"," ")) -> P | F18: =IF(COUNTIF(F7:F17,"C")=3,"C",IF(COUNTIF(F7:F17,"C")>0,"P"," ")) -> P | G18: =IF(COUNTIF(G7:G17,"C")=3,"C",IF(COUNTIF(G7:G17,"C")>0,"P"," ")) | H18: =IF(COUNTIF(H7:H17,"C")=3,"C",IF(COUNTIF(H7:H17,"C")>0,"P"," ")) | I18: =IF(COUNTIF(I7:I17,"C")=3,"C",IF(COUNTIF(I7:I17,"C")>0,"P"," ")) | J18: =IF(COUNTIF(J7:J17,"C")=3,"C",IF(COUNTIF(J7:J17,"C")>0,"P"," ")) | K18: =IF(COUNTIF(K7:K17,"C")=3,"C",IF(COUNTIF(K7:K17,"C")>0,"P"," ")) | ... R18: =IF(COUNTIF(R7:R17,"C")=3,"C",IF(COUNTIF(R7:R17,"C")>0,"P"," "))

Sheet Age-Level
B1: Service Unit: | C1: =Instructions!F3 -> 10 | D1: =Bekah!$A$1 -> Bekah | E1: =Elizabeth!$A$1 -> Elizabeth | F1: =Meagan!$A$1 -> Meagan | G1: ='Junior 4'!$A$1 -> Junior 4 | H1: ='Junior 5'!$A$1 -> Junior 5 | I1: ='Junior 6'!$A$1 -> Junior 6 | J1: ='Junior 7'!$A$1 -> Junior 7 | K1: ='Junior 8'!$A$1 -> Junior 8 | L1: ='Junior 9'!$A$1 -> Junior 9 | M1: ='Junior 10'!$A$1 -> Junior 10 | N1: ='Junior 11'!$A$1 -> Junior 11 | O1: ='Junior 12'!$A$1 -> Junior 12 | P1: ='Junior 13'!$A$1 -> Junior 13 | Q1: ='Junior 14'!$A$1 -> Junior 14 | R1: ='Junior 15'!$A$1 -> Junior 15
B2: Troop: | C2: =Instructions!F5 -> 40726
A4: Enter A for credit
B5: Junior Aide Award | D5: http://trax.boy-scouts.net/pdf/JrAide.pdf
B6: 1 | C6: Get Ready | D6: a
B7: 2 | C7: Get Set | D7: a
B8: 3 | C8: Go! | F8: a
C9: Status: (P)artial or (C)omplete | D9: =IF(COUNTIF(D6:D8,"A")=3,"C",IF(COUNTIF(D6:D8,"A")>0,"P"," ")) -> P | E9: =IF(COUNTIF(E6:E8,"A")=3,"C",IF(COUNTIF(E6:E8,"A")>0,"P"," ")) | F9: =IF(COUNTIF(F6:F8,"A")=3,"C",IF(COUNTIF(F6:F8,"A")>0,"P"," ")) -> P | G9: =IF(COUNTIF(G6:G8,"A")=3,"C",IF(COUNTIF(G6:G8,"A")>0,"P"," ")) | H9: =IF(COUNTIF(H6:H8,"A")=3,"C",IF(COUNTIF(H6:H8,"A")>0,"P"," ")) | I9: =IF(COUNTIF(I6:I8,"A")=3,"C",IF(COUNTIF(I6:I8,"A")>0,"P"," ")) | J9: =IF(COUNTIF(J6:J8,"A")=3,"C",IF(COUNTIF(J6:J8,"A")>0,"P"," ")) | K9: =IF(COUNTIF(K6:K8,"A")=3,"C",IF(COUNTIF(K6:K8,"A")>0,"P"," ")) | ... R9: =IF(COUNTIF(R6:R8,"A")=3,"C",IF(COUNTIF(R6:R8,"A")>0,"P"," "))
B10: Cookies | D10: Cookies
C11: Cookie Rally (Year 1)
C12: Cookie Sales (Year 1)
C13: Cookie Pin (Year 1)
C14: Cookie Rally (Year 2) | D14: a
C15: Cookie Sales (Year 2)
C16: Cookie Pin (Year 2)
B17: Fall Sales
C18: Fall Sales (Year 1)
C19: Fall Sales (Year 2)
B20: Thinking Day | D20: World Thinking Day
C21: Thinking Day (Year 1)
C22: Thinking Day (Year 2)
B23: Global Action award | D23: Global Action Award
C24: Global Action Award
B25: Journey Summit Pin
C26: Journey Summit Pin | D26: =IF(COUNTIF(Journeys!D4:D49,"C")>8,"C",IF(COUNTIF(Journeys!D4:D49,"C")>0,"P"," ")) -> P | E26: =IF(COUNTIF(Journeys!E4:E49,"C")>8,"C",IF(COUNTIF(Journeys!E4:E49,"C")>0,"P"," ")) -> P | F26: =IF(COUNTIF(Journeys!F4:F49,"C")>8,"C",IF(COUNTIF(Journeys!F4:F49,"C")>0,"P"," ")) | G26: =IF(COUNTIF(Journeys!G4:G49,"C")>8,"C",IF(COUNTIF(Journeys!G4:G49,"C")>0,"P"," ")) | H26: =IF(COUNTIF(Journeys!H4:H49,"C")>8,"C",IF(COUNTIF(Journeys!H4:H49,"C")>0,"P"," ")) | I26: =IF(COUNTIF(Journeys!I4:I49,"C")>8,"C",IF(COUNTIF(Journeys!I4:I49,"C")>0,"P"," ")) | J26: =IF(COUNTIF(Journeys!J4:J49,"C")>8,"C",IF(COUNTIF(Journeys!J4:J49,"C")>0,"P"," ")) | K26: =IF(COUNTIF(Journeys!K4:K49,"C")>8,"C",IF(COUNTIF(Journeys!K4:K49,"C")>0,"P"," ")) | ... R26: =IF(COUNTIF(Journeys!R4:R49,"C")>8,"C",IF(COUNTIF(Journeys!R4:R49,"C")>0,"P"," "))
B27: International Friendship Recognition pin
C28: International Friendship Recognition
B29: Investiture & Rededication Patches
C30: Investiture
C31: Rededication (1st year) | D31: a | E31: a | F31: a
C32: Rededication (2nd year) | D32: a | E32: a
C33: Rededication (3rd year)
C34: Rededication (4th year)
C35: Rededication (5th year)
B36: My Promise, My Faith (Year 1)
B37: 1 | C37: Choose one line from the Law
B38: 2 | C38: Find a woman in your community
B39: 3 | C39: Gather three inspirational quotes
B40: 4 | C40: Make something to remind you
B41: 5 | C41: Make a commitment to live what
C42: Status: (P)artial or (C)omplete | D42: =IF(COUNTIF(D37:D41,"A")>4,"C",IF(COUNTIF(D37:D41,"A")>0,"P"," ")) | E42: =IF(COUNTIF(E37:E41,"A")>4,"C",IF(COUNTIF(E37:E41,"A")>0,"P"," ")) | F42: =IF(COUNTIF(F37:F41,"A")>4,"C",IF(COUNTIF(F37:F41,"A")>0,"P"," ")) | G42: =IF(COUNTIF(G37:G41,"A")>4,"C",IF(COUNTIF(G37:G41,"A")>0,"P"," ")) | H42: =IF(COUNTIF(H37:H41,"A")>4,"C",IF(COUNTIF(H37:H41,"A")>0,"P"," ")) | I42: =IF(COUNTIF(I37:I41,"A")>4,"C",IF(COUNTIF(I37:I41,"A")>0,"P"," ")) | J42: =IF(COUNTIF(J37:J41,"A")>4,"C",IF(COUNTIF(J37:J41,"A")>0,"P"," ")) | K42: =IF(COUNTIF(K37:K41,"A")>4,"C",IF(COUNTIF(K37:K41,"A")>0,"P"," ")) | ... R42: =IF(COUNTIF(R37:R41,"A")>4,"C",IF(COUNTIF(R37:R41,"A")>0,"P"," "))
B43: My Promise, My Faith (Year 2)
B44: 1 | C44: Choose one line from the Law
B45: 2 | C45: Find a woman in your community
B46: 3 | C46: Gather three inspirational quotes
B47: 4 | C47: Make something to remind you
B48: 5 | C48: Make a commitment to live what
C49: Status: (P)artial or (C)omplete | D49: =IF(COUNTIF(D44:D48,"A")>4,"C",IF(COUNTIF(D44:D48,"A")>0,"P"," ")) | E49: =IF(COUNTIF(E44:E48,"A")>4,"C",IF(COUNTIF(E44:E48,"A")>0,"P"," ")) | F49: =IF(COUNTIF(F44:F48,"A")>4,"C",IF(COUNTIF(F44:F48,"A")>0,"P"," ")) | G49: =IF(COUNTIF(G44:G48,"A")>4,"C",IF(COUNTIF(G44:G48,"A")>0,"P"," ")) | H49: =IF(COUNTIF(H44:H48,"A")>4,"C",IF(COUNTIF(H44:H48,"A")>0,"P"," ")) | I49: =IF(COUNTIF(I44:I48,"A")>4,"C",IF(COUNTIF(I44:I48,"A")>0,"P"," ")) | J49: =IF(COUNTIF(J44:J48,"A")>4,"C",IF(COUNTIF(J44:J48,"A")>0,"P"," ")) | K49: =IF(COUNTIF(K44:K48,"A")>4,"C",IF(COUNTIF(K44:K48,"A")>0,"P"," ")) | ... R49: =IF(COUNTIF(R44:R48,"A")>4,"C",IF(COUNTIF(R44:R48,"A")>0,"P"," "))
B50: Safety Award | D50: (do all five)
B51: 1 | C51: Find out what the most common
B52: 2 | C52: Conduct an emergency evacuation
B53: 3 | C53: Find out how to read weather signs
B54: 4 | C54: Learn about bicycle safety
B55: 5 | C55: Go on a hazard-identification walk
C56: Status: (P)artial or (C)omplete | D56: =IF(COUNTIF(D51:D55,"A")=5,"C",IF(COUNTIF(D51:D55,"A")>0,"P"," ")) | E56: =IF(COUNTIF(E51:E55,"A")=5,"C",IF(COUNTIF(E51:E55,"A")>0,"P"," ")) | F56: =IF(COUNTIF(F51:F55,"A")=5,"C",IF(COUNTIF(F51:F55,"A")>0,"P"," ")) | G56: =IF(COUNTIF(G51:G55,"A")=5,"C",IF(COUNTIF(G51:G55,"A")>0,"P"," ")) | H56: =IF(COUNTIF(H51:H55,"A")=5,"C",IF(COUNTIF(H51:H55,"A")>0,"P"," ")) | I56: =IF(COUNTIF(I51:I55,"A")=5,"C",IF(COUNTIF(I51:I55,"A")>0,"P"," ")) | J56: =IF(COUNTIF(J51:J55,"A")=5,"C",IF(COUNTIF(J51:J55,"A")>0,"P"," ")) | K56: =IF(COUNTIF(K51:K55,"A")=5,"C",IF(COUNTIF(K51:K55,"A")>0,"P"," ")) | ... R56: =IF(COUNTIF(R51:R55,"A")=5,"C",IF(COUNTIF(R51:R55,"A")>0,"P"," "))

Sheet Fun Patches
B1: Service Unit: | C1: =Instructions!F3 -> 10 | D1: =Bekah!$A$1 -> Bekah | E1: =Elizabeth!$A$1 -> Elizabeth | F1: =Meagan!$A$1 -> Meagan | G1: ='Junior 4'!$A$1 -> Junior 4 | H1: ='Junior 5'!$A$1 -> Junior 5 | I1: ='Junior 6'!$A$1 -> Junior 6 | J1: ='Junior 7'!$A$1 -> Junior 7 | K1: ='Junior 8'!$A$1 -> Junior 8 | L1: ='Junior 9'!$A$1 -> Junior 9 | M1: ='Junior 10'!$A$1 -> Junior 10 | N1: ='Junior 11'!$A$1 -> Junior 11 | O1: ='Junior 12'!$A$1 -> Junior 12 | P1: ='Junior 13'!$A$1 -> Junior 13 | Q1: ='Junior 14'!$A$1 -> Junior 14 | R1: ='Junior 15'!$A$1 -> Junior 15
B2: Troop: | C2: =Instructions!F5 -> 40726
A4: Enter A for credit
C5: <LIST PATCH HERE>
C6: <LIST PATCH HERE>
C7: <LIST PATCH HERE>
C8: <LIST PATCH HERE>
C9: <LIST PATCH HERE>
C10: <LIST PATCH HERE>
C11: <LIST PATCH HERE>
C12: <LIST PATCH HERE>
C13: <LIST PATCH HERE>
C14: <LIST PATCH HERE>
C15: <LIST PATCH HERE>
C16: <LIST PATCH HERE>
... C54: <LIST PATCH HERE>

Sheet Summary
A1: Summary Page | B1: =Bekah!$A$1 -> Bekah | D1: =Elizabeth!$A$1 -> Elizabeth | F1: =Meagan!$A$1 -> Meagan | H1: ='Junior 4'!$A$1 -> Junior 4 | J1: ='Junior 5'!$A$1 -> Junior 5 | L1: ='Junior 6'!$A$1 -> Junior 6 | N1: ='Junior 7'!$A$1 -> Junior 7 | P1: ='Junior 8'!$A$1 -> Junior 8 | R1: ='Junior 9'!$A$1 -> Junior 9 | T1: ='Junior 10'!$A$1 -> Junior 10 | V1: ='Junior 11'!$A$1 -> Junior 11 | X1: ='Junior 12'!$A$1 -> Junior 12 | Z1: ='Junior 13'!$A$1 -> Junior 13 | AB1: ='Junior 14'!$A$1 -> Junior 14 | AD1: ='Junior 15'!$A$1 -> Junior 15
A2: Enter Y for yes when you have presented the award | B2: Earned | C2: Awarded | D2: Earned | E2: Awarded | F2: Earned | G2: Awarded | H2: Earned | I2: Awarded | J2: Earned | K2: Awarded | L2: Earned | M2: Awarded | N2: Earned | O2: Awarded | P2: Earned | Q2: Awarded | R2: Earned | S2: Awarded | T2: Earned | U2: Awarded | V2: Earned | W2: Awarded | X2: Earned | Y2: Awarded | Z2: Earned | AA2: Awarded | AB2: Earned | AC2: Awarded | AD2: Earned | AE2: Awarded
A3: =Badges!$A$5 -> It's Your World -- Change It!
A4: =Badges!$B$6 -> Digital Photographer | B4: =IF(Badges!D28="C","E","") | D4: =IF(Badges!E28="C","E","") -> E | F4: =IF(Badges!F28="C","E","") | H4: =IF(Badges!G28="C","E","") | J4: =IF(Badges!H28="C","E","") | L4: =IF(Badges!I28="C","E","") | N4: =IF(Badges!J28="C","E","") | P4: =IF(Badges!K28="C","E","") | R4: =IF(Badges!L28="C","E","") | T4: =IF(Badges!M28="C","E","") | V4: =IF(Badges!N28="C","E","") | X4: =IF(Badges!O28="C","E","") | Z4: =IF(Badges!P28="C","E","") | AB4: =IF(Badges!Q28="C","E","") | AD4: =IF(Badges!R28="C","E","")
A5: =Badges!B29 -> Staying Fit | B5: =IF(Badges!D51="C","E","") | D5: =IF(Badges!E51="C","E","") | F5: =IF(Badges!F51="C","E","") | H5: =IF(Badges!G51="C","E","") | J5: =IF(Badges!H51="C","E","") | L5: =IF(Badges!I51="C","E","") | N5: =IF(Badges!J51="C","E","") | P5: =IF(Badges!K51="C","E","") | R5: =IF(Badges!L51="C","E","") | T5: =IF(Badges!M51="C","E","") | V5: =IF(Badges!N51="C","E","") | X5: =IF(Badges!O51="C","E","") | Z5: =IF(Badges!P51="C","E","") | AB5: =IF(Badges!Q51="C","E","") | AD5: =IF(Badges!R51="C","E","")
A6: =Badges!B52 -> Musician | B6: =IF(Badges!D74="C","E","") | D6: =IF(Badges!E74="C","E","") | F6: =IF(Badges!F74="C","E","") | H6: =IF(Badges!G74="C","E","") | J6: =IF(Badges!H74="C","E","") | L6: =IF(Badges!I74="C","E","") | N6: =IF(Badges!J74="C","E","") | P6: =IF(Badges!K74="C","E","") | R6: =IF(Badges!L74="C","E","") | T6: =IF(Badges!M74="C","E","") | V6: =IF(Badges!N74="C","E","") | X6: =IF(Badges!O74="C","E","") | Z6: =IF(Badges!P74="C","E","") | AB6: =IF(Badges!Q74="C","E","") | AD6: =IF(Badges!R74="C","E","")
A7: =Badges!B75 -> Entertainment Technology | B7: =IF(Badges!D97="C","E","") | D7: =IF(Badges!E97="C","E","") | F7: =IF(Badges!F97="C","E","") | H7: =IF(Badges!G97="C","E","") | J7: =IF(Badges!H97="C","E","") | L7: =IF(Badges!I97="C","E","") | N7: =IF(Badges!J97="C","E","") | P7: =IF(Badges!K97="C","E","") | R7: =IF(Badges!L97="C","E","") | T7: =IF(Badges!M97="C","E","") | V7: =IF(Badges!N97="C","E","") | X7: =IF(Badges!O97="C","E","") | Z7: =IF(Badges!P97="C","E","") | AB7: =IF(Badges!Q97="C","E","") | AD7: =IF(Badges!R97="C","E","")
A8: =Badges!B98 -> Scribe | B8: =IF(Badges!D120="C","E","") | D8: =IF(Badges!E120="C","E","") | F8: =IF(Badges!F120="C","E","") | H8: =IF(Badges!G120="C","E","") | J8: =IF(Badges!H120="C","E","") | L8: =IF(Badges!I120="C","E","") | N8: =IF(Badges!J120="C","E","") | P8: =IF(Badges!K120="C","E","") | R8: =IF(Badges!L120="C","E","") | T8: =IF(Badges!M120="C","E","") | V8: =IF(Badges!N120="C","E","") | X8: =IF(Badges!O120="C","E","") | Z8: =IF(Badges!P120="C","E","") | AB8: =IF(Badges!Q120="C","E","") | AD8: =IF(Badges!R120="C","E","")
A9: =Badges!A121 -> It's Your Planet -- Love It!
A10: =Badges!B122 -> Jeweler | B10: =IF(Badges!D144="C","E","") | D10: =IF(Badges!E144="C","E","") | F10: =IF(Badges!F144="C","E","") | H10: =IF(Badges!G144="C","E","") | J10: =IF(Badges!H144="C","E","") | L10: =IF(Badges!I144="C","E","") | N10: =IF(Badges!J144="C","E","") | P10: =IF(Badges!K144="C","E","") | R10: =IF(Badges!L144="C","E","") | T10: =IF(Badges!M144="C","E","") | V10: =IF(Badges!N144="C","E","") | X10: =IF(Badges!O144="C","E","") | Z10: =IF(Badges!P144="C","E","") | AB10: =IF(Badges!Q144="C","E","") | AD10: =IF(Badges!R144="C","E","")
A11: =Badges!B145 -> Gardener | B11: =IF(Badges!D167="C","E","") | D11: =IF(Badges!E167="C","E","") | F11: =IF(Badges!F167="C","E","") | H11: =IF(Badges!G167="C","E","") | J11: =IF(Badges!H167="C","E","") | L11: =IF(Badges!I167="C","E","") | N11: =IF(Badges!J167="C","E","") | P11: =IF(Badges!K167="C","E","") | R11: =IF(Badges!L167="C","E","") | T11: =IF(Badges!M167="C","E","") | V11: =IF(Badges!N167="C","E","") | X11: =IF(Badges!O167="C","E","") | Z11: =IF(Badges!P167="C","E","") | AB11: =IF(Badges!Q167="C","E","") | AD11: =IF(Badges!R167="C","E","")
A12: =Badges!B168 -> Detective | B12: =IF(Badges!D190="C","E","") | D12: =IF(Badges!E190="C","E","") | F12: =IF(Badges!F190="C","E","") | H12: =IF(Badges!G190="C","E","") | J12: =IF(Badges!H190="C","E","") | L12: =IF(Badges!I190="C","E","") | N12: =IF(Badges!J190="C","E","") | P12: =IF(Badges!K190="C","E","") | R12: =IF(Badges!L190="C","E","") | T12: =IF(Badges!M190="C","E","") | V12: =IF(Badges!N190="C","E","") | X12: =IF(Badges!O190="C","E","") | Z12: =IF(Badges!P190="C","E","") | AB12: =IF(Badges!Q190="C","E","") | AD12: =IF(Badges!R190="C","E","")
A13: =Badges!B191 -> Camper | B13: =IF(Badges!D213="C","E","") | D13: =IF(Badges!E213="C","E","") | F13: =IF(Badges!F213="C","E","") | H13: =IF(Badges!G213="C","E","") | J13: =IF(Badges!H213="C","E","") | L13: =IF(Badges!I213="C","E","") | N13: =IF(Badges!J213="C","E","") | P13: =IF(Badges!K213="C","E","") | R13: =IF(Badges!L213="C","E","") | T13: =IF(Badges!M213="C","E","") | V13: =IF(Badges!N213="C","E","") | X13: =IF(Badges!O213="C","E","") | Z13: =IF(Badges!P213="C","E","") | AB13: =IF(Badges!Q213="C","E","") | AD13: =IF(Badges!R213="C","E","")
A14: =Badges!B214 -> Independence | B14: =IF(Badges!D236="C","E","") | D14: =IF(Badges!E236="C","E","") | F14: =IF(Badges!F236="C","E","") | H14: =IF(Badges!G236="C","E","") | J14: =IF(Badges!H236="C","E","") | L14: =IF(Badges!I236="C","E","") | N14: =IF(Badges!J236="C","E","") | P14: =IF(Badges!K236="C","E","") | R14: =IF(Badges!L236="C","E","") | T14: =IF(Badges!M236="C","E","") | V14: =IF(Badges!N236="C","E","") | X14: =IF(Badges!O236="C","E","") | Z14: =IF(Badges!P236="C","E","") | AB14: =IF(Badges!Q236="C","E","") | AD14: =IF(Badges!R236="C","E","")
A15: =Badges!A237 -> It's Your Story -- Tell It!
A16: =Badges!B238 -> Gecacher | B16: =IF(Badges!D260="C","E","") | D16: =IF(Badges!E260="C","E","") | F16: =IF(Badges!F260="C","E","") | H16: =IF(Badges!G260="C","E","") | J16: =IF(Badges!H260="C","E","") | L16: =IF(Badges!I260="C","E","") | N16: =IF(Badges!J260="C","E","") | P16: =IF(Badges!K260="C","E","") | R16: =IF(Badges!L260="C","E","") | T16: =IF(Badges!M260="C","E","") | V16: =IF(Badges!N260="C","E","") | X16: =IF(Badges!O260="C","E","") | Z16: =IF(Badges!P260="C","E","") | AB16: =IF(Badges!Q260="C","E","") | AD16: =IF(Badges!R260="C","E","")
A17: =Badges!B261 -> Animal Habitats | B17: =IF(Badges!D283="C","E","") -> E | C17: y | D17: =IF(Badges!E283="C","E","") -> E | E17: y | F17: =IF(Badges!F283="C","E","") | H17: =IF(Badges!G283="C","E","") | J17: =IF(Badges!H283="C","E","") | L17: =IF(Badges!I283="C","E","") | N17: =IF(Badges!J283="C","E","") | P17: =IF(Badges!K283="C","E","") | R17: =IF(Badges!L283="C","E","") | T17: =IF(Badges!M283="C","E","") | V17: =IF(Badges!N283="C","E","") | X17: =IF(Badges!O283="C","E","") | Z17: =IF(Badges!P283="C","E","") | AB17: =IF(Badges!Q283="C","E","") | AD17: =IF(Badges!R283="C","E","")
A18: =Badges!B284 -> Playing the Past | B18: =IF(Badges!D306="C","E","") | D18: =IF(Badges!E306="C","E","") | F18: =IF(Badges!F306="C","E","") | H18: =IF(Badges!G306="C","E","") | J18: =IF(Badges!H306="C","E","") | L18: =IF(Badges!I306="C","E","") | N18: =IF(Badges!J306="C","E","") | P18: =IF(Badges!K306="C","E","") | R18: =IF(Badges!L306="C","E","") | T18: =IF(Badges!M306="C","E","") | V18: =IF(Badges!N306="C","E","") | X18: =IF(Badges!O306="C","E","") | Z18: =IF(Badges!P306="C","E","") | AB18: =IF(Badges!Q306="C","E","") | AD18: =IF(Badges!R306="C","E","")
A19: =Badges!B307 -> Product Designer | B19: =IF(Badges!D329="C","E","") | D19: =IF(Badges!E329="C","E","") | F19: =IF(Badges!F329="C","E","") | H19: =IF(Badges!G329="C","E","") | J19: =IF(Badges!H329="C","E","") | L19: =IF(Badges!I329="C","E","") | N19: =IF(Badges!J329="C","E","") | P19: =IF(Badges!K329="C","E","") | R19: =IF(Badges!L329="C","E","") | T19: =IF(Badges!M329="C","E","") | V19: =IF(Badges!N329="C","E","") | X19: =IF(Badges!O329="C","E","") | Z19: =IF(Badges!P329="C","E","") | AB19: =IF(Badges!Q329="C","E","") | AD19: =IF(Badges!R329="C","E","")
A20: =Badges!B330 -> Social Butterfly | B20: =IF(Badges!D352="C","E","") | D20: =IF(Badges!E352="C","E","") | F20: =IF(Badges!F352="C","E","") | H20: =IF(Badges!G352="C","E","") | J20: =IF(Badges!H352="C","E","") | L20: =IF(Badges!I352="C","E","") | N20: =IF(Badges!J352="C","E","") | P20: =IF(Badges!K352="C","E","") | R20: =IF(Badges!L352="C","E","") | T20: =IF(Badges!M352="C","E","") | V20: =IF(Badges!N352="C","E","") | X20: =IF(Badges!O352="C","E","") | Z20: =IF(Badges!P352="C","E","") | AB20: =IF(Badges!Q352="C","E","") | AD20: =IF(Badges!R352="C","E","")
A21: =Badges!A353 -> Legacy
A22: =Badges!B354 -> Drawing | B22: =IF(Badges!D376="C","E","") -> E | D22: =IF(Badges!E376="C","E","") -> E | F22: =IF(Badges!F376="C","E","") -> E | H22: =IF(Badges!G376="C","E","") | J22: =IF(Badges!H376="C","E","") | L22: =IF(Badges!I376="C","E","") | N22: =IF(Badges!J376="C","E","") | P22: =IF(Badges!K376="C","E","") | R22: =IF(Badges!L376="C","E","") | T22: =IF(Badges!M376="C","E","") | V22: =IF(Badges!N376="C","E","") | X22: =IF(Badges!O376="C","E","") | Z22: =IF(Badges!P376="C","E","") | AB22: =IF(Badges!Q376="C","E","") | AD22: =IF(Badges!R376="C","E","")
A23: =Badges!B377 -> Practice with Purpose | B23: =IF(Badges!D399="C","E","") | D23: =IF(Badges!E399="C","E","") | F23: =IF(Badges!F399="C","E","") | H23: =IF(Badges!G399="C","E","") | J23: =IF(Badges!H399="C","E","") | L23: =IF(Badges!I399="C","E","") | N23: =IF(Badges!J399="C","E","") | P23: =IF(Badges!K399="C","E","") | R23: =IF(Badges!L399="C","E","") | T23: =IF(Badges!M399="C","E","") | V23: =IF(Badges!N399="C","E","") | X23: =IF(Badges!O399="C","E","") | Z23: =IF(Badges!P399="C","E","") | AB23: =IF(Badges!Q399="C","E","") | AD23: =IF(Badges!R399="C","E","")
A24: =Badges!B400 -> Inside Government | B24: =IF(Badges!D422="C","E","") | D24: =IF(Badges!E422="C","E","") | F24: =IF(Badges!F422="C","E","") | H24: =IF(Badges!G422="C","E","") | J24: =IF(Badges!H422="C","E","") | L24: =IF(Badges!I422="C","E","") | N24: =IF(Badges!J422="C","E","") | P24: =IF(Badges!K422="C","E","") | R24: =IF(Badges!L422="C","E","") | T24: =IF(Badges!M422="C","E","") | V24: =IF(Badges!N422="C","E","") | X24: =IF(Badges!O422="C","E","") | Z24: =IF(Badges!P422="C","E","") | AB24: =IF(Badges!Q422="C","E","") | AD24: =IF(Badges!R422="C","E","")
A25: =Badges!B423 -> Simple Meals | B25: =IF(Badges!D445="C","E","") | D25: =IF(Badges!E445="C","E","") | F25: =IF(Badges!F445="C","E","") | H25: =IF(Badges!G445="C","E","") | J25: =IF(Badges!H445="C","E","") | L25: =IF(Badges!I445="C","E","") | N25: =IF(Badges!J445="C","E","") | P25: =IF(Badges!K445="C","E","") | R25: =IF(Badges!L445="C","E","") | T25: =IF(Badges!M445="C","E","") | V25: =IF(Badges!N445="C","E","") | X25: =IF(Badges!O445="C","E","") | Z25: =IF(Badges!P445="C","E","") | AB25: =IF(Badges!Q445="C","E","") | AD25: =IF(Badges!R445="C","E","")
A26: =Badges!B446 -> Junior First Aid | B26: =IF(Badges!D468="C","E","") | D26: =IF(Badges!E468="C","E","") | F26: =IF(Badges!F468="C","E","") | H26: =IF(Badges!G468="C","E","") | J26: =IF(Badges!H468="C","E","") | L26: =IF(Badges!I468="C","E","") | N26: =IF(Badges!J468="C","E","") | P26: =IF(Badges!K468="C","E","") | R26: =IF(Badges!L468="C","E","") | T26: =IF(Badges!M468="C","E","") | V26: =IF(Badges!N468="C","E","") | X26: =IF(Badges!O468="C","E","") | Z26: =IF(Badges!P468="C","E","") | AB26: =IF(Badges!Q468="C","E","") | AD26: =IF(Badges!R468="C","E","")
A27: =Badges!B469 -> Junior Girl Scout Way | B27: =IF(Badges!D491="C","E","") -> E | C27: y | D27: =IF(Badges!E491="C","E","") -> E | E27: y | F27: =IF(Badges!F491="C","E","") | H27: =IF(Badges!G491="C","E","") | J27: =IF(Badges!H491="C","E","") | L27: =IF(Badges!I491="C","E","") | N27: =IF(Badges!J491="C","E","") | P27: =IF(Badges!K491="C","E","") | R27: =IF(Badges!L491="C","E","") | T27: =IF(Badges!M491="C","E","") | V27: =IF(Badges!N491="C","E","") | X27: =IF(Badges!O491="C","E","") | Z27: =IF(Badges!P491="C","E","") | AB27: =IF(Badges!Q491="C","E","") | AD27: =IF(Badges!R491="C","E","")
A28: =Badges!B492 -> Flowers | B28: =IF(Badges!D514="C","E","") | D28: =IF(Badges!E514="C","E","") | F28: =IF(Badges!F514="C","E","") | H28: =IF(Badges!G514="C","E","") | J28: =IF(Badges!H514="C","E","") | L28: =IF(Badges!I514="C","E","") | N28: =IF(Badges!J514="C","E","") | P28: =IF(Badges!K514="C","E","") | R28: =IF(Badges!L514="C","E","") | T28: =IF(Badges!M514="C","E","") | V28: =IF(Badges!N514="C","E","") | X28: =IF(Badges!O514="C","E","") | Z28: =IF(Badges!P514="C","E","") | AB28: =IF(Badges!Q514="C","E","") | AD28: =IF(Badges!R514="C","E","")
A29: =Badges!A515 -> Financial Literacy
A30: =Badges!B516 -> Business Owner | B30: =IF(Badges!D538="C","E","") | D30: =IF(Badges!E538="C","E","") | F30: =IF(Badges!F538="C","E","") | H30: =IF(Badges!G538="C","E","") | J30: =IF(Badges!H538="C","E","") | L30: =IF(Badges!I538="C","E","") | N30: =IF(Badges!J538="C","E","") | P30: =IF(Badges!K538="C","E","") | R30: =IF(Badges!L538="C","E","") | T30: =IF(Badges!M538="C","E","") | V30: =IF(Badges!N538="C","E","") | X30: =IF(Badges!O538="C","E","") | Z30: =IF(Badges!P538="C","E","") | AB30: =IF(Badges!Q538="C","E","") | AD30: =IF(Badges!R538="C","E","")
A31: =Badges!B539 -> Savvy Shopper | B31: =IF(Badges!D561="C","E","") | D31: =IF(Badges!E561="C","E","") | F31: =IF(Badges!F561="C","E","") | H31: =IF(Badges!G561="C","E","") | J31: =IF(Badges!H561="C","E","") | L31: =IF(Badges!I561="C","E","") | N31: =IF(Badges!J561="C","E","") | P31: =IF(Badges!K561="C","E","") | R31: =IF(Badges!L561="C","E","") | T31: =IF(Badges!M561="C","E","") | V31: =IF(Badges!N561="C","E","") | X31: =IF(Badges!O561="C","E","") | Z31: =IF(Badges!P561="C","E","") | AB31: =IF(Badges!Q561="C","E","") | AD31: =IF(Badges!R561="C","E","")
A32: =Badges!A562 -> Cookie Business
A33: =Badges!B563 -> Cookie CEO | B33: =IF(Badges!D575="C","E","") -> E | D33: =IF(Badges!E575="C","E","") -> E | F33: =IF(Badges!F575="C","E","") -> E | H33: =IF(Badges!G575="C","E","") | J33: =IF(Badges!H575="C","E","") | L33: =IF(Badges!I575="C","E","") | N33: =IF(Badges!J575="C","E","") | P33: =IF(Badges!K575="C","E","") | R33: =IF(Badges!L575="C","E","") | T33: =IF(Badges!M575="C","E","") | V33: =IF(Badges!N575="C","E","") | X33: =IF(Badges!O575="C","E","") | Z33: =IF(Badges!P575="C","E","") | AB33: =IF(Badges!Q575="C","E","") | AD33: =IF(Badges!R575="C","E","")
A34: =Badges!B576 -> Customer Insights | B34: =IF(Badges!D588="C","E","") | D34: =IF(Badges!E588="C","E","") | F34: =IF(Badges!F588="C","E","") | H34: =IF(Badges!G588="C","E","") | J34: =IF(Badges!H588="C","E","") | L34: =IF(Badges!I588="C","E","") | N34: =IF(Badges!J588="C","E","") | P34: =IF(Badges!K588="C","E","") | R34: =IF(Badges!L588="C","E","") | T34: =IF(Badges!M588="C","E","") | V34: =IF(Badges!N588="C","E","") | X34: =IF(Badges!O588="C","E","") | Z34: =IF(Badges!P588="C","E","") | AB34: =IF(Badges!Q588="C","E","") | AD34: =IF(Badges!R588="C","E","")
A35: Journey Awards
A36: =Journeys!A6 -> Agent of Change
A37: =Journeys!B7 -> The Power of One Award | B37: =IF(Journeys!D11="C","E","") -> E | D37: =IF(Journeys!E11="C","E","") -> E | F37: =IF(Journeys!F11="C","E","") | H37: =IF(Journeys!G11="C","E","") | J37: =IF(Journeys!H11="C","E","") | L37: =IF(Journeys!I11="C","E","") | N37: =IF(Journeys!J11="C","E","") | P37: =IF(Journeys!K11="C","E","") | R37: =IF(Journeys!L11="C","E","") | T37: =IF(Journeys!M11="C","E","") | V37: =IF(Journeys!N11="C","E","") | X37: =IF(Journeys!O11="C","E","") | Z37: =IF(Journeys!P11="C","E","") | AB37: =IF(Journeys!Q11="C","E","") | AD37: =IF(Journeys!R11="C","E","")
A38: =Journeys!B12 -> The Power of Team Award | B38: =IF(Journeys!D15="C","E","") -> E | D38: =IF(Journeys!E15="C","E","") -> E | F38: =IF(Journeys!F15="C","E","") | H38: =IF(Journeys!G15="C","E","") | J38: =IF(Journeys!H15="C","E","") | L38: =IF(Journeys!I15="C","E","") | N38: =IF(Journeys!J15="C","E","") | P38: =IF(Journeys!K15="C","E","") | R38: =IF(Journeys!L15="C","E","") | T38: =IF(Journeys!M15="C","E","") | V38: =IF(Journeys!N15="C","E","") | X38: =IF(Journeys!O15="C","E","") | Z38: =IF(Journeys!P15="C","E","") | AB38: =IF(Journeys!Q15="C","E","") | AD38: =IF(Journeys!R15="C","E","")
A39: =Journeys!B16 -> The Power of Community Award | B39: =IF(Journeys!D19="C","E","") -> E | D39: =IF(Journeys!E19="C","E","") | F39: =IF(Journeys!F19="C","E","") | H39: =IF(Journeys!G19="C","E","") | J39: =IF(Journeys!H19="C","E","") | L39: =IF(Journeys!I19="C","E","") | N39: =IF(Journeys!J19="C","E","") | P39: =IF(Journeys!K19="C","E","") | R39: =IF(Journeys!L19="C","E","") | T39: =IF(Journeys!M19="C","E","") | V39: =IF(Journeys!N19="C","E","") | X39: =IF(Journeys!O19="C","E","") | Z39: =IF(Journeys!P19="C","E","") | AB39: =IF(Journeys!Q19="C","E","") | AD39: =IF(Journeys!R19="C","E","")
A40: =Journeys!A22 -> GET MOVING!
A41: =Journeys!B23 -> Energize Award | B41: =IF(Journeys!D27="C","E","") | D41: =IF(Journeys!E27="C","E","") | F41: =IF(Journeys!F27="C","E","") | H41: =IF(Journeys!G27="C","E","") | J41: =IF(Journeys!H27="C","E","") | L41: =IF(Journeys!I27="C","E","") | N41: =IF(Journeys!J27="C","E","") | P41: =IF(Journeys!K27="C","E","") | R41: =IF(Journeys!L27="C","E","") | T41: =IF(Journeys!M27="C","E","") | V41: =IF(Journeys!N27="C","E","") | X41: =IF(Journeys!O27="C","E","") | Z41: =IF(Journeys!P27="C","E","") | AB41: =IF(Journeys!Q27="C","E","") | AD41: =IF(Journeys!R27="C","E","")
A42: =Journeys!B28 -> Investigate Award | B42: =IF(Journeys!D32="C","E","") | D42: =IF(Journeys!E32="C","E","") | F42: =IF(Journeys!F32="C","E","") | H42: =IF(Journeys!G32="C","E","") | J42: =IF(Journeys!H32="C","E","") | L42: =IF(Journeys!I32="C","E","") | N42: =IF(Journeys!J32="C","E","") | P42: =IF(Journeys!K32="C","E","") | R42: =IF(Journeys!L32="C","E","") | T42: =IF(Journeys!M32="C","E","") | V42: =IF(Journeys!N32="C","E","") | X42: =IF(Journeys!O32="C","E","") | Z42: =IF(Journeys!P32="C","E","") | AB42: =IF(Journeys!Q32="C","E","") | AD42: =IF(Journeys!R32="C","E","")
A43: =Journeys!B33 -> Innovate Award | B43: =IF(Journeys!D36="C","E","") | D43: =IF(Journeys!E36="C","E","") | F43: =IF(Journeys!F36="C","E","") | H43: =IF(Journeys!G36="C","E","") | J43: =IF(Journeys!H36="C","E","") | L43: =IF(Journeys!I36="C","E","") | N43: =IF(Journeys!J36="C","E","") | P43: =IF(Journeys!K36="C","E","") | R43: =IF(Journeys!L36="C","E","") | T43: =IF(Journeys!M36="C","E","") | V43: =IF(Journeys!N36="C","E","") | X43: =IF(Journeys!O36="C","E","") | Z43: =IF(Journeys!P36="C","E","") | AB43: =IF(Journeys!Q36="C","E","") | AD43: =IF(Journeys!R36="C","E","")
A44: =Journeys!A39 -> aMUSE
A45: =Journeys!B40 -> Reach Out | B45: =IF(Journeys!D42="C","E","") | D45: =IF(Journeys!E42="C","E","") | F45: =IF(Journeys!F42="C","E","") | H45: =IF(Journeys!G42="C","E","") | J45: =IF(Journeys!H42="C","E","") | L45: =IF(Journeys!I42="C","E","") | N45: =IF(Journeys!J42="C","E","") | P45: =IF(Journeys!K42="C","E","") | R45: =IF(Journeys!L42="C","E","") | T45: =IF(Journeys!M42="C","E","") | V45: =IF(Journeys!N42="C","E","") | X45: =IF(Journeys!O42="C","E","") | Z45: =IF(Journeys!P42="C","E","") | AB45: =IF(Journeys!Q42="C","E","") | AD45: =IF(Journeys!R42="C","E","")
A46: =Journeys!B43 -> Speak Out | B46: =IF(Journeys!D45="C","E","") | D46: =IF(Journeys!E45="C","E","") | F46: =IF(Journeys!F45="C","E","") | H46: =IF(Journeys!G45="C","E","") | J46: =IF(Journeys!H45="C","E","") | L46: =IF(Journeys!I45="C","E","") | N46: =IF(Journeys!J45="C","E","") | P46: =IF(Journeys!K45="C","E","") | R46: =IF(Journeys!L45="C","E","") | T46: =IF(Journeys!M45="C","E","") | V46: =IF(Journeys!N45="C","E","") | X46: =IF(Journeys!O45="C","E","") | Z46: =IF(Journeys!P45="C","E","") | AB46: =IF(Journeys!Q45="C","E","") | AD46: =IF(Journeys!R45="C","E","")
A47: =Journeys!B46 -> Try Out | B47: =IF(Journeys!D48="C","E","") | D47: =IF(Journeys!E48="C","E","") | F47: =IF(Journeys!F48="C","E","") | H47: =IF(Journeys!G48="C","E","") | J47: =IF(Journeys!H48="C","E","") | L47: =IF(Journeys!I48="C","E","") | N47: =IF(Journeys!J48="C","E","") | P47: =IF(Journeys!K48="C","E","") | R47: =IF(Journeys!L48="C","E","") | T47: =IF(Journeys!M48="C","E","") | V47: =IF(Journeys!N48="C","E","") | X47: =IF(Journeys!O48="C","E","") | Z47: =IF(Journeys!P48="C","E","") | AB47: =IF(Journeys!Q48="C","E","") | AD47: =IF(Journeys!R48="C","E","")
A48: ='Council Own'!A5:R5 -> Council's Own
A49: ='Council Own'!B6 -> <<List Badge Here>> | B49: =IF('Council Own'!D28="C","E","") | D49: =IF('Council Own'!E28="C","E","") | F49: =IF('Council Own'!F28="C","E","") | H49: =IF('Council Own'!G28="C","E","") | J49: =IF('Council Own'!H28="C","E","") | L49: =IF('Council Own'!I28="C","E","") | N49: =IF('Council Own'!J28="C","E","") | P49: =IF('Council Own'!K28="C","E","") | R49: =IF('Council Own'!L28="C","E","") | T49: =IF('Council Own'!M28="C","E","") | V49: =IF('Council Own'!N28="C","E","") | X49: =IF('Council Own'!O28="C","E","") | Z49: =IF('Council Own'!P28="C","E","") | AB49: =IF('Council Own'!Q28="C","E","") | AD49: =IF('Council Own'!R28="C","E","")
A50: ='Council Own'!B30 -> <<List Badge Here>> | B50: =IF('Council Own'!D52="C","E","") | D50: =IF('Council Own'!E52="C","E","") | F50: =IF('Council Own'!F52="C","E","") | H50: =IF('Council Own'!G52="C","E","") | J50: =IF('Council Own'!H52="C","E","") | L50: =IF('Council Own'!I52="C","E","") | N50: =IF('Council Own'!J52="C","E","") | P50: =IF('Council Own'!K52="C","E","") | R50: =IF('Council Own'!L52="C","E","") | T50: =IF('Council Own'!M52="C","E","") | V50: =IF('Council Own'!N52="C","E","") | X50: =IF('Council Own'!O52="C","E","") | Z50: =IF('Council Own'!P52="C","E","") | AB50: =IF('Council Own'!Q52="C","E","") | AD50: =IF('Council Own'!R52="C","E","")
A51: ='Council Own'!B54 -> <<List Badge Here>> | B51: =IF('Council Own'!D76="C","E","") | D51: =IF('Council Own'!E76="C","E","") | F51: =IF('Council Own'!F76="C","E","") | H51: =IF('Council Own'!G76="C","E","") | J51: =IF('Council Own'!H76="C","E","") | L51: =IF('Council Own'!I76="C","E","") | N51: =IF('Council Own'!J76="C","E","") | P51: =IF('Council Own'!K76="C","E","") | R51: =IF('Council Own'!L76="C","E","") | T51: =IF('Council Own'!M76="C","E","") | V51: =IF('Council Own'!N76="C","E","") | X51: =IF('Council Own'!O76="C","E","") | Z51: =IF('Council Own'!P76="C","E","") | AB51: =IF('Council Own'!Q76="C","E","") | AD51: =IF('Council Own'!R76="C","E","")
A52: ='Council Own'!B78 -> <<List Badge Here>> | B52: =IF('Council Own'!D100="C","E","") | D52: =IF('Council Own'!E100="C","E","") | F52: =IF('Council Own'!F100="C","E","") | H52: =IF('Council Own'!G100="C","E","") | J52: =IF('Council Own'!H100="C","E","") | L52: =IF('Council Own'!I100="C","E","") | N52: =IF('Council Own'!J100="C","E","") | P52: =IF('Council Own'!K100="C","E","") | R52: =IF('Council Own'!L100="C","E","") | T52: =IF('Council Own'!M100="C","E","") | V52: =IF('Council Own'!N100="C","E","") | X52: =IF('Council Own'!O100="C","E","") | Z52: =IF('Council Own'!P100="C","E","") | AB52: =IF('Council Own'!Q100="C","E","") | AD52: =IF('Council Own'!R100="C","E","")
A53: ='Council Own'!B102 -> <<List Badge Here>> | B53: =IF('Council Own'!D124="C","E","") | D53: =IF('Council Own'!E124="C","E","") | F53: =IF('Council Own'!F124="C","E","") | H53: =IF('Council Own'!G124="C","E","") | J53: =IF('Council Own'!H124="C","E","") | L53: =IF('Council Own'!I124="C","E","") | N53: =IF('Council Own'!J124="C","E","") | P53: =IF('Council Own'!K124="C","E","") | R53: =IF('Council Own'!L124="C","E","") | T53: =IF('Council Own'!M124="C","E","") | V53: =IF('Council Own'!N124="C","E","") | X53: =IF('Council Own'!O124="C","E","") | Z53: =IF('Council Own'!P124="C","E","") | AB53: =IF('Council Own'!Q124="C","E","") | AD53: =IF('Council Own'!R124="C","E","")
A54: The Bronze Award | B54: =IF('Bronze Award'!D14="C","E","") -> E | C54: y | D54: =IF('Bronze Award'!E14="C","E","") -> E | E54: y | F54: =IF('Bronze Award'!F14="C","E","") | H54: =IF('Bronze Award'!G14="C","E","") | J54: =IF('Bronze Award'!H14="C","E","") | L54: =IF('Bronze Award'!I14="C","E","") | N54: =IF('Bronze Award'!J14="C","E","") | P54: =IF('Bronze Award'!K14="C","E","") | R54: =IF('Bronze Award'!L14="C","E","") | T54: =IF('Bronze Award'!M14="C","E","") | V54: =IF('Bronze Award'!N14="C","E","") | X54: =IF('Bronze Award'!O14="C","E","") | Z54: =IF('Bronze Award'!P14="C","E","") | AB54: =IF('Bronze Award'!Q14="C","E","") | AD54: =IF('Bronze Award'!R14="C","E","")
A55: Bridging to Cadettes | B55: =IF(Bridging!D18="C","E","") | D55: =IF(Bridging!E18="C","E","") | F55: =IF(Bridging!F18="C","E","") | H55: =IF(Bridging!G18="C","E","") | J55: =IF(Bridging!H18="C","E","") | L55: =IF(Bridging!I18="C","E","") | N55: =IF(Bridging!J18="C","E","") | P55: =IF(Bridging!K18="C","E","") | R55: =IF(Bridging!L18="C","E","") | T55: =IF(Bridging!M18="C","E","") | V55: =IF(Bridging!N18="C","E","") | X55: =IF(Bridging!O18="C","E","") | Z55: =IF(Bridging!P18="C","E","") | AB55: =IF(Bridging!Q18="C","E","") | AD55: =IF(Bridging!R18="C","E","")
A56: Age-Level Awards
A57: ='Age-Level'!B5 -> Junior Aide Award | B57: =IF('Age-Level'!D9="C","E","") | D57: =IF('Age-Level'!E9="C","E","") | F57: =IF('Age-Level'!F9="C","E","") | H57: =IF('Age-Level'!G9="C","E","") | J57: =IF('Age-Level'!H9="C","E","") | L57: =IF('Age-Level'!I9="C","E","") | N57: =IF('Age-Level'!J9="C","E","") | P57: =IF('Age-Level'!K9="C","E","") | R57: =IF('Age-Level'!L9="C","E","") | T57: =IF('Age-Level'!M9="C","E","") | V57: =IF('Age-Level'!N9="C","E","") | X57: =IF('Age-Level'!O9="C","E","") | Z57: =IF('Age-Level'!P9="C","E","") | AB57: =IF('Age-Level'!Q9="C","E","") | AD57: =IF('Age-Level'!R9="C","E","")
A58: ='Age-Level'!C11 -> Cookie Rally (Year 1) | B58: =IF('Age-Level'!D11="A","E","") | D58: =IF('Age-Level'!E11="A","E","") | F58: =IF('Age-Level'!F11="A","E","") | H58: =IF('Age-Level'!G11="A","E","") | J58: =IF('Age-Level'!H11="A","E","") | L58: =IF('Age-Level'!I11="A","E","") | N58: =IF('Age-Level'!J11="A","E","") | P58: =IF('Age-Level'!K11="A","E","") | R58: =IF('Age-Level'!L11="A","E","") | T58: =IF('Age-Level'!M11="A","E","") | V58: =IF('Age-Level'!N11="A","E","") | X58: =IF('Age-Level'!O11="A","E","") | Z58: =IF('Age-Level'!P11="A","E","") | AB58: =IF('Age-Level'!Q11="A","E","") | AD58: =IF('Age-Level'!R11="A","E","")
A59: ='Age-Level'!C12 -> Cookie Sales (Year 1) | B59: =IF('Age-Level'!D12="A","E","") | D59: =IF('Age-Level'!E12="A","E","") | F59: =IF('Age-Level'!F12="A","E","") | H59: =IF('Age-Level'!G12="A","E","") | J59: =IF('Age-Level'!H12="A","E","") | L59: =IF('Age-Level'!I12="A","E","") | N59: =IF('Age-Level'!J12="A","E","") | P59: =IF('Age-Level'!K12="A","E","") | R59: =IF('Age-Level'!L12="A","E","") | T59: =IF('Age-Level'!M12="A","E","") | V59: =IF('Age-Level'!N12="A","E","") | X59: =IF('Age-Level'!O12="A","E","") | Z59: =IF('Age-Level'!P12="A","E","") | AB59: =IF('Age-Level'!Q12="A","E","") | AD59: =IF('Age-Level'!R12="A","E","")
A60: ='Age-Level'!C13 -> Cookie Pin (Year 1) | B60: =IF('Age-Level'!D13="A","E","") | D60: =IF('Age-Level'!E13="A","E","") | F60: =IF('Age-Level'!F13="A","E","") | H60: =IF('Age-Level'!G13="A","E","") | J60: =IF('Age-Level'!H13="A","E","") | L60: =IF('Age-Level'!I13="A","E","") | N60: =IF('Age-Level'!J13="A","E","") | P60: =IF('Age-Level'!K13="A","E","") | R60: =IF('Age-Level'!L13="A","E","") | T60: =IF('Age-Level'!M13="A","E","") | V60: =IF('Age-Level'!N13="A","E","") | X60: =IF('Age-Level'!O13="A","E","") | Z60: =IF('Age-Level'!P13="A","E","") | AB60: =IF('Age-Level'!Q13="A","E","") | AD60: =IF('Age-Level'!R13="A","E","")
A61: ='Age-Level'!C14 -> Cookie Rally (Year 2) | B61: =IF('Age-Level'!D14="A","E","") -> E | D61: =IF('Age-Level'!E14="A","E","") | F61: =IF('Age-Level'!F14="A","E","") | H61: =IF('Age-Level'!G14="A","E","") | J61: =IF('Age-Level'!H14="A","E","") | L61: =IF('Age-Level'!I14="A","E","") | N61: =IF('Age-Level'!J14="A","E","") | P61: =IF('Age-Level'!K14="A","E","") | R61: =IF('Age-Level'!L14="A","E","") | T61: =IF('Age-Level'!M14="A","E","") | V61: =IF('Age-Level'!N14="A","E","") | X61: =IF('Age-Level'!O14="A","E","") | Z61: =IF('Age-Level'!P14="A","E","") | AB61: =IF('Age-Level'!Q14="A","E","") | AD61: =IF('Age-Level'!R14="A","E","")
A62: ='Age-Level'!C15 -> Cookie Sales (Year 2) | B62: =IF('Age-Level'!D15="A","E","") | D62: =IF('Age-Level'!E15="A","E","") | F62: =IF('Age-Level'!F15="A","E","") | H62: =IF('Age-Level'!G15="A","E","") | J62: =IF('Age-Level'!H15="A","E","") | L62: =IF('Age-Level'!I15="A","E","") | N62: =IF('Age-Level'!J15="A","E","") | P62: =IF('Age-Level'!K15="A","E","") | R62: =IF('Age-Level'!L15="A","E","") | T62: =IF('Age-Level'!M15="A","E","") | V62: =IF('Age-Level'!N15="A","E","") | X62: =IF('Age-Level'!O15="A","E","") | Z62: =IF('Age-Level'!P15="A","E","") | AB62: =IF('Age-Level'!Q15="A","E","") | AD62: =IF('Age-Level'!R15="A","E","")
A63: ='Age-Level'!C16 -> Cookie Pin (Year 2) | B63: =IF('Age-Level'!D16="A","E","") | D63: =IF('Age-Level'!E16="A","E","") | F63: =IF('Age-Level'!F16="A","E","") | H63: =IF('Age-Level'!G16="A","E","") | J63: =IF('Age-Level'!H16="A","E","") | L63: =IF('Age-Level'!I16="A","E","") | N63: =IF('Age-Level'!J16="A","E","") | P63: =IF('Age-Level'!K16="A","E","") | R63: =IF('Age-Level'!L16="A","E","") | T63: =IF('Age-Level'!M16="A","E","") | V63: =IF('Age-Level'!N16="A","E","") | X63: =IF('Age-Level'!O16="A","E","") | Z63: =IF('Age-Level'!P16="A","E","") | AB63: =IF('Age-Level'!Q16="A","E","") | AD63: =IF('Age-Level'!R16="A","E","")
A64: ='Age-Level'!C18 -> Fall Sales (Year 1) | B64: =IF('Age-Level'!D18="A","E","") | D64: =IF('Age-Level'!E18="A","E","") | F64: =IF('Age-Level'!F18="A","E","") | H64: =IF('Age-Level'!G18="A","E","") | J64: =IF('Age-Level'!H18="A","E","") | L64: =IF('Age-Level'!I18="A","E","") | N64: =IF('Age-Level'!J18="A","E","") | P64: =IF('Age-Level'!K18="A","E","") | R64: =IF('Age-Level'!L18="A","E","") | T64: =IF('Age-Level'!M18="A","E","") | V64: =IF('Age-Level'!N18="A","E","") | X64: =IF('Age-Level'!O18="A","E","") | Z64: =IF('Age-Level'!P18="A","E","") | AB64: =IF('Age-Level'!Q18="A","E","") | AD64: =IF('Age-Level'!R18="A","E","")
A65: ='Age-Level'!C19 -> Fall Sales (Year 2) | B65: =IF('Age-Level'!D19="A","E","") | D65: =IF('Age-Level'!E19="A","E","") | F65: =IF('Age-Level'!F19="A","E","") | H65: =IF('Age-Level'!G19="A","E","") | J65: =IF('Age-Level'!H19="A","E","") | L65: =IF('Age-Level'!I19="A","E","") | N65: =IF('Age-Level'!J19="A","E","") | P65: =IF('Age-Level'!K19="A","E","") | R65: =IF('Age-Level'!L19="A","E","") | T65: =IF('Age-Level'!M19="A","E","") | V65: =IF('Age-Level'!N19="A","E","") | X65: =IF('Age-Level'!O19="A","E","") | Z65: =IF('Age-Level'!P19="A","E","") | AB65: =IF('Age-Level'!Q19="A","E","") | AD65: =IF('Age-Level'!R19="A","E","")
A66: ='Age-Level'!C21 -> Thinking Day (Year 1) | B66: =IF('Age-Level'!D21="A","E","") | D66: =IF('Age-Level'!E21="A","E","") | F66: =IF('Age-Level'!F21="A","E","") | H66: =IF('Age-Level'!G21="A","E","") | J66: =IF('Age-Level'!H21="A","E","") | L66: =IF('Age-Level'!I21="A","E","") | N66: =IF('Age-Level'!J21="A","E","") | P66: =IF('Age-Level'!K21="A","E","") | R66: =IF('Age-Level'!L21="A","E","") | T66: =IF('Age-Level'!M21="A","E","") | V66: =IF('Age-Level'!N21="A","E","") | X66: =IF('Age-Level'!O21="A","E","") | Z66: =IF('Age-Level'!P21="A","E","") | AB66: =IF('Age-Level'!Q21="A","E","") | AD66: =IF('Age-Level'!R21="A","E","")
A67: ='Age-Level'!C22 -> Thinking Day (Year 2) | B67: =IF('Age-Level'!D22="A","E","") | D67: =IF('Age-Level'!E22="A","E","") | F67: =IF('Age-Level'!F22="A","E","") | H67: =IF('Age-Level'!G22="A","E","") | J67: =IF('Age-Level'!H22="A","E","") | L67: =IF('Age-Level'!I22="A","E","") | N67: =IF('Age-Level'!J22="A","E","") | P67: =IF('Age-Level'!K22="A","E","") | R67: =IF('Age-Level'!L22="A","E","") | T67: =IF('Age-Level'!M22="A","E","") | V67: =IF('Age-Level'!N22="A","E","") | X67: =IF('Age-Level'!O22="A","E","") | Z67: =IF('Age-Level'!P22="A","E","") | AB67: =IF('Age-Level'!Q22="A","E","") | AD67: =IF('Age-Level'!R22="A","E","")
A68: ='Age-Level'!C24 -> Global Action Award | B68: =IF('Age-Level'!D24="A","E","") | D68: =IF('Age-Level'!E24="A","E","") | F68: =IF('Age-Level'!F24="A","E","") | H68: =IF('Age-Level'!G24="A","E","") | J68: =IF('Age-Level'!H24="A","E","") | L68: =IF('Age-Level'!I24="A","E","") | N68: =IF('Age-Level'!J24="A","E","") | P68: =IF('Age-Level'!K24="A","E","") | R68: =IF('Age-Level'!L24="A","E","") | T68: =IF('Age-Level'!M24="A","E","") | V68: =IF('Age-Level'!N24="A","E","") | X68: =IF('Age-Level'!O24="A","E","") | Z68: =IF('Age-Level'!P24="A","E","") | AB68: =IF('Age-Level'!Q24="A","E","") | AD68: =IF('Age-Level'!R24="A","E","")
A69: ='Age-Level'!C26 -> Journey Summit Pin | B69: =IF('Age-Level'!D26="C","E","") | D69: =IF('Age-Level'!E26="C","E","") | F69: =IF('Age-Level'!F26="C","E","") | H69: =IF('Age-Level'!G26="C","E","") | J69: =IF('Age-Level'!H26="C","E","") | L69: =IF('Age-Level'!I26="C","E","") | N69: =IF('Age-Level'!J26="C","E","") | P69: =IF('Age-Level'!K26="C","E","") | R69: =IF('Age-Level'!L26="C","E","") | T69: =IF('Age-Level'!M26="C","E","") | V69: =IF('Age-Level'!N26="C","E","") | X69: =IF('Age-Level'!O26="C","E","") | Z69: =IF('Age-Level'!P26="C","E","") | AB69: =IF('Age-Level'!Q26="C","E","") | AD69: =IF('Age-Level'!R26="C","E","")
A70: ='Age-Level'!C28 -> International Friendship Recognition | B70: =IF('Age-Level'!D28="A","E","") | D70: =IF('Age-Level'!E28="A","E","") | F70: =IF('Age-Level'!F28="A","E","") | H70: =IF('Age-Level'!G28="A","E","") | J70: =IF('Age-Level'!H28="A","E","") | L70: =IF('Age-Level'!I28="A","E","") | N70: =IF('Age-Level'!J28="A","E","") | P70: =IF('Age-Level'!K28="A","E","") | R70: =IF('Age-Level'!L28="A","E","") | T70: =IF('Age-Level'!M28="A","E","") | V70: =IF('Age-Level'!N28="A","E","") | X70: =IF('Age-Level'!O28="A","E","") | Z70: =IF('Age-Level'!P28="A","E","") | AB70: =IF('Age-Level'!Q28="A","E","") | AD70: =IF('Age-Level'!R28="A","E","")
A71: ='Age-Level'!C30 -> Investiture | B71: =IF('Age-Level'!D30="A","E","") | D71: =IF('Age-Level'!E30="A","E","") | F71: =IF('Age-Level'!F30="A","E","") | H71: =IF('Age-Level'!G30="A","E","") | J71: =IF('Age-Level'!H30="A","E","") | L71: =IF('Age-Level'!I30="A","E","") | N71: =IF('Age-Level'!J30="A","E","") | P71: =IF('Age-Level'!K30="A","E","") | R71: =IF('Age-Level'!L30="A","E","") | T71: =IF('Age-Level'!M30="A","E","") | V71: =IF('Age-Level'!N30="A","E","") | X71: =IF('Age-Level'!O30="A","E","") | Z71: =IF('Age-Level'!P30="A","E","") | AB71: =IF('Age-Level'!Q30="A","E","") | AD71: =IF('Age-Level'!R30="A","E","")
A72: ='Age-Level'!C31 -> Rededication (1st year) | B72: =IF('Age-Level'!D31="A","E","") -> E | C72: y | D72: =IF('Age-Level'!E31="A","E","") -> E | E72: y | F72: =IF('Age-Level'!F31="A","E","") -> E | G72: y | H72: =IF('Age-Level'!G31="A","E","") | J72: =IF('Age-Level'!H31="A","E","") | L72: =IF('Age-Level'!I31="A","E","") | N72: =IF('Age-Level'!J31="A","E","") | P72: =IF('Age-Level'!K31="A","E","") | R72: =IF('Age-Level'!L31="A","E","") | T72: =IF('Age-Level'!M31="A","E","") | V72: =IF('Age-Level'!N31="A","E","") | X72: =IF('Age-Level'!O31="A","E","") | Z72: =IF('Age-Level'!P31="A","E","") | AB72: =IF('Age-Level'!Q31="A","E","") | AD72: =IF('Age-Level'!R31="A","E","")
A73: ='Age-Level'!C32 -> Rededication (2nd year) | B73: =IF('Age-Level'!D32="A","E","") -> E | C73: y | D73: =IF('Age-Level'!E32="A","E","") -> E | E73: y | F73: =IF('Age-Level'!F32="A","E","") | H73: =IF('Age-Level'!G32="A","E","") | J73: =IF('Age-Level'!H32="A","E","") | L73: =IF('Age-Level'!I32="A","E","") | N73: =IF('Age-Level'!J32="A","E","") | P73: =IF('Age-Level'!K32="A","E","") | R73: =IF('Age-Level'!L32="A","E","") | T73: =IF('Age-Level'!M32="A","E","") | V73: =IF('Age-Level'!N32="A","E","") | X73: =IF('Age-Level'!O32="A","E","") | Z73: =IF('Age-Level'!P32="A","E","") | AB73: =IF('Age-Level'!Q32="A","E","") | AD73: =IF('Age-Level'!R32="A","E","")
A74: ='Age-Level'!C33 -> Rededication (3rd year) | B74: =IF('Age-Level'!D33="A","E","") | D74: =IF('Age-Level'!E33="A","E","") | F74: =IF('Age-Level'!F33="A","E","") | H74: =IF('Age-Level'!G33="A","E","") | J74: =IF('Age-Level'!H33="A","E","") | L74: =IF('Age-Level'!I33="A","E","") | N74: =IF('Age-Level'!J33="A","E","") | P74: =IF('Age-Level'!K33="A","E","") | R74: =IF('Age-Level'!L33="A","E","") | T74: =IF('Age-Level'!M33="A","E","") | V74: =IF('Age-Level'!N33="A","E","") | X74: =IF('Age-Level'!O33="A","E","") | Z74: =IF('Age-Level'!P33="A","E","") | AB74: =IF('Age-Level'!Q33="A","E","") | AD74: =IF('Age-Level'!R33="A","E","")
A75: ='Age-Level'!C34 -> Rededication (4th year) | B75: =IF('Age-Level'!D34="A","E","") | D75: =IF('Age-Level'!E34="A","E","") | F75: =IF('Age-Level'!F34="A","E","") | H75: =IF('Age-Level'!G34="A","E","") | J75: =IF('Age-Level'!H34="A","E","") | L75: =IF('Age-Level'!I34="A","E","") | N75: =IF('Age-Level'!J34="A","E","") | P75: =IF('Age-Level'!K34="A","E","") | R75: =IF('Age-Level'!L34="A","E","") | T75: =IF('Age-Level'!M34="A","E","") | V75: =IF('Age-Level'!N34="A","E","") | X75: =IF('Age-Level'!O34="A","E","") | Z75: =IF('Age-Level'!P34="A","E","") | AB75: =IF('Age-Level'!Q34="A","E","") | AD75: =IF('Age-Level'!R34="A","E","")
A76: ='Age-Level'!C35 -> Rededication (5th year) | B76: =IF('Age-Level'!D35="A","E","") | D76: =IF('Age-Level'!E35="A","E","") | F76: =IF('Age-Level'!F35="A","E","") | H76: =IF('Age-Level'!G35="A","E","") | J76: =IF('Age-Level'!H35="A","E","") | L76: =IF('Age-Level'!I35="A","E","") | N76: =IF('Age-Level'!J35="A","E","") | P76: =IF('Age-Level'!K35="A","E","") | R76: =IF('Age-Level'!L35="A","E","") | T76: =IF('Age-Level'!M35="A","E","") | V76: =IF('Age-Level'!N35="A","E","") | X76: =IF('Age-Level'!O35="A","E","") | Z76: =IF('Age-Level'!P35="A","E","") | AB76: =IF('Age-Level'!Q35="A","E","") | AD76: =IF('Age-Level'!R35="A","E","")
A77: ='Age-Level'!B36 -> My Promise, My Faith (Year 1) | B77: =IF('Age-Level'!D42="A","E","") | D77: =IF('Age-Level'!E42="A","E","") | F77: =IF('Age-Level'!F42="A","E","") | H77: =IF('Age-Level'!G42="A","E","") | J77: =IF('Age-Level'!H42="A","E","") | L77: =IF('Age-Level'!I42="A","E","") | N77: =IF('Age-Level'!J42="A","E","") | P77: =IF('Age-Level'!K42="A","E","") | R77: =IF('Age-Level'!L42="A","E","") | T77: =IF('Age-Level'!M42="A","E","") | V77: =IF('Age-Level'!N42="A","E","") | X77: =IF('Age-Level'!O42="A","E","") | Z77: =IF('Age-Level'!P42="A","E","") | AB77: =IF('Age-Level'!Q42="A","E","") | AD77: =IF('Age-Level'!R42="A","E","")
A78: ='Age-Level'!B43 -> My Promise, My Faith (Year 2) | B78: =IF('Age-Level'!D50="A","E","") | D78: =IF('Age-Level'!E50="A","E","") | F78: =IF('Age-Level'!F50="A","E","") | H78: =IF('Age-Level'!G50="A","E","") | J78: =IF('Age-Level'!H50="A","E","") | L78: =IF('Age-Level'!I50="A","E","") | N78: =IF('Age-Level'!J50="A","E","") | P78: =IF('Age-Level'!K50="A","E","") | R78: =IF('Age-Level'!L50="A","E","") | T78: =IF('Age-Level'!M50="A","E","") | V78: =IF('Age-Level'!N50="A","E","") | X78: =IF('Age-Level'!O50="A","E","") | Z78: =IF('Age-Level'!P50="A","E","") | AB78: =IF('Age-Level'!Q50="A","E","") | AD78: =IF('Age-Level'!R50="A","E","")
A79: ='Age-Level'!B50 -> Safety Award | B79: =IF('Age-Level'!D56="C","E","") | D79: =IF('Age-Level'!E56="C","E","") | F79: =IF('Age-Level'!F56="C","E","") | H79: =IF('Age-Level'!G56="C","E","") | J79: =IF('Age-Level'!H56="C","E","") | L79: =IF('Age-Level'!I56="C","E","") | N79: =IF('Age-Level'!J56="C","E","") | P79: =IF('Age-Level'!K56="C","E","") | R79: =IF('Age-Level'!L56="C","E","") | T79: =IF('Age-Level'!M56="C","E","") | V79: =IF('Age-Level'!N56="C","E","") | X79: =IF('Age-Level'!O56="C","E","") | Z79: =IF('Age-Level'!P56="C","E","") | AB79: =IF('Age-Level'!Q56="C","E","") | AD79: =IF('Age-Level'!R56="C","E","")
A80: Fun Patches
A81: ='Fun Patches'!C5 -> <LIST PATCH HERE> | B81: =IF('Fun Patches'!D5="A","E","") | D81: =IF('Fun Patches'!E5="A","E","") | F81: =IF('Fun Patches'!F5="A","E","") | H81: =IF('Fun Patches'!G5="A","E","") | J81: =IF('Fun Patches'!H5="A","E","") | L81: =IF('Fun Patches'!I5="A","E","") | N81: =IF('Fun Patches'!J5="A","E","") | P81: =IF('Fun Patches'!K5="A","E","") | R81: =IF('Fun Patches'!L5="A","E","") | T81: =IF('Fun Patches'!M5="A","E","") | V81: =IF('Fun Patches'!N5="A","E","") | X81: =IF('Fun Patches'!O5="A","E","") | Z81: =IF('Fun Patches'!P5="A","E","") | AB81: =IF('Fun Patches'!Q5="A","E","") | AD81: =IF('Fun Patches'!R5="A","E","")
A82: ='Fun Patches'!C6 -> <LIST PATCH HERE> | B82: =IF('Fun Patches'!D6="A","E","") | D82: =IF('Fun Patches'!E6="A","E","") | F82: =IF('Fun Patches'!F6="A","E","") | H82: =IF('Fun Patches'!G6="A","E","") | J82: =IF('Fun Patches'!H6="A","E","") | L82: =IF('Fun Patches'!I6="A","E","") | N82: =IF('Fun Patches'!J6="A","E","") | P82: =IF('Fun Patches'!K6="A","E","") | R82: =IF('Fun Patches'!L6="A","E","") | T82: =IF('Fun Patches'!M6="A","E","") | V82: =IF('Fun Patches'!N6="A","E","") | X82: =IF('Fun Patches'!O6="A","E","") | Z82: =IF('Fun Patches'!P6="A","E","") | AB82: =IF('Fun Patches'!Q6="A","E","") | AD82: =IF('Fun Patches'!R6="A","E","")
A83: ='Fun Patches'!C7 -> <LIST PATCH HERE> | B83: =IF('Fun Patches'!D7="A","E","") | D83: =IF('Fun Patches'!E7="A","E","") | F83: =IF('Fun Patches'!F7="A","E","") | H83: =IF('Fun Patches'!G7="A","E","") | J83: =IF('Fun Patches'!H7="A","E","") | L83: =IF('Fun Patches'!I7="A","E","") | N83: =IF('Fun Patches'!J7="A","E","") | P83: =IF('Fun Patches'!K7="A","E","") | R83: =IF('Fun Patches'!L7="A","E","") | T83: =IF('Fun Patches'!M7="A","E","") | V83: =IF('Fun Patches'!N7="A","E","") | X83: =IF('Fun Patches'!O7="A","E","") | Z83: =IF('Fun Patches'!P7="A","E","") | AB83: =IF('Fun Patches'!Q7="A","E","") | AD83: =IF('Fun Patches'!R7="A","E","")
A84: ='Fun Patches'!C8 -> <LIST PATCH HERE> | B84: =IF('Fun Patches'!D8="A","E","") | D84: =IF('Fun Patches'!E8="A","E","") | F84: =IF('Fun Patches'!F8="A","E","") | H84: =IF('Fun Patches'!G8="A","E","") | J84: =IF('Fun Patches'!H8="A","E","") | L84: =IF('Fun Patches'!I8="A","E","") | N84: =IF('Fun Patches'!J8="A","E","") | P84: =IF('Fun Patches'!K8="A","E","") | R84: =IF('Fun Patches'!L8="A","E","") | T84: =IF('Fun Patches'!M8="A","E","") | V84: =IF('Fun Patches'!N8="A","E","") | X84: =IF('Fun Patches'!O8="A","E","") | Z84: =IF('Fun Patches'!P8="A","E","") | AB84: =IF('Fun Patches'!Q8="A","E","") | AD84: =IF('Fun Patches'!R8="A","E","")
A85: ='Fun Patches'!C9 -> <LIST PATCH HERE> | B85: =IF('Fun Patches'!D9="A","E","") | D85: =IF('Fun Patches'!E9="A","E","") | F85: =IF('Fun Patches'!F9="A","E","") | H85: =IF('Fun Patches'!G9="A","E","") | J85: =IF('Fun Patches'!H9="A","E","") | L85: =IF('Fun Patches'!I9="A","E","") | N85: =IF('Fun Patches'!J9="A","E","") | P85: =IF('Fun Patches'!K9="A","E","") | R85: =IF('Fun Patches'!L9="A","E","") | T85: =IF('Fun Patches'!M9="A","E","") | V85: =IF('Fun Patches'!N9="A","E","") | X85: =IF('Fun Patches'!O9="A","E","") | Z85: =IF('Fun Patches'!P9="A","E","") | AB85: =IF('Fun Patches'!Q9="A","E","") | AD85: =IF('Fun Patches'!R9="A","E","")
A86: ='Fun Patches'!C10 -> <LIST PATCH HERE> | B86: =IF('Fun Patches'!D10="A","E","") | D86: =IF('Fun Patches'!E10="A","E","") | F86: =IF('Fun Patches'!F10="A","E","") | H86: =IF('Fun Patches'!G10="A","E","") | J86: =IF('Fun Patches'!H10="A","E","") | L86: =IF('Fun Patches'!I10="A","E","") | N86: =IF('Fun Patches'!J10="A","E","") | P86: =IF('Fun Patches'!K10="A","E","") | R86: =IF('Fun Patches'!L10="A","E","") | T86: =IF('Fun Patches'!M10="A","E","") | V86: =IF('Fun Patches'!N10="A","E","") | X86: =IF('Fun Patches'!O10="A","E","") | Z86: =IF('Fun Patches'!P10="A","E","") | AB86: =IF('Fun Patches'!Q10="A","E","") | AD86: =IF('Fun Patches'!R10="A","E","")
A87: ='Fun Patches'!C11 -> <LIST PATCH HERE> | B87: =IF('Fun Patches'!D11="A","E","") | D87: =IF('Fun Patches'!E11="A","E","") | F87: =IF('Fun Patches'!F11="A","E","") | H87: =IF('Fun Patches'!G11="A","E","") | J87: =IF('Fun Patches'!H11="A","E","") | L87: =IF('Fun Patches'!I11="A","E","") | N87: =IF('Fun Patches'!J11="A","E","") | P87: =IF('Fun Patches'!K11="A","E","") | R87: =IF('Fun Patches'!L11="A","E","") | T87: =IF('Fun Patches'!M11="A","E","") | V87: =IF('Fun Patches'!N11="A","E","") | X87: =IF('Fun Patches'!O11="A","E","") | Z87: =IF('Fun Patches'!P11="A","E","") | AB87: =IF('Fun Patches'!Q11="A","E","") | AD87: =IF('Fun Patches'!R11="A","E","")
A88: ='Fun Patches'!C12 -> <LIST PATCH HERE> | B88: =IF('Fun Patches'!D12="A","E","") | D88: =IF('Fun Patches'!E12="A","E","") | F88: =IF('Fun Patches'!F12="A","E","") | H88: =IF('Fun Patches'!G12="A","E","") | J88: =IF('Fun Patches'!H12="A","E","") | L88: =IF('Fun Patches'!I12="A","E","") | N88: =IF('Fun Patches'!J12="A","E","") | P88: =IF('Fun Patches'!K12="A","E","") | R88: =IF('Fun Patches'!L12="A","E","") | T88: =IF('Fun Patches'!M12="A","E","") | V88: =IF('Fun Patches'!N12="A","E","") | X88: =IF('Fun Patches'!O12="A","E","") | Z88: =IF('Fun Patches'!P12="A","E","") | AB88: =IF('Fun Patches'!Q12="A","E","") | AD88: =IF('Fun Patches'!R12="A","E","")
A89: ='Fun Patches'!C13 -> <LIST PATCH HERE> | B89: =IF('Fun Patches'!D13="A","E","") | D89: =IF('Fun Patches'!E13="A","E","") | F89: =IF('Fun Patches'!F13="A","E","") | H89: =IF('Fun Patches'!G13="A","E","") | J89: =IF('Fun Patches'!H13="A","E","") | L89: =IF('Fun Patches'!I13="A","E","") | N89: =IF('Fun Patches'!J13="A","E","") | P89: =IF('Fun Patches'!K13="A","E","") | R89: =IF('Fun Patches'!L13="A","E","") | T89: =IF('Fun Patches'!M13="A","E","") | V89: =IF('Fun Patches'!N13="A","E","") | X89: =IF('Fun Patches'!O13="A","E","") | Z89: =IF('Fun Patches'!P13="A","E","") | AB89: =IF('Fun Patches'!Q13="A","E","") | AD89: =IF('Fun Patches'!R13="A","E","")
A90: ='Fun Patches'!C14 -> <LIST PATCH HERE> | B90: =IF('Fun Patches'!D14="A","E","") | D90: =IF('Fun Patches'!E14="A","E","") | F90: =IF('Fun Patches'!F14="A","E","") | H90: =IF('Fun Patches'!G14="A","E","") | J90: =IF('Fun Patches'!H14="A","E","") | L90: =IF('Fun Patches'!I14="A","E","") | N90: =IF('Fun Patches'!J14="A","E","") | P90: =IF('Fun Patches'!K14="A","E","") | R90: =IF('Fun Patches'!L14="A","E","") | T90: =IF('Fun Patches'!M14="A","E","") | V90: =IF('Fun Patches'!N14="A","E","") | X90: =IF('Fun Patches'!O14="A","E","") | Z90: =IF('Fun Patches'!P14="A","E","") | AB90: =IF('Fun Patches'!Q14="A","E","") | AD90: =IF('Fun Patches'!R14="A","E","")
A91: ='Fun Patches'!C15 -> <LIST PATCH HERE> | B91: =IF('Fun Patches'!D15="A","E","") | D91: =IF('Fun Patches'!E15="A","E","") | F91: =IF('Fun Patches'!F15="A","E","") | H91: =IF('Fun Patches'!G15="A","E","") | J91: =IF('Fun Patches'!H15="A","E","") | L91: =IF('Fun Patches'!I15="A","E","") | N91: =IF('Fun Patches'!J15="A","E","") | P91: =IF('Fun Patches'!K15="A","E","") | R91: =IF('Fun Patches'!L15="A","E","") | T91: =IF('Fun Patches'!M15="A","E","") | V91: =IF('Fun Patches'!N15="A","E","") | X91: =IF('Fun Patches'!O15="A","E","") | Z91: =IF('Fun Patches'!P15="A","E","") | AB91: =IF('Fun Patches'!Q15="A","E","") | AD91: =IF('Fun Patches'!R15="A","E","")
A92: ='Fun Patches'!C16 -> <LIST PATCH HERE> | B92: =IF('Fun Patches'!D16="A","E","") | D92: =IF('Fun Patches'!E16="A","E","") | F92: =IF('Fun Patches'!F16="A","E","") | H92: =IF('Fun Patches'!G16="A","E","") | J92: =IF('Fun Patches'!H16="A","E","") | L92: =IF('Fun Patches'!I16="A","E","") | N92: =IF('Fun Patches'!J16="A","E","") | P92: =IF('Fun Patches'!K16="A","E","") | R92: =IF('Fun Patches'!L16="A","E","") | T92: =IF('Fun Patches'!M16="A","E","") | V92: =IF('Fun Patches'!N16="A","E","") | X92: =IF('Fun Patches'!O16="A","E","") | Z92: =IF('Fun Patches'!P16="A","E","") | AB92: =IF('Fun Patches'!Q16="A","E","") | AD92: =IF('Fun Patches'!R16="A","E","")
... A130: ='Fun Patches'!C54 -> <LIST PATCH HERE> | B130: =IF('Fun Patches'!D54="A","E","") | D130: =IF('Fun Patches'!E54="A","E","") | F130: =IF('Fun Patches'!F54="A","E","") | H130: =IF('Fun Patches'!G54="A","E","") | J130: =IF('Fun Patches'!H54="A","E","") | L130: =IF('Fun Patches'!I54="A","E","") | N130: =IF('Fun Patches'!J54="A","E","") | P130: =IF('Fun Patches'!K54="A","E","") | R130: =IF('Fun Patches'!L54="A","E","") | T130: =IF('Fun Patches'!M54="A","E","") | V130: =IF('Fun Patches'!N54="A","E","") | X130: =IF('Fun Patches'!O54="A","E","") | Z130: =IF('Fun Patches'!P54="A","E","") | AB130: =IF('Fun Patches'!Q54="A","E","") | AD130: =IF('Fun Patches'!R54="A","E","")

Sheet Order
A1: Patches | B1: Quantity | D1: Patches | E1: Quantity
A2: =Summary!A3 -> It's Your World -- Change It! | D2: Age-Level Awards (cont'd)
A3: =Summary!A4 -> Digital Photographer | B3: =IF((COUNTIF(Summary!B4:AE4,"E")-COUNTIF(Summary!B4:AE4,"Y")>0),(COUNTIF(Summary!B4:AE4,"E")-COUNTIF(Summary!B4:AE4,"Y")),"") -> 1 | D3: =Summary!A72 -> Rededication (1st year) | E3: =IF((COUNTIF(Summary!B72:AE72,"E")-COUNTIF(Summary!B72:AE72,"Y")>0),(COUNTIF(Summary!B72:AE72,"E")-COUNTIF(Summary!B72:AE72,"Y")),"")
A4: =Summary!A5 -> Staying Fit | B4: =IF((COUNTIF(Summary!B5:AE5,"E")-COUNTIF(Summary!B5:AE5,"Y")>0),(COUNTIF(Summary!B5:AE5,"E")-COUNTIF(Summary!B5:AE5,"Y")),"") | D4: =Summary!A73 -> Rededication (2nd year) | E4: =IF((COUNTIF(Summary!B73:AE73,"E")-COUNTIF(Summary!B73:AE73,"Y")>0),(COUNTIF(Summary!B73:AE73,"E")-COUNTIF(Summary!B73:AE73,"Y")),"")
A5: =Summary!A6 -> Musician | B5: =IF((COUNTIF(Summary!B6:AE6,"E")-COUNTIF(Summary!B6:AE6,"Y")>0),(COUNTIF(Summary!B6:AE6,"E")-COUNTIF(Summary!B6:AE6,"Y")),"") | D5: =Summary!A74 -> Rededication (3rd year) | E5: =IF((COUNTIF(Summary!B74:AE74,"E")-COUNTIF(Summary!B74:AE74,"Y")>0),(COUNTIF(Summary!B74:AE74,"E")-COUNTIF(Summary!B74:AE74,"Y")),"")
A6: =Summary!A7 -> Entertainment Technology | B6: =IF((COUNTIF(Summary!B7:AE7,"E")-COUNTIF(Summary!B7:AE7,"Y")>0),(COUNTIF(Summary!B7:AE7,"E")-COUNTIF(Summary!B7:AE7,"Y")),"") | D6: =Summary!A75 -> Rededication (4th year) | E6: =IF((COUNTIF(Summary!B75:AE75,"E")-COUNTIF(Summary!B75:AE75,"Y")>0),(COUNTIF(Summary!B75:AE75,"E")-COUNTIF(Summary!B75:AE75,"Y")),"")
A7: =Summary!A8 -> Scribe | B7: =IF((COUNTIF(Summary!B8:AE8,"E")-COUNTIF(Summary!B8:AE8,"Y")>0),(COUNTIF(Summary!B8:AE8,"E")-COUNTIF(Summary!B8:AE8,"Y")),"") | D7: =Summary!A76 -> Rededication (5th year) | E7: =IF((COUNTIF(Summary!B76:AE76,"E")-COUNTIF(Summary!B76:AE76,"Y")>0),(COUNTIF(Summary!B76:AE76,"E")-COUNTIF(Summary!B76:AE76,"Y")),"")
A8: =Summary!A9 -> It's Your Planet -- Love It! | D8: =Summary!A77 -> My Promise, My Faith (Year 1) | E8: =IF((COUNTIF(Summary!B77:AE77,"E")-COUNTIF(Summary!B77:AE77,"Y")>0),(COUNTIF(Summary!B77:AE77,"E")-COUNTIF(Summary!B77:AE77,"Y")),"")
A9: =Summary!A10 -> Jeweler | B9: =IF((COUNTIF(Summary!B10:AE10,"E")-COUNTIF(Summary!B10:AE10,"Y")>0),(COUNTIF(Summary!B10:AE10,"E")-COUNTIF(Summary!B10:AE10,"Y")),"") | D9: =Summary!A78 -> My Promise, My Faith (Year 2) | E9: =IF((COUNTIF(Summary!B78:AE78,"E")-COUNTIF(Summary!B78:AE78,"Y")>0),(COUNTIF(Summary!B78:AE78,"E")-COUNTIF(Summary!B78:AE78,"Y")),"")
A10: =Summary!A11 -> Gardener | B10: =IF((COUNTIF(Summary!B11:AE11,"E")-COUNTIF(Summary!B11:AE11,"Y")>0),(COUNTIF(Summary!B11:AE11,"E")-COUNTIF(Summary!B11:AE11,"Y")),"") | D10: =Summary!A79 -> Safety Award | E10: =IF((COUNTIF(Summary!B79:AE79,"E")-COUNTIF(Summary!B79:AE79,"Y")>0),(COUNTIF(Summary!B79:AE79,"E")-COUNTIF(Summary!B79:AE79,"Y")),"")
A11: =Summary!A12 -> Detective | B11: =IF((COUNTIF(Summary!B12:AE12,"E")-COUNTIF(Summary!B12:AE12,"Y")>0),(COUNTIF(Summary!B12:AE12,"E")-COUNTIF(Summary!B12:AE12,"Y")),"") | D11: Fun Patches
A12: =Summary!A13 -> Camper | B12: =IF((COUNTIF(Summary!B13:AE13,"E")-COUNTIF(Summary!B13:AE13,"Y")>0),(COUNTIF(Summary!B13:AE13,"E")-COUNTIF(Summary!B13:AE13,"Y")),"") | D12: =Summary!A81 -> <LIST PATCH HERE> | E12: =IF((COUNTIF(Summary!B81:AE81,"E")-COUNTIF(Summary!B81:AE81,"Y")>0),(COUNTIF(Summary!B81:AE81,"E")-COUNTIF(Summary!B81:AE81,"Y")),"")
A13: =Summary!A14 -> Independence | B13: =IF((COUNTIF(Summary!B14:AE14,"E")-COUNTIF(Summary!B14:AE14,"Y")>0),(COUNTIF(Summary!B14:AE14,"E")-COUNTIF(Summary!B14:AE14,"Y")),"") | D13: =Summary!A82 -> <LIST PATCH HERE> | E13: =IF((COUNTIF(Summary!B82:AE82,"E")-COUNTIF(Summary!B82:AE82,"Y")>0),(COUNTIF(Summary!B82:AE82,"E")-COUNTIF(Summary!B82:AE82,"Y")),"")
A14: =Summary!A15 -> It's Your Story -- Tell It! | D14: =Summary!A83 -> <LIST PATCH HERE> | E14: =IF((COUNTIF(Summary!B83:AE83,"E")-COUNTIF(Summary!B83:AE83,"Y")>0),(COUNTIF(Summary!B83:AE83,"E")-COUNTIF(Summary!B83:AE83,"Y")),"")
A15: =Summary!A16 -> Gecacher | B15: =IF((COUNTIF(Summary!B16:AE16,"E")-COUNTIF(Summary!B16:AE16,"Y")>0),(COUNTIF(Summary!B16:AE16,"E")-COUNTIF(Summary!B16:AE16,"Y")),"") | D15: =Summary!A84 -> <LIST PATCH HERE> | E15: =IF((COUNTIF(Summary!B84:AE84,"E")-COUNTIF(Summary!B84:AE84,"Y")>0),(COUNTIF(Summary!B84:AE84,"E")-COUNTIF(Summary!B84:AE84,"Y")),"")
A16: =Summary!A17 -> Animal Habitats | B16: =IF((COUNTIF(Summary!B17:AE17,"E")-COUNTIF(Summary!B17:AE17,"Y")>0),(COUNTIF(Summary!B17:AE17,"E")-COUNTIF(Summary!B17:AE17,"Y")),"") | D16: =Summary!A85 -> <LIST PATCH HERE> | E16: =IF((COUNTIF(Summary!B85:AE85,"E")-COUNTIF(Summary!B85:AE85,"Y")>0),(COUNTIF(Summary!B85:AE85,"E")-COUNTIF(Summary!B85:AE85,"Y")),"")
A17: =Summary!A18 -> Playing the Past | B17: =IF((COUNTIF(Summary!B18:AE18,"E")-COUNTIF(Summary!B18:AE18,"Y")>0),(COUNTIF(Summary!B18:AE18,"E")-COUNTIF(Summary!B18:AE18,"Y")),"") | D17: =Summary!A86 -> <LIST PATCH HERE> | E17: =IF((COUNTIF(Summary!B86:AE86,"E")-COUNTIF(Summary!B86:AE86,"Y")>0),(COUNTIF(Summary!B86:AE86,"E")-COUNTIF(Summary!B86:AE86,"Y")),"")
A18: =Summary!A19 -> Product Designer | B18: =IF((COUNTIF(Summary!B19:AE19,"E")-COUNTIF(Summary!B19:AE19,"Y")>0),(COUNTIF(Summary!B19:AE19,"E")-COUNTIF(Summary!B19:AE19,"Y")),"") | D18: =Summary!A87 -> <LIST PATCH HERE> | E18: =IF((COUNTIF(Summary!B87:AE87,"E")-COUNTIF(Summary!B87:AE87,"Y")>0),(COUNTIF(Summary!B87:AE87,"E")-COUNTIF(Summary!B87:AE87,"Y")),"")
A19: =Summary!A20 -> Social Butterfly | B19: =IF((COUNTIF(Summary!B20:AE20,"E")-COUNTIF(Summary!B20:AE20,"Y")>0),(COUNTIF(Summary!B20:AE20,"E")-COUNTIF(Summary!B20:AE20,"Y")),"") | D19: =Summary!A88 -> <LIST PATCH HERE> | E19: =IF((COUNTIF(Summary!B88:AE88,"E")-COUNTIF(Summary!B88:AE88,"Y")>0),(COUNTIF(Summary!B88:AE88,"E")-COUNTIF(Summary!B88:AE88,"Y")),"")
A20: =Summary!A21 -> Legacy | D20: =Summary!A89 -> <LIST PATCH HERE> | E20: =IF((COUNTIF(Summary!B89:AE89,"E")-COUNTIF(Summary!B89:AE89,"Y")>0),(COUNTIF(Summary!B89:AE89,"E")-COUNTIF(Summary!B89:AE89,"Y")),"")
A21: =Summary!A22 -> Drawing | B21: =IF((COUNTIF(Summary!B22:AE22,"E")-COUNTIF(Summary!B22:AE22,"Y")>0),(COUNTIF(Summary!B22:AE22,"E")-COUNTIF(Summary!B22:AE22,"Y")),"") -> 3 | D21: =Summary!A90 -> <LIST PATCH HERE> | E21: =IF((COUNTIF(Summary!B90:AE90,"E")-COUNTIF(Summary!B90:AE90,"Y")>0),(COUNTIF(Summary!B90:AE90,"E")-COUNTIF(Summary!B90:AE90,"Y")),"")
A22: =Summary!A23 -> Practice with Purpose | B22: =IF((COUNTIF(Summary!B23:AE23,"E")-COUNTIF(Summary!B23:AE23,"Y")>0),(COUNTIF(Summary!B23:AE23,"E")-COUNTIF(Summary!B23:AE23,"Y")),"") | D22: =Summary!A91 -> <LIST PATCH HERE> | E22: =IF((COUNTIF(Summary!B91:AE91,"E")-COUNTIF(Summary!B91:AE91,"Y")>0),(COUNTIF(Summary!B91:AE91,"E")-COUNTIF(Summary!B91:AE91,"Y")),"")
A23: =Summary!A24 -> Inside Government | B23: =IF((COUNTIF(Summary!B24:AE24,"E")-COUNTIF(Summary!B24:AE24,"Y")>0),(COUNTIF(Summary!B24:AE24,"E")-COUNTIF(Summary!B24:AE24,"Y")),"") | D23: =Summary!A92 -> <LIST PATCH HERE> | E23: =IF((COUNTIF(Summary!B92:AE92,"E")-COUNTIF(Summary!B92:AE92,"Y")>0),(COUNTIF(Summary!B92:AE92,"E")-COUNTIF(Summary!B92:AE92,"Y")),"")
A24: =Summary!A25 -> Simple Meals | B24: =IF((COUNTIF(Summary!B25:AE25,"E")-COUNTIF(Summary!B25:AE25,"Y")>0),(COUNTIF(Summary!B25:AE25,"E")-COUNTIF(Summary!B25:AE25,"Y")),"") | D24: =Summary!A93 -> <LIST PATCH HERE> | E24: =IF((COUNTIF(Summary!B93:AE93,"E")-COUNTIF(Summary!B93:AE93,"Y")>0),(COUNTIF(Summary!B93:AE93,"E")-COUNTIF(Summary!B93:AE93,"Y")),"")
A25: =Summary!A26 -> Junior First Aid | B25: =IF((COUNTIF(Summary!B26:AE26,"E")-COUNTIF(Summary!B26:AE26,"Y")>0),(COUNTIF(Summary!B26:AE26,"E")-COUNTIF(Summary!B26:AE26,"Y")),"") | D25: =Summary!A94 -> <LIST PATCH HERE> | E25: =IF((COUNTIF(Summary!B94:AE94,"E")-COUNTIF(Summary!B94:AE94,"Y")>0),(COUNTIF(Summary!B94:AE94,"E")-COUNTIF(Summary!B94:AE94,"Y")),"")
A26: =Summary!A27 -> Junior Girl Scout Way | B26: =IF((COUNTIF(Summary!B27:AE27,"E")-COUNTIF(Summary!B27:AE27,"Y")>0),(COUNTIF(Summary!B27:AE27,"E")-COUNTIF(Summary!B27:AE27,"Y")),"") | D26: =Summary!A95 -> <LIST PATCH HERE> | E26: =IF((COUNTIF(Summary!B95:AE95,"E")-COUNTIF(Summary!B95:AE95,"Y")>0),(COUNTIF(Summary!B95:AE95,"E")-COUNTIF(Summary!B95:AE95,"Y")),"")
A27: =Summary!A28 -> Flowers | B27: =IF((COUNTIF(Summary!B28:AE28,"E")-COUNTIF(Summary!B28:AE28,"Y")>0),(COUNTIF(Summary!B28:AE28,"E")-COUNTIF(Summary!B28:AE28,"Y")),"") | D27: =Summary!A96 -> <LIST PATCH HERE> | E27: =IF((COUNTIF(Summary!B96:AE96,"E")-COUNTIF(Summary!B96:AE96,"Y")>0),(COUNTIF(Summary!B96:AE96,"E")-COUNTIF(Summary!B96:AE96,"Y")),"")
A28: =Summary!A29 -> Financial Literacy | D28: =Summary!A97 -> <LIST PATCH HERE> | E28: =IF((COUNTIF(Summary!B97:AE97,"E")-COUNTIF(Summary!B97:AE97,"Y")>0),(COUNTIF(Summary!B97:AE97,"E")-COUNTIF(Summary!B97:AE97,"Y")),"")
A29: =Summary!A30 -> Business Owner | B29: =IF((COUNTIF(Summary!B30:AE30,"E")-COUNTIF(Summary!B30:AE30,"Y")>0),(COUNTIF(Summary!B30:AE30,"E")-COUNTIF(Summary!B30:AE30,"Y")),"") | D29: =Summary!A98 -> <LIST PATCH HERE> | E29: =IF((COUNTIF(Summary!B98:AE98,"E")-COUNTIF(Summary!B98:AE98,"Y")>0),(COUNTIF(Summary!B98:AE98,"E")-COUNTIF(Summary!B98:AE98,"Y")),"")
A30: =Summary!A31 -> Savvy Shopper | B30: =IF((COUNTIF(Summary!B31:AE31,"E")-COUNTIF(Summary!B31:AE31,"Y")>0),(COUNTIF(Summary!B31:AE31,"E")-COUNTIF(Summary!B31:AE31,"Y")),"") | D30: =Summary!A99 -> <LIST PATCH HERE> | E30: =IF((COUNTIF(Summary!B99:AE99,"E")-COUNTIF(Summary!B99:AE99,"Y")>0),(COUNTIF(Summary!B99:AE99,"E")-COUNTIF(Summary!B99:AE99,"Y")),"")
A31: =Summary!A32 -> Cookie Business | D31: =Summary!A100 -> <LIST PATCH HERE> | E31: =IF((COUNTIF(Summary!B100:AE100,"E")-COUNTIF(Summary!B100:AE100,"Y")>0),(COUNTIF(Summary!B100:AE100,"E")-COUNTIF(Summary!B100:AE100,"Y")),"")
A32: =Summary!A33 -> Cookie CEO | B32: =IF((COUNTIF(Summary!B33:AE33,"E")-COUNTIF(Summary!B33:AE33,"Y")>0),(COUNTIF(Summary!B33:AE33,"E")-COUNTIF(Summary!B33:AE33,"Y")),"") -> 3 | D32: =Summary!A101 -> <LIST PATCH HERE> | E32: =IF((COUNTIF(Summary!B101:AE101,"E")-COUNTIF(Summary!B101:AE101,"Y")>0),(COUNTIF(Summary!B101:AE101,"E")-COUNTIF(Summary!B101:AE101,"Y")),"")
A33: =Summary!A34 -> Customer Insights | B33: =IF((COUNTIF(Summary!B34:AE34,"E")-COUNTIF(Summary!B34:AE34,"Y")>0),(COUNTIF(Summary!B34:AE34,"E")-COUNTIF(Summary!B34:AE34,"Y")),"") | D33: =Summary!A102 -> <LIST PATCH HERE> | E33: =IF((COUNTIF(Summary!B102:AE102,"E")-COUNTIF(Summary!B102:AE102,"Y")>0),(COUNTIF(Summary!B102:AE102,"E")-COUNTIF(Summary!B102:AE102,"Y")),"")
A34: Journey Awards | D34: =Summary!A103 -> <LIST PATCH HERE> | E34: =IF((COUNTIF(Summary!B103:AE103,"E")-COUNTIF(Summary!B103:AE103,"Y")>0),(COUNTIF(Summary!B103:AE103,"E")-COUNTIF(Summary!B103:AE103,"Y")),"")
A35: =Journeys!A6:R6 -> Agent of Change | B35: =IF((COUNTIF(Summary!B37:AE37,"E")-COUNTIF(Summary!B37:AE37,"Y")>0),(COUNTIF(Summary!B37:AE37,"E")-COUNTIF(Summary!B37:AE37,"Y")),"") -> 2 | D35: =Summary!A104 -> <LIST PATCH HERE> | E35: =IF((COUNTIF(Summary!B104:AE104,"E")-COUNTIF(Summary!B104:AE104,"Y")>0),(COUNTIF(Summary!B104:AE104,"E")-COUNTIF(Summary!B104:AE104,"Y")),"")
A36: =Journeys!A22:R22 -> GET MOVING! | B36: =IF((COUNTIF(Summary!B41:AE41,"E")-COUNTIF(Summary!B41:AE41,"Y")>0),(COUNTIF(Summary!B41:AE41,"E")-COUNTIF(Summary!B41:AE41,"Y")),"") | D36: =Summary!A105 -> <LIST PATCH HERE> | E36: =IF((COUNTIF(Summary!B105:AE105,"E")-COUNTIF(Summary!B105:AE105,"Y")>0),(COUNTIF(Summary!B105:AE105,"E")-COUNTIF(Summary!B105:AE105,"Y")),"")
A37: =Journeys!A39:R39 -> aMUSE | B37: =IF((COUNTIF(Summary!B45:AE45,"E")-COUNTIF(Summary!B45:AE45,"Y")>0),(COUNTIF(Summary!B45:AE45,"E")-COUNTIF(Summary!B45:AE45,"Y")),"") | D37: =Summary!A106 -> <LIST PATCH HERE> | E37: =IF((COUNTIF(Summary!B106:AE106,"E")-COUNTIF(Summary!B106:AE106,"Y")>0),(COUNTIF(Summary!B106:AE106,"E")-COUNTIF(Summary!B106:AE106,"Y")),"")
A38: =Summary!A48 -> Council's Own | D38: =Summary!A107 -> <LIST PATCH HERE> | E38: =IF((COUNTIF(Summary!B107:AE107,"E")-COUNTIF(Summary!B107:AE107,"Y")>0),(COUNTIF(Summary!B107:AE107,"E")-COUNTIF(Summary!B107:AE107,"Y")),"")
A39: =Summary!A49 -> <<List Badge Here>> | B39: =IF((COUNTIF(Summary!B49:AE49,"E")-COUNTIF(Summary!B49:AE49,"Y")>0),(COUNTIF(Summary!B49:AE49,"E")-COUNTIF(Summary!B49:AE49,"Y")),"") | D39: =Summary!A108 -> <LIST PATCH HERE> | E39: =IF((COUNTIF(Summary!B108:AE108,"E")-COUNTIF(Summary!B108:AE108,"Y")>0),(COUNTIF(Summary!B108:AE108,"E")-COUNTIF(Summary!B108:AE108,"Y")),"")
A40: =Summary!A50 -> <<List Badge Here>> | B40: =IF((COUNTIF(Summary!B50:AE50,"E")-COUNTIF(Summary!B50:AE50,"Y")>0),(COUNTIF(Summary!B50:AE50,"E")-COUNTIF(Summary!B50:AE50,"Y")),"") | D40: =Summary!A109 -> <LIST PATCH HERE> | E40: =IF((COUNTIF(Summary!B109:AE109,"E")-COUNTIF(Summary!B109:AE109,"Y")>0),(COUNTIF(Summary!B109:AE109,"E")-COUNTIF(Summary!B109:AE109,"Y")),"")
A41: =Summary!A51 -> <<List Badge Here>> | B41: =IF((COUNTIF(Summary!B51:AE51,"E")-COUNTIF(Summary!B51:AE51,"Y")>0),(COUNTIF(Summary!B51:AE51,"E")-COUNTIF(Summary!B51:AE51,"Y")),"") | D41: =Summary!A110 -> <LIST PATCH HERE> | E41: =IF((COUNTIF(Summary!B110:AE110,"E")-COUNTIF(Summary!B110:AE110,"Y")>0),(COUNTIF(Summary!B110:AE110,"E")-COUNTIF(Summary!B110:AE110,"Y")),"")
A42: =Summary!A52 -> <<List Badge Here>> | B42: =IF((COUNTIF(Summary!B52:AE52,"E")-COUNTIF(Summary!B52:AE52,"Y")>0),(COUNTIF(Summary!B52:AE52,"E")-COUNTIF(Summary!B52:AE52,"Y")),"") | D42: =Summary!A111 -> <LIST PATCH HERE> | E42: =IF((COUNTIF(Summary!B111:AE111,"E")-COUNTIF(Summary!B111:AE111,"Y")>0),(COUNTIF(Summary!B111:AE111,"E")-COUNTIF(Summary!B111:AE111,"Y")),"")
A43: =Summary!A53 -> <<List Badge Here>> | B43: =IF((COUNTIF(Summary!B53:AE53,"E")-COUNTIF(Summary!B53:AE53,"Y")>0),(COUNTIF(Summary!B53:AE53,"E")-COUNTIF(Summary!B53:AE53,"Y")),"") | D43: =Summary!A112 -> <LIST PATCH HERE> | E43: =IF((COUNTIF(Summary!B112:AE112,"E")-COUNTIF(Summary!B112:AE112,"Y")>0),(COUNTIF(Summary!B112:AE112,"E")-COUNTIF(Summary!B112:AE112,"Y")),"")
A44: =Summary!A54 -> The Bronze Award | B44: =IF((COUNTIF(Summary!B54:AE54,"E")-COUNTIF(Summary!B54:AE54,"Y")>0),(COUNTIF(Summary!B54:AE54,"E")-COUNTIF(Summary!B54:AE54,"Y")),"") | D44: =Summary!A113 -> <LIST PATCH HERE> | E44: =IF((COUNTIF(Summary!B113:AE113,"E")-COUNTIF(Summary!B113:AE113,"Y")>0),(COUNTIF(Summary!B113:AE113,"E")-COUNTIF(Summary!B113:AE113,"Y")),"")
A45: =Summary!A55 -> Bridging to Cadettes | B45: =IF((COUNTIF(Summary!B55:AE55,"E")-COUNTIF(Summary!B55:AE55,"Y")>0),(COUNTIF(Summary!B55:AE55,"E")-COUNTIF(Summary!B55:AE55,"Y")),"") | D45: =Summary!A114 -> <LIST PATCH HERE> | E45: =IF((COUNTIF(Summary!B114:AE114,"E")-COUNTIF(Summary!B114:AE114,"Y")>0),(COUNTIF(Summary!B114:AE114,"E")-COUNTIF(Summary!B114:AE114,"Y")),"")
A46: =Summary!A56 -> Age-Level Awards | D46: =Summary!A115 -> <LIST PATCH HERE> | E46: =IF((COUNTIF(Summary!B115:AE115,"E")-COUNTIF(Summary!B115:AE115,"Y")>0),(COUNTIF(Summary!B115:AE115,"E")-COUNTIF(Summary!B115:AE115,"Y")),"")
A47: =Summary!A57 -> Junior Aide Award | B47: =IF((COUNTIF(Summary!B57:AE57,"E")-COUNTIF(Summary!B57:AE57,"Y")>0),(COUNTIF(Summary!B57:AE57,"E")-COUNTIF(Summary!B57:AE57,"Y")),"") | D47: =Summary!A116 -> <LIST PATCH HERE> | E47: =IF((COUNTIF(Summary!B116:AE116,"E")-COUNTIF(Summary!B116:AE116,"Y")>0),(COUNTIF(Summary!B116:AE116,"E")-COUNTIF(Summary!B116:AE116,"Y")),"")
A48: =Summary!A58 -> Cookie Rally (Year 1) | B48: =IF((COUNTIF(Summary!B58:AE58,"E")-COUNTIF(Summary!B58:AE58,"Y")>0),(COUNTIF(Summary!B58:AE58,"E")-COUNTIF(Summary!B58:AE58,"Y")),"") | D48: =Summary!A117 -> <LIST PATCH HERE> | E48: =IF((COUNTIF(Summary!B117:AE117,"E")-COUNTIF(Summary!B117:AE117,"Y")>0),(COUNTIF(Summary!B117:AE117,"E")-COUNTIF(Summary!B117:AE117,"Y")),"")
A49: =Summary!A59 -> Cookie Sales (Year 1) | B49: =IF((COUNTIF(Summary!B59:AE59,"E")-COUNTIF(Summary!B59:AE59,"Y")>0),(COUNTIF(Summary!B59:AE59,"E")-COUNTIF(Summary!B59:AE59,"Y")),"") | D49: =Summary!A118 -> <LIST PATCH HERE> | E49: =IF((COUNTIF(Summary!B118:AE118,"E")-COUNTIF(Summary!B118:AE118,"Y")>0),(COUNTIF(Summary!B118:AE118,"E")-COUNTIF(Summary!B118:AE118,"Y")),"")
A50: =Summary!A60 -> Cookie Pin (Year 1) | B50: =IF((COUNTIF(Summary!B60:AE60,"E")-COUNTIF(Summary!B60:AE60,"Y")>0),(COUNTIF(Summary!B60:AE60,"E")-COUNTIF(Summary!B60:AE60,"Y")),"") | D50: =Summary!A119 -> <LIST PATCH HERE> | E50: =IF((COUNTIF(Summary!B119:AE119,"E")-COUNTIF(Summary!B119:AE119,"Y")>0),(COUNTIF(Summary!B119:AE119,"E")-COUNTIF(Summary!B119:AE119,"Y")),"")
A51: =Summary!A61 -> Cookie Rally (Year 2) | B51: =IF((COUNTIF(Summary!B61:AE61,"E")-COUNTIF(Summary!B61:AE61,"Y")>0),(COUNTIF(Summary!B61:AE61,"E")-COUNTIF(Summary!B61:AE61,"Y")),"") -> 1 | D51: =Summary!A120 -> <LIST PATCH HERE> | E51: =IF((COUNTIF(Summary!B120:AE120,"E")-COUNTIF(Summary!B120:AE120,"Y")>0),(COUNTIF(Summary!B120:AE120,"E")-COUNTIF(Summary!B120:AE120,"Y")),"")
A52: =Summary!A62 -> Cookie Sales (Year 2) | B52: =IF((COUNTIF(Summary!B62:AE62,"E")-COUNTIF(Summary!B62:AE62,"Y")>0),(COUNTIF(Summary!B62:AE62,"E")-COUNTIF(Summary!B62:AE62,"Y")),"") | D52: =Summary!A121 -> <LIST PATCH HERE> | E52: =IF((COUNTIF(Summary!B121:AE121,"E")-COUNTIF(Summary!B121:AE121,"Y")>0),(COUNTIF(Summary!B121:AE121,"E")-COUNTIF(Summary!B121:AE121,"Y")),"")
A53: =Summary!A63 -> Cookie Pin (Year 2) | B53: =IF((COUNTIF(Summary!B63:AE63,"E")-COUNTIF(Summary!B63:AE63,"Y")>0),(COUNTIF(Summary!B63:AE63,"E")-COUNTIF(Summary!B63:AE63,"Y")),"") | D53: =Summary!A122 -> <LIST PATCH HERE> | E53: =IF((COUNTIF(Summary!B122:AE122,"E")-COUNTIF(Summary!B122:AE122,"Y")>0),(COUNTIF(Summary!B122:AE122,"E")-COUNTIF(Summary!B122:AE122,"Y")),"")
A54: =Summary!A64 -> Fall Sales (Year 1) | B54: =IF((COUNTIF(Summary!B64:AE64,"E")-COUNTIF(Summary!B64:AE64,"Y")>0),(COUNTIF(Summary!B64:AE64,"E")-COUNTIF(Summary!B64:AE64,"Y")),"") | D54: =Summary!A123 -> <LIST PATCH HERE> | E54: =IF((COUNTIF(Summary!B123:AE123,"E")-COUNTIF(Summary!B123:AE123,"Y")>0),(COUNTIF(Summary!B123:AE123,"E")-COUNTIF(Summary!B123:AE123,"Y")),"")
A55: =Summary!A65 -> Fall Sales (Year 2) | B55: =IF((COUNTIF(Summary!B65:AE65,"E")-COUNTIF(Summary!B65:AE65,"Y")>0),(COUNTIF(Summary!B65:AE65,"E")-COUNTIF(Summary!B65:AE65,"Y")),"") | D55: =Summary!A124 -> <LIST PATCH HERE> | E55: =IF((COUNTIF(Summary!B124:AE124,"E")-COUNTIF(Summary!B124:AE124,"Y")>0),(COUNTIF(Summary!B124:AE124,"E")-COUNTIF(Summary!B124:AE124,"Y")),"")
A56: =Summary!A66 -> Thinking Day (Year 1) | B56: =IF((COUNTIF(Summary!B66:AE66,"E")-COUNTIF(Summary!B66:AE66,"Y")>0),(COUNTIF(Summary!B66:AE66,"E")-COUNTIF(Summary!B66:AE66,"Y")),"") | D56: =Summary!A125 -> <LIST PATCH HERE> | E56: =IF((COUNTIF(Summary!B125:AE125,"E")-COUNTIF(Summary!B125:AE125,"Y")>0),(COUNTIF(Summary!B125:AE125,"E")-COUNTIF(Summary!B125:AE125,"Y")),"")
A57: =Summary!A67 -> Thinking Day (Year 2) | B57: =IF((COUNTIF(Summary!B67:AE67,"E")-COUNTIF(Summary!B67:AE67,"Y")>0),(COUNTIF(Summary!B67:AE67,"E")-COUNTIF(Summary!B67:AE67,"Y")),"") | D57: =Summary!A126 -> <LIST PATCH HERE> | E57: =IF((COUNTIF(Summary!B126:AE126,"E")-COUNTIF(Summary!B126:AE126,"Y")>0),(COUNTIF(Summary!B126:AE126,"E")-COUNTIF(Summary!B126:AE126,"Y")),"")
A58: =Summary!A68 -> Global Action Award | B58: =IF((COUNTIF(Summary!B68:AE68,"E")-COUNTIF(Summary!B68:AE68,"Y")>0),(COUNTIF(Summary!B68:AE68,"E")-COUNTIF(Summary!B68:AE68,"Y")),"") | D58: =Summary!A127 -> <LIST PATCH HERE> | E58: =IF((COUNTIF(Summary!B127:AE127,"E")-COUNTIF(Summary!B127:AE127,"Y")>0),(COUNTIF(Summary!B127:AE127,"E")-COUNTIF(Summary!B127:AE127,"Y")),"")
... A61: =Summary!A71 -> Investiture | B61: =IF((COUNTIF(Summary!B71:AE71,"E")-COUNTIF(Summary!B71:AE71,"Y")>0),(COUNTIF(Summary!B71:AE71,"E")-COUNTIF(Summary!B71:AE71,"Y")),"") | D61: =Summary!A130 -> <LIST PATCH HERE> | E61: =IF((COUNTIF(Summary!B130:AE130,"E")-COUNTIF(Summary!B130:AE130,"Y")>0),(COUNTIF(Summary!B130:AE130,"E")-COUNTIF(Summary!B130:AE130,"Y")),"")

Sheet Bekah
A1: ='Parent Contact Info'!B5 -> Bekah | E1: Badges | I1: Badges | M1: Badges | Q1: Badges | T1: NOTE: Page 3, which has council's own badges on them, is not set up to print (neither is this).
C2: Page 1 | E2: =Badges!B52 -> Musician | I2: =Badges!B122 -> Jeweler | M2: =Badges!B191 -> Camper | Q2: =Badges!B261 -> Animal Habitats
A3: Badges Summary Total: | C3: =INT(COUNTIF(C5:C21,"C"))+INT(COUNTIF(C73:C85,"C")) -> 4 | E3: 2 | F3: =Badges!C57 -> Travel around the world of music | I3: 3 | J3: =Badges!C131 -> Turn everyday objects into jewelry | M3: 4 | N3: =Badges!C204 -> Try a new activity | Q3: 5 | R3: =Badges!C278 -> Help protect animal habitats
A4: =Summary!A3 -> It's Your World -- Change It! | F4: =Badges!C58 -> Listen to one pop song from three | G4: =IF(Badges!D58="A","A"," ") | J4: =Badges!C132 -> Make a bead bracelet | K4: =IF(Badges!D132="A","A"," ") | N4: =Badges!C205 -> Have some Leave No Trace fun | O4: =IF(Badges!D205="A","A"," ") | R4: =Badges!C279 -> Wildlife awareness party | S4: =IF(Badges!D279="A","A"," ")
A5: =Summary!A4 -> Digital Photographer | C5: =IF(Badges!D28="C","C",IF(Badges!D28="P","P","")) -> P | F5: =Badges!C59 -> Find out more about three | G5: =IF(Badges!D59="A","A"," ") | J5: =Badges!C133 -> Make two necklaces with different | K5: =IF(Badges!D133="A","A"," ") | N5: =Badges!C206 -> Be a scientist-and keep a journal | O5: =IF(Badges!D206="A","A"," ") | R5: =Badges!C280 -> Create a backyard habitat | S5: =IF(Badges!D280="A","A"," ")
A6: =Summary!A5 -> Staying Fit | C6: =IF(Badges!D51="C","C",IF(Badges!D51="P","P","")) | F6: =Badges!C60 -> Oh say, can you see | G6: =IF(Badges!D60="A","A"," ") | J6: =Badges!C134 -> Make jewelry from nature | K6: =IF(Badges!D134="A","A"," ") | N6: =Badges!C207 -> Try a new adventure | O6: =IF(Badges!D207="A","A"," ") | R6: =Badges!C281 -> Help clean up an animal habitat | S6: =IF(Badges!D281="A","A"," ") -> A
A7: =Summary!A6 -> Musician | C7: =IF(Badges!D74="C","C",IF(Badges!D74="P","P","")) | E7: 3 | F7: =Badges!C61 -> Check out the music in your life | I7: 4 | J7: =Badges!C135 -> Create jewelry inspired by another | M7: 5 | N7: =Badges!C208 -> Head out on your trip-and have | Q7: =Badges!B284 -> Playing the Past
A8: =Summary!A7 -> Entertainment Technology | C8: =IF(Badges!D97="C","C",IF(Badges!D97="P","P","")) -> P | F8: =Badges!C62 -> Take a music poll | G8: =IF(Badges!D62="A","A"," ") | J8: =Badges!C136 -> Friendship ring from Ireland | K8: =IF(Badges!D136="A","A"," ") | N8: =Badges!C209 -> Gather around the campfire | O8: =IF(Badges!D209="A","A"," ") | Q8: 1 | R8: =Badges!C285 -> Decide who you are
A9: =Summary!A8 -> Scribe | C9: =IF(Badges!D120="C","C",IF(Badges!D120="P","P","")) -> P | F9: =Badges!C63 -> Go to a live musical performance | G9: =IF(Badges!D63="A","A"," ") | J9: =Badges!C137 -> American Indian animal jewelry | K9: =IF(Badges!D137="A","A"," ") | N9: =Badges!C210 -> Do a night watch | O9: =IF(Badges!D210="A","A"," ") | R9: =Badges!C286 -> Write her diary | S9: =IF(Badges!D286="A","A"," ")
A10: =Summary!A9 -> It's Your Planet -- Love It! | F10: =Badges!C64 -> Interview someone with a job in | G10: =IF(Badges!D64="A","A"," ") | J10: =Badges!C138 -> Name pendant from Egypt | K10: =IF(Badges!D138="A","A"," ") | N10: =Badges!C211 -> Have fun with flashlights | O10: =IF(Badges!D211="A","A"," ") | R10: =Badges!C287 -> Write a speech for your character | S10: =IF(Badges!D287="A","A"," ")
A11: =Summary!A10 -> Jeweler | C11: =IF(Badges!D144="C","C",IF(Badges!D144="P","P","")) | E11: 4 | F11: =Badges!C65 -> Make your own music | I11: 5 | J11: =Badges!C139 -> Make a sparkling gift | M11: =Badges!B214 -> Independence | R11: =Badges!C288 -> Play a game of 20 questions | S11: =IF(Badges!D288="A","A"," ")
A12: =Summary!A11 -> Gardener | C12: =IF(Badges!D167="C","C",IF(Badges!D167="P","P","")) | F12: =Badges!C66 -> Make a simple instrument | G12: =IF(Badges!D66="A","A"," ") | J12: =Badges!C140 -> Make jewelry for a friend | K12: =IF(Badges!D140="A","A"," ") | M12: 1 | N12: =Badges!C215 -> Get transportation smart | Q12: 2 | R12: =Badges!C289 -> Create a costume
A13: =Summary!A12 -> Detective | C13: =IF(Badges!D190="C","C",IF(Badges!D190="P","P","")) | F13: =Badges!C67 -> Compose your own song | G13: =IF(Badges!D67="A","A"," ") | J13: =Badges!C141 -> Make jewelry for the girls in your | K13: =IF(Badges!D141="A","A"," ") | N13: =Badges!C216 -> Get a bike ready to ride | O13: =IF(Badges!D216="A","A"," ") | R13: =Badges!C290 -> Do it yourself | S13: =IF(Badges!D290="A","A"," ")
A14: =Summary!A13 -> Camper | C14: =IF(Badges!D213="C","C",IF(Badges!D213="P","P","")) | F14: =Badges!C68 -> Make up lyrics to a song | G14: =IF(Badges!D68="A","A"," ") | J14: =Badges!C142 -> Make jewelry for a relative | K14: =IF(Badges!D142="A","A"," ") | N14: =Badges!C217 -> Help take care of a car | O14: =IF(Badges!D217="A","A"," ") | R14: =Badges!C291 -> Make two or three accessories | S14: =IF(Badges!D291="A","A"," ")
A15: =Summary!A14 -> Independence | C15: =IF(Badges!D236="C","C",IF(Badges!D236="P","P","")) | E15: 5 | F15: =Badges!C69 -> Perform your music | I15: =Badges!B145 -> Gardener | N15: =Badges!C218 -> Use public transportation | O15: =IF(Badges!D218="A","A"," ") | R15: =Badges!C292 -> Draw it out | S15: =IF(Badges!D292="A","A"," ")
A16: =Summary!A15 -> It's Your Story -- Tell It! | F16: =Badges!C70 -> Create a performance | G16: =IF(Badges!D70="A","A"," ") | I16: 1 | J16: =Badges!C146 -> Visit a garden | M16: 2 | N16: =Badges!C219 -> Make your clothes look great | Q16: 3 | R16: =Badges!C293 -> Experience daily life
A17: =Summary!A16 -> Gecacher | C17: =IF(Badges!D260="C","C",IF(Badges!D260="P","P","")) | F17: =Badges!C71 -> Perform in a musical event | G17: =IF(Badges!D71="A","A"," ") | J17: =Badges!C147 -> Visit an outdoor garden | K17: =IF(Badges!D146="A","A"," ") | N17: =Badges!C220 -> Become a laundry expert | O17: =IF(Badges!D220="A","A"," ") | R17: =Badges!C294 -> What are your chores/duties | S17: =IF(Badges!D294="A","A"," ")
A18: =Summary!A17 -> Animal Habitats | C18: =IF(Badges!D283="C","C",IF(Badges!D283="P","P","")) -> C | F18: =Badges!C72 -> Add to your skills | G18: =IF(Badges!D72="A","A"," ") | J18: =Badges!C148 -> Visit an indoor garden | K18: =IF(Badges!D147="A","A"," ") | N18: =Badges!C221 -> Learn two basic sewing skills-and | O18: =IF(Badges!D221="A","A"," ") | R18: =Badges!C295 -> Food and meals | S18: =IF(Badges!D295="A","A"," ")
A19: =Summary!A18 -> Playing the Past | C19: =IF(Badges!D306="C","C",IF(Badges!D306="P","P","")) | E19: =Badges!B75 -> Entertainment Technology | J19: =Badges!C149 -> Visit a landscaped garden | K19: =IF(Badges!D148="A","A"," ") | N19: =Badges!C222 -> Try on the role of clothes | O19: =IF(Badges!D222="A","A"," ") | R19: =Badges!C296 -> Home Sweet Home | S19: =IF(Badges!D296="A","A"," ")
A20: =Summary!A19 -> Product Designer | C20: =IF(Badges!D329="C","C",IF(Badges!D329="P","P","")) | E20: 1 | F20: =Badges!C76 -> Animate your own artwork | I20: 2 | J20: =Badges!C150 -> Explore garden design | M20: 3 | N20: =Badges!C223 -> Break a bad habit | Q20: 4 | R20: =Badges!C297 -> Have some old-fashioned fun
A21: =Summary!A20 -> Social Butterfly | C21: =IF(Badges!D352="C","C",IF(Badges!D352="P","P","")) | F21: =Badges!C77 -> Make a flip book | G21: =IF(Badges!D77="A","A"," ") | J21: =Badges!C151 -> Plan your dream garden | K21: =IF(Badges!D150="A","A"," ") | N21: =Badges!C224 -> At school | O21: =IF(Badges!D224="A","A"," ") | R21: =Badges!C298 -> Make music | S21: =IF(Badges!D298="A","A"," ")
F22: =Badges!C78 -> Play around with stop-action | G22: =IF(Badges!D78="A","A"," ") | J22: =Badges!C152 -> Look into surprising gardens | K22: =IF(Badges!D151="A","A"," ") | N22: =Badges!C225 -> At home | O22: =IF(Badges!D225="A","A"," ") | R22: =Badges!C299 -> Play a game-or two | S22: =IF(Badges!D299="A","A"," ")
A23: =Badges!B6 -> Digital Photographer | F23: =Badges!C79 -> Make your own thaumatrope | G23: =IF(Badges!D79="A","A"," ") | J23: =Badges!C153 -> Make a mini Zen garden | K23: =IF(Badges!D152="A","A"," ") | N23: =Badges!C226 -> With your friends | O23: =IF(Badges!D226="A","A"," ") | R23: =Badges!C300 -> Create art | S23: =IF(Badges!D300="A","A"," ")
A24: 1 | B24: =Badges!C7 -> Learn about digital cameras from an | E24: 2 | F24: =Badges!C80 -> Dig into video game development | I24: 3 | J24: =Badges!C154 -> Learn how to choose garden plants | M24: 4 | N24: =Badges!C227 -> Help around the house | Q24: 5 | R24: =Badges!C301 -> Become your character
B25: =Badges!C8 -> Interview a local photographer or | C25: =IF(Badges!D8="A","A"," ") -> A | F25: =Badges!C81 -> Use a free downloadable program | G25: =IF(Badges!D81="A","A"," ") | J25: =Badges!C155 -> Find six plants that will grow in your | K25: =IF(Badges!D154="A","A"," ") | N25: =Badges!C228 -> Solve a pesky plumbing problem | O25: =IF(Badges!D228="A","A"," ") | R25: =Badges!C302 -> Make your own event | S25: =IF(Badges!D302="A","A"," ")
B26: =Badges!C9 -> Visit a camera store | C26: =IF(Badges!D9="A","A"," ") | F26: =Badges!C82 -> Go onto an interactive site | G26: =IF(Badges!D82="A","A"," ") | J26: =Badges!C156 -> Find six plants that grow in different | K26: =IF(Badges!D155="A","A"," ") | N26: =Badges!C229 -> Clean to the beat | O26: =IF(Badges!D229="A","A"," ") | R26: =Badges!C303 -> Have a living-history party | S26: =IF(Badges!D303="A","A"," ")
B27: =Badges!C10 -> Teach yourself the basics | C27: =IF(Badges!D10="A","A"," ") | F27: =Badges!C79 -> Make your own thaumatrope | G27: =IF(Badges!D83="A","A"," ") | J27: =Badges!C157 -> Find six seasonal plants | K27: =IF(Badges!D156="A","A"," ") | N27: =Badges!C230 -> Hang something up | O27: =IF(Badges!D230="A","A"," ") | R27: =Badges!C304 -> Attend a history-oriented event in | S27: =IF(Badges!D304="A","A"," ")
A28: 2 | B28: =Badges!C11 -> Take tons of photographs | E28: 3 | F28: =Badges!C84 -> Try the science of amusement park | I28: 4 | J28: =Badges!C158 -> Experiment with seeds | M28: 5 | N28: =Badges!C231 -> Show off your independence | Q28: =Badges!B307 -> Product Designer
B29: =Badges!C12 -> Photograph a friend or group of | C29: =IF(Badges!D12="A","A"," ") -> A | F29: =Badges!C85 -> Create a roller coaster with marbles | G29: =IF(Badges!D85="A","A"," ") -> A | J29: =Badges!C159 -> Experiment with soil | K29: =IF(Badges!D158="A","A"," ") | N29: =Badges!C232 -> Stay home alone | O29: =IF(Badges!D232="A","A"," ") | Q29: 1 | R29: =Badges!C308 -> Observe what makes a great
B30: =Badges!C13 -> Photograph a pet | C30: =IF(Badges!D13="A","A"," ") | F30: =Badges!C86 -> Catapult some stuff | G30: =IF(Badges!D86="A","A"," ") | J30: =Badges!C160 -> Experiment with water | K30: =IF(Badges!D159="A","A"," ") | N30: =Badges!C233 -> Run a family errand | O30: =IF(Badges!D233="A","A"," ") | R30: =Badges!C309 -> Choose a product you use at school | S30: =IF(Badges!D309="A","A"," ")
B31: =Badges!C14 -> Photograph a landscape | C31: =IF(Badges!D14="A","A"," ") | F31: =Badges!C83 -> Talk to a developer | G31: =IF(Badges!D87="A","A"," ") | J31: =Badges!C161 -> Experiment with sunlight | K31: =IF(Badges!D160="A","A"," ") | N31: =Badges!C234 -> Go out with a friend | O31: =IF(Badges!D234="A","A"," ") | R31: =Badges!C310 -> Choose a product from a hobby | S31: =IF(Badges!D310="A","A"," ")
A32: 3 | B32: =Badges!C15 -> Edit three photos | E32: 4 | F32: =Badges!C88 -> Create your own special effects | I32: 5 | J32: =Badges!C162 -> Grow your own garden | M32: =Badges!B238 -> Gecacher | R32: =Badges!C311 -> Choose a home product | S32: =IF(Badges!D311="A","A"," ")
B33: =Badges!C16 -> Fix something | C33: =IF(Badges!D16="A","A"," ") | F33: =Badges!C89 -> Try the blue screen | G33: =IF(Badges!D89="A","A"," ") -> A | J33: =Badges!C163 -> Plant an outdoor garden | K33: =IF(Badges!D162="A","A"," ") | M33: 1 | N33: =Badges!C239 -> Prepare for your adventure | Q33: 2 | R33: =Badges!C312 -> Be an innovation detective
B34: =Badges!C17 -> Change something | C34: =IF(Badges!D17="A","A"," ") | F34: =Badges!C90 -> Play makeup artist | G34: =IF(Badges!D90="A","A"," ") | J34: =Badges!C164 -> Plant an indoor garden | K34: =IF(Badges!D163="A","A"," ") | N34: =Badges!C240 -> With an adult, visit an official | O34: =IF(Badges!D240="A","A"," ") | R34: =Badges!C313 -> Observe | S34: =IF(Badges!D313="A","A"," ")
B35: =Badges!C18 -> Add something | C35: =IF(Badges!D18="A","A"," ") | F35: =Badges!C87 -> Figure out centrifugal force | G35: =IF(Badges!D91="A","A"," ") | J35: =Badges!C165 -> Help with planting at a community | K35: =IF(Badges!D164="A","A"," ") | N35: =Badges!C241 -> Invite a geocacher to talk to you | O35: =IF(Badges!D241="A","A"," ") | R35: =Badges!C314 -> Interview | S35: =IF(Badges!D314="A","A"," ")
A36: 4 | B36: =Badges!C19 -> Make a digital photo project | E36: 5 | F36: =Badges!C92 -> Surf a sound wave | I36: =Badges!B168 -> Detective | N36: =Badges!C242 -> Attend a geocaching event | O36: =IF(Badges!D242="A","A"," ") | R36: =Badges!C315 -> Photograph | S36: =IF(Badges!D315="A","A"," ")
B37: =Badges!C20 -> Create a collage | C37: =IF(Badges!D20="A","A"," ") | F37: =Badges!C93 -> Experiment with acoustics | G37: =IF(Badges!D93="A","A"," ") | I37: 1 | J37: =Badges!C169 -> Practice the power of observation | M37: 2 | N37: =Badges!C243 -> Learn to use a GPS receiver | Q37: 3 | R37: =Badges!C316 -> Figure out what's working and
B38: =Badges!C21 -> Create a panoramic photo to | C38: =IF(Badges!D21="A","A"," ") | F38: =Badges!C94 -> Go on an elephant hike | G38: =IF(Badges!D94="A","A"," ") | J38: =Badges!C170 -> Ask an adult helper to find and | K38: =IF(Badges!D170="A","A"," ") | N38: =Badges!C244 -> Find the GPS coordinates of three | O38: =IF(Badges!D244="A","A"," ") | R38: =Badges!C317 -> Step by step | S38: =IF(Badges!D317="A","A"," ")
B39: =Badges!C22 -> Make a gift for someone special | C39: =IF(Badges!D22="A","A"," ") | F39: =Badges!C91 -> Make your own 3-D glasses | G39: =IF(Badges!D95="A","A"," ") | J39: =Badges!C171 -> Shake up a room | K39: =IF(Badges!D171="A","A"," ") | N39: =Badges!C245 -> Hide an item for a friend to find | O39: =IF(Badges!D245="A","A"," ") | R39: =Badges!C318 -> Draw the product | S39: =IF(Badges!D318="A","A"," ")
A40: 5 | B40: =Badges!C23 -> Share your photos | E40: =Badges!B98 -> Scribe | J40: =Badges!C172 -> Take notice | K40: =IF(Badges!D172="A","A"," ") | N40: =Badges!C246 -> Go on a photo hunt | O40: =IF(Badges!D246="A","A"," ") | R40: =Badges!C319 -> Analyze a group of products | S40: =IF(Badges!D319="A","A"," ")
B41: =Badges!C24 -> Make a digital album | C41: =IF(Badges!D24="A","A"," ") | E41: 1 | F41: =Badges!C99 -> Start with a poem | I41: 2 | J41: =Badges!C173 -> Communicate in code | M41: 3 | N41: =Badges!C247 -> Make a trade item | Q41: 4 | R41: =Badges!C320 -> Innovate to find solutions
B42: =Badges!C25 -> Stage an art show | C42: =IF(Badges!D25="A","A"," ") | F42: =Badges!C100 -> Write one haiku and one limerick | G42: =IF(Badges!D100="A","A"," ") | J42: =Badges!C174 -> Learn some classic codes | K42: =IF(Badges!D174="A","A"," ") | N42: =Badges!C248 -> Make something that represents | O42: =IF(Badges!D248="A","A"," ") | R42: =Badges!C321 -> From terrible to terrific | S42: =IF(Badges!D321="A","A"," ")
B43: =Badges!C26 -> Start an online photo journal | C43: =IF(Badges!D26="A","A"," ") -> A | F43: =Badges!C101 -> Write one sonnet | G43: =IF(Badges!D101="A","A"," ") | J43: =Badges!C175 -> Create your own code with your | K43: =IF(Badges!D175="A","A"," ") | N43: =Badges!C249 -> Make a piece of jewelry | O43: =IF(Badges!D249="A","A"," ") | R43: =Badges!C322 -> Troubleshoot | S43: =IF(Badges!D322="A","A"," ")
A44: =Badges!B29 -> Staying Fit | F44: =Badges!C102 -> Write a free-verse poem | G44: =IF(Badges!D102="A","A"," ") | J44: =Badges!C176 -> Make invisible inks | K44: =IF(Badges!D176="A","A"," ") | N44: =Badges!C250 -> Make something that represents | O44: =IF(Badges!D250="A","A"," ") | R44: =Badges!C323 -> Fire the product, keep the job | S44: =IF(Badges!D323="A","A"," ")
A45: 1 | B45: =Badges!C30 -> Start moving | E45: 2 | F45: =Badges!C103 -> Create a short story | I45: 3 | J45: =Badges!C177 -> Fingerprint for fun | M45: 4 | N45: =Badges!C251 -> Go on a geocaching adventure | Q45: 5 | R45: =Badges!C324 -> Mess up so you can try again
B46: =Badges!C31 -> Try 30 minutes of aerobic activity | C46: =IF(Badges!D31="A","A"," ") | F46: =Badges!C104 -> Mystery | G46: =IF(Badges!D104="A","A"," ") | J46: =Badges!C178 -> Study three sets of prints | K46: =IF(Badges!D178="A","A"," ") | N46: =Badges!C252 -> Make it a hiking adventure | O46: =IF(Badges!D252="A","A"," ") | R46: =Badges!C325 -> Draw your idea | S46: =IF(Badges!D325="A","A"," ")
B47: =Badges!C32 -> Find a way to make your day more | C47: =IF(Badges!D32="A","A"," ") | F47: =Badges!C105 -> Humor | G47: =IF(Badges!D105="A","A"," ") | J47: =Badges!C179 -> Make your own identity card | K47: =IF(Badges!D179="A","A"," ") | N47: =Badges!C253 -> Take a multi-cache adventure | O47: =IF(Badges!D253="A","A"," ") | R47: =Badges!C326 -> Build a prototype | S47: =IF(Badges!D326="A","A"," ")
B48: =Badges!C33 -> Forget being a couch potato | C48: =IF(Badges!D33="A","A"," ") | F48: =Badges!C106 -> Adventure | G48: =IF(Badges!D106="A","A"," ") | J48: =Badges!C180 -> Get fingerprinted at your local police | K48: =IF(Badges!D180="A","A"," ") | N48: =Badges!C254 -> Go on a themed adventure | O48: =IF(Badges!D254="A","A"," ") | R48: =Badges!C327 -> Make your change on the original | S48: =IF(Badges!D327="A","A"," ")
A49: 2 | B49: =Badges!C34 -> Keep your fit body fueled | E49: 3 | F49: =Badges!C107 -> use words to share who you are | I49: 4 | J49: =Badges!C181 -> Try out detective science | M49: 5 | N49: =Badges!C255 -> Take part in a bug's travels! | Q49: =Badges!B330 -> Social Butterfly
B50: =Badges!C35 -> Be a food-label detective | C50: =IF(Badges!D35="A","A"," ") | F50: =Badges!C108 -> A favorite Girl Scout memory | G50: =IF(Badges!D108="A","A"," ") -> A | J50: =Badges!C182 -> Look at three kinds of "evidence" | K50: =IF(Badges!D182="A","A"," ") | N50: =Badges!C256 -> Make a bug go around the world | O50: =IF(Badges!D256="A","A"," ") | Q50: 1 | R50: =Badges!C331 -> Hold a conversation
B51: =Badges!C36 -> Play a brainstorm game | C51: =IF(Badges!D36="A","A"," ") | F51: =Badges!C109 -> A memorable day | G51: =IF(Badges!D109="A","A"," ") | J51: =Badges!C183 -> Find out about DNA | K51: =IF(Badges!D183="A","A"," ") | N51: =Badges!C257 -> Have your bug follow the girls | O51: =IF(Badges!D257="A","A"," ") | R51: =Badges!C332 -> Practice conversation starters | S51: =IF(Badges!D332="A","A"," ")
B52: =Badges!C37 -> Nutrient scavenger hunt | C52: =IF(Badges!D37="A","A"," ") | F52: =Badges!C110 -> A big adventure | G52: =IF(Badges!D110="A","A"," ") | J52: =Badges!C184 -> Detect handwriting details | K52: =IF(Badges!D184="A","A"," ") | N52: =Badges!C258 -> Track a bug's travels | O52: =IF(Badges!D258="A","A"," ") | R52: =Badges!C333 -> Invite an expert to come talk about | S52: =IF(Badges!D333="A","A"," ")
A53: 3 | B53: =Badges!C38 -> Know how to stress less | E53: 4 | F53: =Badges!C111 -> Write an article | I53: 5 | J53: =Badges!C185 -> Follow the clues to solve a real | M53: =Badges!B261 -> Animal Habitats | R53: =Badges!C334 -> Make a poster with 10 conversation | S53: =IF(Badges!D334="A","A"," ")
B54: =Badges!C39 -> Dear self | C54: =IF(Badges!D39="A","A"," ") | F54: =Badges!C112 -> An interview article | G54: =IF(Badges!D112="A","A"," ") | J54: =Badges!C186 -> Ask friends to create a clue hunt | K54: =IF(Badges!D186="A","A"," ") | M54: 1 | N54: =Badges!C262 -> Find out about wild animals | Q54: 2 | R54: =Badges!C335 -> Use table manners
B55: =Badges!C40 -> Helping others help us | C55: =IF(Badges!D40="A","A"," ") | F55: =Badges!C113 -> A news story | G55: =IF(Badges!D113="A","A"," ") | J55: =Badges!C187 -> Find clues "on the scene" | K55: =IF(Badges!D187="A","A"," ") | N55: =Badges!C263 -> Observe a pet or tame animal | O55: =IF(Badges!D263="A","A"," ") -> A | R55: =Badges!C336 -> Brainstorm five things not to do at | S55: =IF(Badges!D336="A","A"," ")
B56: =Badges!C41 -> Create a stress-free zone | C56: =IF(Badges!D41="A","A"," ") | F56: =Badges!C114 -> A "roundup" article | G56: =IF(Badges!D114="A","A"," ") | J56: =Badges!C188 -> Solve three online mysteries. | K56: =IF(Badges!D188="A","A"," ") | N56: =Badges!C264 -> Make a skit or puppet show about | O56: =IF(Badges!D264="A","A"," ") | R56: =Badges!C337 -> Set the table | S56: =IF(Badges!D337="A","A"," ")
A57: 4 | B57: =Badges!C42 -> Get the truth about health | E57: 5 | F57: =Badges!C115 -> Tell the world what you think | I57: =Badges!B191 -> Camper | N57: =Badges!C265 -> List wild animals near your home, | O57: =IF(Badges!D265="A","A"," ") | R57: =Badges!C338 -> Study table manners from other | S57: =IF(Badges!D338="A","A"," ")
B58: =Badges!C43 -> Review health websites | C58: =IF(Badges!D43="A","A"," ") | F58: =Badges!C116 -> A favorite animal | G58: =IF(Badges!D116="A","A"," ") | I58: 1 | J58: =Badges!C192 -> Start planning your adventure | M58: 2 | N58: =Badges!C266 -> Investigate an animal habitat | Q58: 3 | R58: =Badges!C339 -> Be prepared for special occasions
B59: =Badges!C44 -> Talk to a health professional | C59: =IF(Badges!D44="A","A"," ") | F59: =Badges!C117 -> A place you'd like to visit | G59: =IF(Badges!D117="A","A"," ") | J59: =Badges!C193 -> Talk to an experienced camper | K59: =IF(Badges!D193="A","A"," ") | N59: =Badges!C267 -> Visit a zoo or animal sanctuary | O59: =IF(Badges!D267="A","A"," ") -> A | R59: =Badges!C340 -> Wedding | S59: =IF(Badges!D340="A","A"," ")
B60: =Badges!C45 -> Find truth in advertising | C60: =IF(Badges!D45="A","A"," ") | F60: =Badges!C118 -> Your favorite book | G60: =IF(Badges!D118="A","A"," ") | J60: =Badges!C194 -> Go to an outdoor store | K60: =IF(Badges!D194="A","A"," ") | N60: =Badges!C268 -> Explore an animal habitat near | O60: =IF(Badges!D268="A","A"," ") | R60: =Badges!C341 -> Funeral or wake | S60: =IF(Badges!D341="A","A"," ")
A61: 5 | B61: =Badges!C46 -> Help your family stay fit | E61: =Badges!B122 -> Jeweler | J61: =Badges!C195 -> Look at campsite maps for your | K61: =IF(Badges!D195="A","A"," ") | N61: =Badges!C269 -> Make a habitat collage | O61: =IF(Badges!D269="A","A"," ") | R61: =Badges!C342 -> Coming-of-age ceremony | S61: =IF(Badges!D342="A","A"," ")
B62: =Badges!C47 -> Have a "slow food" dinner | C62: =IF(Badges!D47="A","A"," ") | E62: 1 | F62: =Badges!C123 -> Get to know the tools of the trade | I62: 2 | J62: =Badges!C196 -> Gain a new camping skill | M62: 3 | N62: =Badges!C270 -> Create an animal house | Q62: 4 | R62: =Badges!C343 -> Say thank you
B63: =Badges!C48 -> Come up with an active family | C63: =IF(Badges!D48="A","A"," ") | F63: =Badges!C124 -> Visit a jewelry store or jewelry artist | G63: =IF(Badges!D124="A","A"," ") | J63: =Badges!C197 -> Tie useful knots | K63: =IF(Badges!D197="A","A"," ") | N63: =Badges!C271 -> Check out baby-animal habitats | O63: =IF(Badges!D271="A","A"," ") | R63: =Badges!C344 -> Thank the host | S63: =IF(Badges!D344="A","A"," ")
B64: =Badges!C49 -> Have a family check-in night | C64: =IF(Badges!D49="A","A"," ") | F64: =Badges!C125 -> Visit a museum with an exhibit on | G64: =IF(Badges!D125="A","A"," ") | J64: =Badges!C198 -> Use a map and compass or GPS | K64: =IF(Badges!D198="A","A"," ") | N64: =Badges!C272 -> Make your own animal house | O64: =IF(Badges!D272="A","A"," ") -> A | R64: =Badges!C345 -> Handwrite a thank-you note | S64: =IF(Badges!D345="A","A"," ")
A65: =Badges!B52 -> Musician | F65: =Badges!C126 -> Invite a jewelry maker to talk to your | G65: =IF(Badges!D126="A","A"," ") | J65: =Badges!C199 -> Build a campfire | K65: =IF(Badges!D199="A","A"," ") | N65: =Badges!C273 -> Insulate your own "nest." | O65: =IF(Badges!D273="A","A"," ") | R65: =Badges!C346 -> Make a thank-you gift | S65: =IF(Badges!D346="A","A"," ")
A66: 1 | B66: =Badges!C53 -> Explore how music is made | E66: 2 | F66: =Badges!C127 -> Make jewelry with metal | I66: 3 | J66: =Badges!C200 -> Find your inner camp chef | M66: 4 | N66: =Badges!C274 -> Explore endangered habitats | Q66: 5 | R66: =Badges!C347 -> Practice being at ease
B67: =Badges!C54 -> Find out about three different | C67: =IF(Badges!D54="A","A"," ") | F67: =Badges!C128 -> Make a chain-loop necklace or | G67: =IF(Badges!D128="A","A"," ") | J67: =Badges!C201 -> Make a one-pot meal | K67: =IF(Badges!D201="A","A"," ") | N67: =Badges!C275 -> The Artic Circle | O67: =IF(Badges!D275="A","A"," ") -> A | R67: =Badges!C348 -> Other Girl Scouts | S67: =IF(Badges!D348="A","A"," ")
B68: =Badges!C55 -> Be a conductor | C68: =IF(Badges!D55="A","A"," ") | F68: =Badges!C129 -> Make a pendant with a photo or | G68: =IF(Badges!D129="A","A"," ") | J68: =Badges!C202 -> Cook in foil | K68: =IF(Badges!D202="A","A"," ") | N68: =Badges!C276 -> The Gulf of Mexico | O68: =IF(Badges!D276="A","A"," ") | R68: =Badges!C349 -> Your friends and their parents | S68: =IF(Badges!D349="A","A"," ")
B69: =Badges!C56 -> Get in the musical mood | C69: =IF(Badges!D56="A","A"," ") | F69: =Badges!C130 -> Make earrings by twisting wire into | G69: =IF(Badges!D130="A","A"," ") | J69: =Badges!C203 -> Cook a meal on a stick | K69: =IF(Badges!D203="A","A"," ") | N69: =Badges!C277 -> The Amazon rain forest | O69: =IF(Badges!D277="A","A"," ") | R69: =Badges!C350 -> Everyone in your class | S69: =IF(Badges!D350="A","A"," ")
A70: =MID(CELL("filename",A8),FIND(IF(ISERROR(FIND("]",CELL("filename",A8))),"$","]"),CELL("filename",A8))+1,256) -> Bekah | E70: Badges | I70: Badges | M70: Badges | Q70: Age-Level Patches
C71: Page 2 | E71: =Badges!B377 -> Practice with Purpose | I71: =Badges!B446 -> Junior First Aid | M71: =Badges!B516 -> Business Owner | Q71: ='Age-Level'!B5 -> Junior Aide Award | S71: =IF('Age-Level'!D9="C","C",IF('Age-Level'!D9="P","P","")) -> P
A72: =Summary!A21 -> Legacy | E72: 3 | F72: =Badges!C386 -> Build up your strength | I72: 4 | J72: =Badges!C459 -> Find out how to handle urgent first | M72: 5 | N72: =Badges!C533 -> Understand the importance of | Q72: ='Age-Level'!C11 -> Cookie Rally (Year 1) | S72: =IF('Age-Level'!D11="A","A"," ")
A73: =Summary!A22 -> Drawing | C73: =IF(Badges!D376="C","C",IF(Badges!D376="P","P","")) -> C | F73: =Badges!C387 -> Work with an older athlete in | G73: =IF(Badges!D387="A","A"," ") | J73: =Badges!C460 -> With your Junior friends, organize | K73: =IF(Badges!D460="A","A"," ") | N73: =Badges!C534 -> Pitch your pretend business | O73: =IF(Badges!D534="A","A"," ") | Q73: ='Age-Level'!C12 -> Cookie Sales (Year 1) | S73: =IF('Age-Level'!D12="A","A"," ")
A74: =Summary!A23 -> Practice with Purpose | C74: =IF(Badges!D399="C","C",IF(Badges!D399="P","P","")) | F74: =Badges!C388 -> Work with an expert, coach | G74: =IF(Badges!D388="A","A"," ") | J74: =Badges!C461 -> Research situations that require | K74: =IF(Badges!D461="A","A"," ") | N74: =Badges!C535 -> Conduct a "focus group" | O74: =IF(Badges!D535="A","A"," ") | Q74: ='Age-Level'!C13 -> Cookie Pin (Year 1) | S74: =IF('Age-Level'!D13="A","A"," ")
A75: =Summary!A24 -> Inside Government | C75: =IF(Badges!D422="C","C",IF(Badges!D422="P","P","")) | F75: =Badges!C389 -> Find a video with strength | G75: =IF(Badges!D389="A","A"," ") | J75: =Badges!C462 -> Go on a field trip to an ER | K75: =IF(Badges!D462="A","A"," ") | N75: =Badges!C536 -> Do a survey | O75: =IF(Badges!D536="A","A"," ") | Q75: ='Age-Level'!C14 -> Cookie Rally (Year 2) | S75: =IF('Age-Level'!D14="A","A"," ") -> A
A76: =Summary!A25 -> Simple Meals | C76: =IF(Badges!D445="C","C",IF(Badges!D445="P","P","")) | E76: 4 | F76: =Badges!C390 -> Drill for skill | I76: 5 | J76: =Badges!C463 -> Know how to take care of someone | M76: =Badges!B539 -> Savvy Shopper | Q76: ='Age-Level'!C15 -> Cookie Sales (Year 2) | S76: =IF('Age-Level'!D15="A","A"," ")
A77: =Summary!A26 -> Junior First Aid | C77: =IF(Badges!D468="C","C",IF(Badges!D468="P","P","")) | F77: =Badges!C391 -> Talk to a coach or gym teacher | G77: =IF(Badges!D391="A","A"," ") | J77: =Badges!C464 -> Read about illnesses and how to | K77: =IF(Badges!D464="A","A"," ") | M77: 1 | N77: =Badges!C540 -> Explore your needs and wants | Q77: ='Age-Level'!C16 -> Cookie Pin (Year 2) | S77: =IF('Age-Level'!D16="A","A"," ")
A78: =Summary!A27 -> Junior Girl Scout Way | C78: =IF(Badges!D491="C","C",IF(Badges!D491="P","P","")) -> C | F78: =Badges!C392 -> Work with a friend who likes the | G78: =IF(Badges!D392="A","A"," ") | J78: =Badges!C465 -> Visit a medical clinic | K78: =IF(Badges!D465="A","A"," ") | N78: =Badges!C541 -> Go on a home tour | O78: =IF(Badges!D541="A","A"," ") | Q78: ='Age-Level'!C18 -> Fall Sales (Year 1) | S78: =IF('Age-Level'!D18="A","A","")
A79: =Summary!A28 -> Flowers | C79: =IF(Badges!D514="C","C",IF(Badges!D514="P","P","")) | F79: =Badges!C393 -> Find a drill in a book or online | G79: =IF(Badges!D393="A","A"," ") | J79: =Badges!C466 -> Talk to family members and | K79: =IF(Badges!D466="A","A"," ") | N79: =Badges!C542 -> Make a collage | O79: =IF(Badges!D542="A","A"," ") | Q79: ='Age-Level'!C19 -> Fall Sales (Year 2) | S79: =IF('Age-Level'!D19="A","A","")
A80: =Summary!A29 -> Financial Literacy | E80: 5 | F80: =Badges!C394 -> Practice, practice, practice! | I80: =Badges!B469 -> Junior Girl Scout Way | N80: =Badges!C543 -> Take a survey | O80: =IF(Badges!D543="A","A"," ") | Q80: ='Age-Level'!C21 -> Thinking Day (Year 1) | S80: =IF('Age-Level'!D21="A","A","")
A81: =Summary!A30 -> Business Owner | C81: =IF(Badges!D538="C","C",IF(Badges!D538="P","P","")) | F81: =Badges!C395 -> Discuss the process with a | G81: =IF(Badges!D395="A","A"," ") | I81: 1 | J81: =Badges!C470 -> Match songs to an occasion | M81: 2 | N81: =Badges!C544 -> Look into why you want what you | Q81: ='Age-Level'!C22 -> Thinking Day (Year 2) | S81: =IF('Age-Level'!D22="A","A","")
A82: =Summary!A31 -> Savvy Shopper | C82: =IF(Badges!D561="C","C",IF(Badges!D561="P","P","")) | F82: =Badges!C396 -> Write a "Top 10 Tips for | G82: =IF(Badges!D396="A","A"," ") | J82: =Badges!C471 -> Find lift-the-spirit songs | K82: =IF(Badges!D471="A","A"," ") | N82: =Badges!C545 -> Log your wants | O82: =IF(Badges!D545="A","A"," ") | Q82: ='Age-Level'!C24 -> Global Action Award | S82: =IF('Age-Level'!D24="A","A","")
A83: =Summary!A32 -> Cookie Business | F83: =Badges!C397 -> Make a short video or photo | G83: =IF(Badges!D397="A","A"," ") | J83: =Badges!C472 -> Pick songs for a ceremony or | K83: =IF(Badges!D472="A","A"," ") -> A | N83: =Badges!C546 -> Investigate the latest trends | O83: =IF(Badges!D546="A","A"," ") | Q83: ='Age-Level'!C26 -> Journey Summit Pin | S83: =IF('Age-Level'!D26="A","A","")
A84: =Summary!A33 -> Cookie CEO | C84: =IF(Badges!D575="C","C",IF(Badges!D575="P","P","")) -> C | E84: =Badges!B400 -> Inside Government | J84: =Badges!C473 -> Make up a song to share a | K84: =IF(Badges!D473="A","A"," ") | N84: =Badges!C547 -> Do some time travel | O84: =IF(Badges!D547="A","A"," ") | Q84: ='Age-Level'!C28 -> International Friendship Recognition | S84: =IF('Age-Level'!D28="A","A","")
A85: =Summary!A34 -> Customer Insights | C85: =IF(Badges!D588="C","C",IF(Badges!D588="P","P","")) -> P | E85: 1 | F85: =Badges!C401 -> Decide what being an active | I85: 2 | J85: =Badges!C474 -> Celebrate the Girl Scout birthday | M85: 3 | N85: =Badges!C548 -> Find out what makes people happy | Q85: ='Age-Level'!C30 -> Investiture | S85: =IF('Age-Level'!D30="A","A","")
F86: =Badges!C402 -> Be an active citizen in action | G86: =IF(Badges!D402="A","A"," ") | J86: =Badges!C475 -> Celebrate the Girl Scout Promise | K86: =IF(Badges!D475="A","A"," ") -> A | N86: =Badges!C549 -> Family stories | O86: =IF(Badges!D549="A","A"," ") | Q86: ='Age-Level'!C31 -> Rededication (1st year) | S86: =IF('Age-Level'!D31="C","C","")
A87: Journey Awards | F87: =Badges!C403 -> Take a poll | G87: =IF(Badges!D403="A","A"," ") | J87: =Badges!C476 -> Imagine yourself as one of the | K87: =IF(Badges!D476="A","A"," ") | N87: =Badges!C550 -> Trade stories with friends | O87: =IF(Badges!D550="A","A"," ") | Q87: ='Age-Level'!C32 -> Rededication (2nd year) | S87: =IF('Age-Level'!D32="C","C","")
B88: =Journeys!A6 -> Agent of Change | F88: =Badges!C404 -> Get a global view | G88: =IF(Badges!D404="A","A"," ") | J88: =Badges!C477 -> Help a Brownie or Daisy group | K88: =IF(Badges!D477="A","A"," ") | N88: =Badges!C551 -> Analyze customer reviews | O88: =IF(Badges!D551="A","A"," ") | Q88: ='Age-Level'!C33 -> Rededication (3rd year) | S88: =IF('Age-Level'!D33="C","C","")
B89: =Journeys!B7 -> The Power of One Award | C89: =Journeys!D11 -> C | E89: 2 | F89: =Badges!C405 -> Go inside government | I89: 3 | J89: =Badges!C478 -> Share sisterhood | M89: 4 | N89: =Badges!C552 -> Learn how to decide what to buy | Q89: ='Age-Level'!C34 -> Rededication (4th year) | S89: =IF('Age-Level'!D34="C","C","")
B90: =Journeys!B12 -> The Power of Team Award | C90: =Journeys!D15 -> C | F90: =Badges!C406 -> Visit a branch of the city, town | G90: =IF(Badges!D406="A","A"," ") | J90: =Badges!C479 -> Make a time capsule | K90: =IF(Badges!D479="A","A"," ") | N90: =Badges!C553 -> Visit the mall | O90: =IF(Badges!D553="A","A"," ") | Q90: ='Age-Level'!C35 -> Rededication (5th year) | S90: =IF('Age-Level'!D35="C","C","")
B91: =Journeys!B16 -> The Power of Community Award | C91: =Journeys!D19 -> C | F91: =Badges!C407 -> Interview an elected official | G91: =IF(Badges!D407="A","A"," ") | J91: =Badges!C480 -> Scouts' Own for sisterhood | K91: =IF(Badges!D480="A","A"," ") | N91: =Badges!C554 -> Shop for groceries | O91: =IF(Badges!D554="A","A"," ") | Q91: ='Age-Level'!B36 -> My Promise, My Faith (Year 1)
B92: =Journeys!A22 -> GET MOVING! | F92: =Badges!C408 -> Chart the government structure | G92: =IF(Badges!D408="A","A"," ") | J92: =Badges!C481 -> Sisters across time | K92: =IF(Badges!D481="A","A"," ") -> A | N92: =Badges!C555 -> Go on a comparison scavenger | O92: =IF(Badges!D555="A","A"," ") | Q92: 1 | R92: ='Age-Level'!C37 -> Choose one line from the Law | S92: =IF('Age-Level'!D37="A","A","")
B93: =Journeys!B23 -> Energize Award | C93: =Journeys!D27 | E93: 3 | F93: =Badges!C409 -> Look into laws | I93: 4 | J93: =Badges!C482 -> Leave a place better than you found | M93: 5 | N93: =Badges!C556 -> Make a plan to buy something | Q93: 2 | R93: ='Age-Level'!C38 -> Find a woman in your community | S93: =IF('Age-Level'!D38="A","A","")
B94: =Journeys!B28 -> Investigate Award | C94: =Journeys!D32 | F94: =Badges!C410 -> Hold a "mock vote" on | G94: =IF(Badges!D410="A","A"," ") | J94: =Badges!C483 -> Improve part of a park in your | K94: =IF(Badges!D483="A","A"," ") | N94: =Badges!C557 -> Help with a family purchase | O94: =IF(Badges!D557="A","A"," ") | Q94: 3 | R94: ='Age-Level'!C39 -> Gather three inspirational quotes | S94: =IF('Age-Level'!D39="A","A","")
B95: =Journeys!B33 -> Innovate Award | C95: =Journeys!D36 | F95: =Badges!C411 -> For 24 hours, list the laws that | G95: =IF(Badges!D411="A","A"," ") | J95: =Badges!C484 -> Tackle a problem in your | K95: =IF(Badges!D484="A","A"," ") -> A | N95: =Badges!C558 -> Make a plan for your cookie | O95: =IF(Badges!D558="A","A"," ") | Q95: 4 | R95: ='Age-Level'!C40 -> Make something to remind you | S95: =IF('Age-Level'!D40="A","A","")
B96: =Journeys!A39 -> aMUSE | F96: =Badges!C412 -> Think about laws you might | G96: =IF(Badges!D412="A","A"," ") | J96: =Badges!C485 -> Make a walking tour for your | K96: =IF(Badges!D485="A","A"," ") | N96: =Badges!C559 -> Look into your future | O96: =IF(Badges!D559="A","A"," ") | Q96: 5 | R96: ='Age-Level'!C41 -> Make a commitment to live what | S96: =IF('Age-Level'!D41="A","A","")
B97: =Journeys!B40 -> Reach Out | C97: =Journeys!D42 | E97: 4 | F97: =Badges!C413 -> Report on the issues | I97: 5 | J97: =Badges!C486 -> Enjoy Girl Scout traditions | M97: =Badges!B563 -> Cookie CEO | Q97: ='Age-Level'!B43 -> My Promise, My Faith (Year 2)
B98: =Journeys!B43 -> Speak Out | C98: =Journeys!D45 | F98: =Badges!C414 -> Report on a government meeting | G98: =IF(Badges!D414="A","A"," ") | J98: =Badges!C487 -> Try a tradition from the past | K98: =IF(Badges!D487="A","A"," ") -> A | M98: 1 | N98: =Badges!C564 -> Set a group goal | Q98: 1 | R98: ='Age-Level'!C44 -> Choose one line from the Law | S98: =IF('Age-Level'!D44="A","A","")
B99: =Journeys!B46 -> Try Out | C99: =Journeys!D48 | F99: =Badges!C415 -> Follow the local news every day | G99: =IF(Badges!D415="A","A"," ") | J99: =Badges!C488 -> Create a game about Girl Scout | K99: =IF(Badges!D488="A","A"," ") | N99: =Badges!C565 -> Decide how many boxes of | O99: =IF(Badges!D565="A","A"," ") -> A | Q99: 2 | R99: ='Age-Level'!C45 -> Find a woman in your community | S99: =IF('Age-Level'!D45="A","A","")
F100: =Badges!C416 -> Interview a local historian or | G100: =IF(Badges!D416="A","A"," ") | J100: =Badges!C489 -> Start a Dez chain story | K100: =IF(Badges!D489="A","A"," ") | M100: 2 | N100: =Badges!C566 -> Explore how a small business | Q100: 3 | R100: ='Age-Level'!C46 -> Gather three inspirational quotes | S100: =IF('Age-Level'!D46="A","A","")
...

Sheet Elizabeth
A1: ='Parent Contact Info'!B17 -> Elizabeth | E1: Badges | I1: Badges | M1: Badges | Q1: Badges | T1: NOTE: Page 3, which has council's own badges on them, is not set up to print (neither is this).
C2: Page 1 | E2: =Badges!B52 -> Musician | I2: =Badges!B122 -> Jeweler | M2: =Badges!B191 -> Camper | Q2: =Badges!B261 -> Animal Habitats
A3: Badges Summary Total: | C3: =INT(COUNTIF(C5:C21,"C"))+INT(COUNTIF(C73:C85,"C")) -> 5 | E3: 2 | F3: =Badges!C57 -> Travel around the world of music | I3: 3 | J3: =Badges!C131 -> Turn everyday objects into jewelry | M3: 4 | N3: =Badges!C204 -> Try a new activity | Q3: 5 | R3: =Badges!C278 -> Help protect animal habitats
A4: =Summary!A3 -> It's Your World -- Change It! | F4: =Badges!C58 -> Listen to one pop song from three | G4: =IF(Badges!E58="A","A"," ") | J4: =Badges!C132 -> Make a bead bracelet | K4: =IF(Badges!E132="A","A"," ") | N4: =Badges!C205 -> Have some Leave No Trace fun | O4: =IF(Badges!E205="A","A"," ") | R4: =Badges!C279 -> Wildlife awareness party | S4: =IF(Badges!E279="A","A"," ")
A5: =Summary!A4 -> Digital Photographer | C5: =IF(Badges!E28="C","C",IF(Badges!E28="P","P","")) -> C | F5: =Badges!C59 -> Find out more about three | G5: =IF(Badges!E59="A","A"," ") | J5: =Badges!C133 -> Make two necklaces with different | K5: =IF(Badges!E133="A","A"," ") | N5: =Badges!C206 -> Be a scientist-and keep a journal | O5: =IF(Badges!E206="A","A"," ") | R5: =Badges!C280 -> Create a backyard habitat | S5: =IF(Badges!E280="A","A"," ")
A6: =Summary!A5 -> Staying Fit | C6: =IF(Badges!E51="C","C",IF(Badges!E51="P","P","")) | F6: =Badges!C60 -> Oh say, can you see | G6: =IF(Badges!E60="A","A"," ") | J6: =Badges!C134 -> Make jewelry from nature | K6: =IF(Badges!E134="A","A"," ") | N6: =Badges!C207 -> Try a new adventure | O6: =IF(Badges!E207="A","A"," ") | R6: =Badges!C281 -> Help clean up an animal habitat | S6: =IF(Badges!E281="A","A"," ") -> A
A7: =Summary!A6 -> Musician | C7: =IF(Badges!E74="C","C",IF(Badges!E74="P","P","")) | E7: 3 | F7: =Badges!C61 -> Check out the music in your life | I7: 4 | J7: =Badges!C135 -> Create jewelry inspired by another | M7: 5 | N7: =Badges!C208 -> Head out on your trip-and have | Q7: =Badges!B284 -> Playing the Past
A8: =Summary!A7 -> Entertainment Technology | C8: =IF(Badges!E97="C","C",IF(Badges!E97="P","P","")) | F8: =Badges!C62 -> Take a music poll | G8: =IF(Badges!E62="A","A"," ") | J8: =Badges!C136 -> Friendship ring from Ireland | K8: =IF(Badges!E136="A","A"," ") | N8: =Badges!C209 -> Gather around the campfire | O8: =IF(Badges!E209="A","A"," ") | Q8: 1 | R8: =Badges!C285 -> Decide who you are
A9: =Summary!A8 -> Scribe | C9: =IF(Badges!E120="C","C",IF(Badges!E120="P","P","")) -> P | F9: =Badges!C63 -> Go to a live musical performance | G9: =IF(Badges!E63="A","A"," ") | J9: =Badges!C137 -> American Indian animal jewelry | K9: =IF(Badges!E137="A","A"," ") | N9: =Badges!C210 -> Do a night watch | O9: =IF(Badges!E210="A","A"," ") | R9: =Badges!C286 -> Write her diary | S9: =IF(Badges!E286="A","A"," ")
A10: =Summary!A9 -> It's Your Planet -- Love It! | F10: =Badges!C64 -> Interview someone with a job in | G10: =IF(Badges!E64="A","A"," ") | J10: =Badges!C138 -> Name pendant from Egypt | K10: =IF(Badges!E138="A","A"," ") | N10: =Badges!C211 -> Have fun with flashlights | O10: =IF(Badges!E211="A","A"," ") | R10: =Badges!C287 -> Write a speech for your character | S10: =IF(Badges!E287="A","A"," ")
A11: =Summary!A10 -> Jeweler | C11: =IF(Badges!E144="C","C",IF(Badges!E144="P","P","")) | E11: 4 | F11: =Badges!C65 -> Make your own music | I11: 5 | J11: =Badges!C139 -> Make a sparkling gift | M11: =Badges!B214 -> Independence | R11: =Badges!C288 -> Play a game of 20 questions | S11: =IF(Badges!E288="A","A"," ")
A12: =Summary!A11 -> Gardener | C12: =IF(Badges!E167="C","C",IF(Badges!E167="P","P","")) | F12: =Badges!C66 -> Make a simple instrument | G12: =IF(Badges!E66="A","A"," ") | J12: =Badges!C140 -> Make jewelry for a friend | K12: =IF(Badges!E140="A","A"," ") | M12: 1 | N12: =Badges!C215 -> Get transportation smart | Q12: 2 | R12: =Badges!C289 -> Create a costume
A13: =Summary!A12 -> Detective | C13: =IF(Badges!E190="C","C",IF(Badges!E190="P","P","")) -> P | F13: =Badges!C67 -> Compose your own song | G13: =IF(Badges!E67="A","A"," ") | J13: =Badges!C141 -> Make jewelry for the girls in your | K13: =IF(Badges!E141="A","A"," ") | N13: =Badges!C216 -> Get a bike ready to ride | O13: =IF(Badges!E216="A","A"," ") | R13: =Badges!C290 -> Do it yourself | S13: =IF(Badges!E290="A","A"," ")
A14: =Summary!A13 -> Camper | C14: =IF(Badges!E213="C","C",IF(Badges!E213="P","P","")) | F14: =Badges!C68 -> Make up lyrics to a song | G14: =IF(Badges!E68="A","A"," ") | J14: =Badges!C142 -> Make jewelry for a relative | K14: =IF(Badges!E142="A","A"," ") | N14: =Badges!C217 -> Help take care of a car | O14: =IF(Badges!E217="A","A"," ") | R14: =Badges!C291 -> Make two or three accessories | S14: =IF(Badges!E291="A","A"," ")
A15: =Summary!A14 -> Independence | C15: =IF(Badges!E236="C","C",IF(Badges!E236="P","P","")) | E15: 5 | F15: =Badges!C69 -> Perform your music | I15: =Badges!B145 -> Gardener | N15: =Badges!C218 -> Use public transportation | O15: =IF(Badges!E218="A","A"," ") | R15: =Badges!C292 -> Draw it out | S15: =IF(Badges!E292="A","A"," ")
A16: =Summary!A15 -> It's Your Story -- Tell It! | F16: =Badges!C70 -> Create a performance | G16: =IF(Badges!E70="A","A"," ") | I16: 1 | J16: =Badges!C146 -> Visit a garden | M16: 2 | N16: =Badges!C219 -> Make your clothes look great | Q16: 3 | R16: =Badges!C293 -> Experience daily life
A17: =Summary!A16 -> Gecacher | C17: =IF(Badges!E260="C","C",IF(Badges!E260="P","P","")) | F17: =Badges!C71 -> Perform in a musical event | G17: =IF(Badges!E71="A","A"," ") | J17: =Badges!C147 -> Visit an outdoor garden | K17: =IF(Badges!E146="A","A"," ") | N17: =Badges!C220 -> Become a laundry expert | O17: =IF(Badges!E220="A","A"," ") | R17: =Badges!C294 -> What are your chores/duties | S17: =IF(Badges!E294="A","A"," ")
A18: =Summary!A17 -> Animal Habitats | C18: =IF(Badges!E283="C","C",IF(Badges!E283="P","P","")) -> C | F18: =Badges!C72 -> Add to your skills | G18: =IF(Badges!E72="A","A"," ") | J18: =Badges!C148 -> Visit an indoor garden | K18: =IF(Badges!E147="A","A"," ") | N18: =Badges!C221 -> Learn two basic sewing skills-and | O18: =IF(Badges!E221="A","A"," ") | R18: =Badges!C295 -> Food and meals | S18: =IF(Badges!E295="A","A"," ")
A19: =Summary!A18 -> Playing the Past | C19: =IF(Badges!E306="C","C",IF(Badges!E306="P","P","")) | E19: =Badges!B75 -> Entertainment Technology | J19: =Badges!C149 -> Visit a landscaped garden | K19: =IF(Badges!E148="A","A"," ") | N19: =Badges!C222 -> Try on the role of clothes | O19: =IF(Badges!E222="A","A"," ") | R19: =Badges!C296 -> Home Sweet Home | S19: =IF(Badges!E296="A","A"," ")
A20: =Summary!A19 -> Product Designer | C20: =IF(Badges!E329="C","C",IF(Badges!E329="P","P","")) | E20: 1 | F20: =Badges!C76 -> Animate your own artwork | I20: 2 | J20: =Badges!C150 -> Explore garden design | M20: 3 | N20: =Badges!C223 -> Break a bad habit | Q20: 4 | R20: =Badges!C297 -> Have some old-fashioned fun
A21: =Summary!A20 -> Social Butterfly | C21: =IF(Badges!E352="C","C",IF(Badges!E352="P","P","")) | F21: =Badges!C77 -> Make a flip book | G21: =IF(Badges!E77="A","A"," ") | J21: =Badges!C151 -> Plan your dream garden | K21: =IF(Badges!E150="A","A"," ") | N21: =Badges!C224 -> At school | O21: =IF(Badges!E224="A","A"," ") | R21: =Badges!C298 -> Make music | S21: =IF(Badges!E298="A","A"," ")
F22: =Badges!C78 -> Play around with stop-action | G22: =IF(Badges!E78="A","A"," ") | J22: =Badges!C152 -> Look into surprising gardens | K22: =IF(Badges!E151="A","A"," ") | N22: =Badges!C225 -> At home | O22: =IF(Badges!E225="A","A"," ") | R22: =Badges!C299 -> Play a game-or two | S22: =IF(Badges!E299="A","A"," ")
A23: =Badges!B6 -> Digital Photographer | F23: =Badges!C79 -> Make your own thaumatrope | G23: =IF(Badges!E79="A","A"," ") | J23: =Badges!C153 -> Make a mini Zen garden | K23: =IF(Badges!E152="A","A"," ") | N23: =Badges!C226 -> With your friends | O23: =IF(Badges!E226="A","A"," ") | R23: =Badges!C300 -> Create art | S23: =IF(Badges!E300="A","A"," ")
A24: 1 | B24: =Badges!C7 -> Learn about digital cameras from an | E24: 2 | F24: =Badges!C80 -> Dig into video game development | I24: 3 | J24: =Badges!C154 -> Learn how to choose garden plants | M24: 4 | N24: =Badges!C227 -> Help around the house | Q24: 5 | R24: =Badges!C301 -> Become your character
B25: =Badges!C8 -> Interview a local photographer or | C25: =IF(Badges!E8="A","A"," ") -> A | F25: =Badges!C81 -> Use a free downloadable program | G25: =IF(Badges!E81="A","A"," ") | J25: =Badges!C155 -> Find six plants that will grow in your | K25: =IF(Badges!E154="A","A"," ") | N25: =Badges!C228 -> Solve a pesky plumbing problem | O25: =IF(Badges!E228="A","A"," ") | R25: =Badges!C302 -> Make your own event | S25: =IF(Badges!E302="A","A"," ")
B26: =Badges!C9 -> Visit a camera store | C26: =IF(Badges!E9="A","A"," ") | F26: =Badges!C82 -> Go onto an interactive site | G26: =IF(Badges!E82="A","A"," ") | J26: =Badges!C156 -> Find six plants that grow in different | K26: =IF(Badges!E155="A","A"," ") | N26: =Badges!C229 -> Clean to the beat | O26: =IF(Badges!E229="A","A"," ") | R26: =Badges!C303 -> Have a living-history party | S26: =IF(Badges!E303="A","A"," ")
B27: =Badges!C10 -> Teach yourself the basics | C27: =IF(Badges!E10="A","A"," ") | F27: =Badges!C79 -> Make your own thaumatrope | G27: =IF(Badges!E83="A","A"," ") | J27: =Badges!C157 -> Find six seasonal plants | K27: =IF(Badges!E156="A","A"," ") | N27: =Badges!C230 -> Hang something up | O27: =IF(Badges!E230="A","A"," ") | R27: =Badges!C304 -> Attend a history-oriented event in | S27: =IF(Badges!E304="A","A"," ")
A28: 2 | B28: =Badges!C11 -> Take tons of photographs | E28: 3 | F28: =Badges!C84 -> Try the science of amusement park | I28: 4 | J28: =Badges!C158 -> Experiment with seeds | M28: 5 | N28: =Badges!C231 -> Show off your independence | Q28: =Badges!B307 -> Product Designer
B29: =Badges!C12 -> Photograph a friend or group of | C29: =IF(Badges!E12="A","A"," ") -> A | F29: =Badges!C85 -> Create a roller coaster with marbles | G29: =IF(Badges!E85="A","A"," ") | J29: =Badges!C159 -> Experiment with soil | K29: =IF(Badges!E158="A","A"," ") | N29: =Badges!C232 -> Stay home alone | O29: =IF(Badges!E232="A","A"," ") | Q29: 1 | R29: =Badges!C308 -> Observe what makes a great
B30: =Badges!C13 -> Photograph a pet | C30: =IF(Badges!E13="A","A"," ") | F30: =Badges!C86 -> Catapult some stuff | G30: =IF(Badges!E86="A","A"," ") | J30: =Badges!C160 -> Experiment with water | K30: =IF(Badges!E159="A","A"," ") | N30: =Badges!C233 -> Run a family errand | O30: =IF(Badges!E233="A","A"," ") | R30: =Badges!C309 -> Choose a product you use at school | S30: =IF(Badges!E309="A","A"," ")
B31: =Badges!C14 -> Photograph a landscape | C31: =IF(Badges!E14="A","A"," ") | F31: =Badges!C83 -> Talk to a developer | G31: =IF(Badges!E87="A","A"," ") | J31: =Badges!C161 -> Experiment with sunlight | K31: =IF(Badges!E160="A","A"," ") | N31: =Badges!C234 -> Go out with a friend | O31: =IF(Badges!E234="A","A"," ") | R31: =Badges!C310 -> Choose a product from a hobby | S31: =IF(Badges!E310="A","A"," ")
A32: 3 | B32: =Badges!C15 -> Edit three photos | E32: 4 | F32: =Badges!C88 -> Create your own special effects | I32: 5 | J32: =Badges!C162 -> Grow your own garden | M32: =Badges!B238 -> Gecacher | R32: =Badges!C311 -> Choose a home product | S32: =IF(Badges!E311="A","A"," ")
B33: =Badges!C16 -> Fix something | C33: =IF(Badges!E16="A","A"," ") | F33: =Badges!C89 -> Try the blue screen | G33: =IF(Badges!E89="A","A"," ") | J33: =Badges!C163 -> Plant an outdoor garden | K33: =IF(Badges!E162="A","A"," ") | M33: 1 | N33: =Badges!C239 -> Prepare for your adventure | Q33: 2 | R33: =Badges!C312 -> Be an innovation detective
B34: =Badges!C17 -> Change something | C34: =IF(Badges!E17="A","A"," ") -> A | F34: =Badges!C90 -> Play makeup artist | G34: =IF(Badges!E90="A","A"," ") | J34: =Badges!C164 -> Plant an indoor garden | K34: =IF(Badges!E163="A","A"," ") | N34: =Badges!C240 -> With an adult, visit an official | O34: =IF(Badges!E240="A","A"," ") | R34: =Badges!C313 -> Observe | S34: =IF(Badges!E313="A","A"," ")
B35: =Badges!C18 -> Add something | C35: =IF(Badges!E18="A","A"," ") | F35: =Badges!C87 -> Figure out centrifugal force | G35: =IF(Badges!E91="A","A"," ") | J35: =Badges!C165 -> Help with planting at a community | K35: =IF(Badges!E164="A","A"," ") | N35: =Badges!C241 -> Invite a geocacher to talk to you | O35: =IF(Badges!E241="A","A"," ") | R35: =Badges!C314 -> Interview | S35: =IF(Badges!E314="A","A"," ")
A36: 4 | B36: =Badges!C19 -> Make a digital photo project | E36: 5 | F36: =Badges!C92 -> Surf a sound wave | I36: =Badges!B168 -> Detective | N36: =Badges!C242 -> Attend a geocaching event | O36: =IF(Badges!E242="A","A"," ") | R36: =Badges!C315 -> Photograph | S36: =IF(Badges!E315="A","A"," ")
B37: =Badges!C20 -> Create a collage | C37: =IF(Badges!E20="A","A"," ") | F37: =Badges!C93 -> Experiment with acoustics | G37: =IF(Badges!E93="A","A"," ") | I37: 1 | J37: =Badges!C169 -> Practice the power of observation | M37: 2 | N37: =Badges!C243 -> Learn to use a GPS receiver | Q37: 3 | R37: =Badges!C316 -> Figure out what's working and
B38: =Badges!C21 -> Create a panoramic photo to | C38: =IF(Badges!E21="A","A"," ") | F38: =Badges!C94 -> Go on an elephant hike | G38: =IF(Badges!E94="A","A"," ") | J38: =Badges!C170 -> Ask an adult helper to find and | K38: =IF(Badges!E170="A","A"," ") -> A | N38: =Badges!C244 -> Find the GPS coordinates of three | O38: =IF(Badges!E244="A","A"," ") | R38: =Badges!C317 -> Step by step | S38: =IF(Badges!E317="A","A"," ")
B39: =Badges!C22 -> Make a gift for someone special | C39: =IF(Badges!E22="A","A"," ") -> A | F39: =Badges!C91 -> Make your own 3-D glasses | G39: =IF(Badges!E95="A","A"," ") | J39: =Badges!C171 -> Shake up a room | K39: =IF(Badges!E171="A","A"," ") | N39: =Badges!C245 -> Hide an item for a friend to find | O39: =IF(Badges!E245="A","A"," ") | R39: =Badges!C318 -> Draw the product | S39: =IF(Badges!E318="A","A"," ")
