Workbook

Sheet Instructions
A1: Instructions and FAQs:
A3: First, please enter your Service Unit in the box: | F3: 10
A5: Next, please enter your Troop number in this box: | F5: 40726
A7: Immediately after you download:
B8: You must save your spreadsheet to your hard drive. If you don't, it won't let you propogate the names throughout the spreadsheet, and it will act as though the spreadsheet is read-only.
A9: How to enter Junior Names in the spreadsheet:
B10: Double-Click on the Tabs at the bottom of the page that say "Junior 1", "Junior 2", etc. That will highlight the text. Simply type the girl's first name on the tab. That will cause her name to proliferate throughout the spreadsheet.
A11: The Parent Contact Info page:
B12: The Parent Contact Info page is simply there to give you a place to collect parent info for your scouts. Use it or not. It will have no effect on the rest of the sheet. This is just there as a tool for you.
A13: The Registration page:
B14: The Registration page is there to give you some help in remembering who has given you their registration papers, health history, paid their money to your council and your service unit. This will not spread anywhere else on the sheet. For the leader names, simply click on the names to change your leaders' names.
A15: The Attendance page:
B16: The Attendance page is used to help you keep track of who was present at various events, such as Meetings, Campouts, etc.
A17: The Dues page:
B18: Enter dues as you receive them. The sheet is set up for you to record money. Simply type in what they were able to contribute.
A19: How to enter credit on the Badges, Earned Age-Level, Signs, Bridgining and Bronze pages:
B20: To enter credit on the Badges page, enter an A as a girl completes each requirement.
A21: The Summary page:
B22: The summary page is for keeping track, at a glance, of where you are patches-wise. You can quickly see, at a glance, what you have already awarded to the girls, and what you still owe them. As you enter completion information in other parts of the spreadsheet, as soon as a girl is complete for an award, it will automatically pop up an E (and highlight it) on the Summary page. When you present the award to the girl, enter an A when you present the award (and the highlight goes away). Here is also where you will enter your Fun Patches. Simply type in the patch you need to order then place the "E" in the Earned column and it will calculate for you on the Summary page as well as enter it onto the individual girls' pages.
A23: The Order page:
B24: You will never enter any information on the Order page. It is a completely automated page that gleens information from the Summary page. When it is time for you to turn in your request for awards from your awards chair, simply go to the Order page for that information. Every time a girl earns a patch, the numbers on this page increase. When you award the patch to the girl (and enter an A on the Summary page), the numbers decrease.
A25: What's the purpose of the individual Junior pages?
B26: You will never enter any information on the individual Junior pages. Those pages are for you to occasionally print out and hand to the parents. You can use them to let a parent know what their daughter has and has not completed. You can also use that page to make homework assignments for the girls.
A27: Troubleshooting & Frequently Asked Questions
B28: First, most issues can be solved by carefully reading these instructions. I encourage you to re-read this entire page before you do anything else. If that doesn't help, then the home site has a troubleshooting and FAQ page:
C29: http://trax.boy-scouts.net/faq.htm
B30: If neither of these has helped, then please e-mail me and ask. However, I ask that you please exhaust the above resources before you e-mail me. I get several e-mails per day asking for help, and to be honest, if they ask a question which I've already covered in these instructions and/or the FAQ page, I'm very likely to ignore the e-mail. Please read before you e-mail me.
A31: What's the password?
B32: First, I wouldn't recommend unprotecting the spreadsheet. It has been locked for your protection. Basically, it has been locked to keep you from messing up the formulas. It's designed as such that if you are getting a message telling you that a cell is protected, then you are trying to type in the wrong box. But if you must know, the password is: junior
A33: What about sharing and editing this sheet?
B34: 1. You have my permission to share this spreadsheet, absolutely free of charge, to any scouter anywhere.
B35: 2. You have my permission to post this spreadsheet on any server willing to host it. I will, however, ask that if you DO post this spreadsheet on a server somewhere, that you occasionally check back to the two main site that will host this sheet to check for updates (to make sure you have the latest version available. The site is:
B36: The Girl Scout Trax Website: | E36: http://trax.boy-scouts.net/gstrax.htm
B37: 3. You have my permission to modify this sheet in any way to suit your own needs, however, if you do, please don't post your modified version anywhere on the internet.
B38: 4. You have my permission to e-mail me with suggestions for improvements you'd like to see, but please don't be offended if I don't use your suggestions.
A39: How can you contact me?
B40: aedmunds@bellsouth.net
A41: Version History
B42: JuniorTrax 1.0 | C42: 39462 | D42: - Initial release of the software package.
B44: JuniorTrax 1.1 | C44: 39716 | D44: - Fixed minor glitches and added Journey Awards
...

Sheet Parent Contact Info
A1: =Bekah!$A$1 -> Bekah | B1: Johnson | C1: Date of Birth: | E1: EMERGENCY CONTACT
A2: girl's email | C2: Cell Phone:
A3: Primary Adult | C3: Second Adult | F3: Name:
A4: Relationship: | B4: mom | C4: Relationship:
A5: Name: | B5: Bekah | C5: Name: | F5: Relationship:
A6: Address: | C6: Address:
A7: City, State ZIP: | C7: City, State ZIP: | F7: Home Phone:
A8: Home Phone: | C8: Home Phone:
A9: Work Phone: | C9: Work Phone: | F9: Work Phone:
A10: Cell Phone: | C10: Cell Phone:
A11: Home e-mail: | C11: Home e-mail: | F11: Cell Phone:
A12: Work e-mail: | C12: Work e-mail:
A13: =Elizabeth!$A$1 -> Elizabeth | B13: Hanson | C13: Date of Birth: | D13: 36917 | E13: EMERGENCY CONTACT
A14: girl's email | B14: Sandy Hanson | C14: Cell Phone:
A15: Primary Adult | C15: Second Adult | F15: Name: | G15: Michelle Foltz
A16: Relationship: | B16: Mom | C16: Relationship: | D16: dad- Jeff Hanson
A17: Name: | B17: Elizabeth | C17: Name: | F17: Relationship: | G17: Friend
A18: Address: | B18: 33 Battalion Ct | C18: Address: | D18: 49 Greatwood Ct
A19: City, State ZIP: | B19: Bunker Hill, WV 25413 | C19: City, State ZIP: | D19: Inwood, WvV 25428 | F19: Home Phone:
A20: Home Phone: | C20: Home Phone: | D20: 3042292748
A21: Work Phone: | C21: Work Phone: | F21: Work Phone:
A22: Cell Phone: | B22: 3045827108 | C22: Cell Phone: | D22: 3045825508
A23: Home e-mail: | C23: Home e-mail: | F23: Cell Phone: | G23: 3046716272
A24: Work e-mail: | C24: Work e-mail:
A25: =Meagan!$A$1 -> Meagan | B25: <<Last Name>> | C25: Date of Birth: | E25: EMERGENCY CONTACT
A26: girl's email | C26: Cell Phone:
A27: Primary Adult | C27: Second Adult | F27: Name:
A28: Relationship: | C28: Relationship:
A29: Name: | C29: Name: | F29: Relationship:
A30: Address: | C30: Address:
A31: City, State ZIP: | C31: City, State ZIP: | F31: Home Phone:
A32: Home Phone: | C32: Home Phone:
A33: Work Phone: | C33: Work Phone: | F33: Work Phone:
A34: Cell Phone: | C34: Cell Phone:
A35: Home e-mail: | C35: Home e-mail: | F35: Cell Phone:
A36: Work e-mail: | C36: Work e-mail:
A37: ='Junior 4'!$A$1 -> Junior 4 | B37: <<Last Name>> | C37: Date of Birth: | E37: EMERGENCY CONTACT
A38: girl's email | C38: Cell Phone:
A39: Primary Adult | C39: Second Adult | F39: Name:
A40: Relationship: | C40: Relationship:
...

Sheet Registration
B1: Service Unit: | C1: =Instructions!F3 -> 10 | D1: =Bekah!$A$1 -> Bekah | E1: =Elizabeth!$A$1 -> Elizabeth | F1: =Meagan!$A$1 -> Meagan | G1: ='Junior 4'!$A$1 -> Junior 4 | H1: ='Junior 5'!$A$1 -> Junior 5 | I1: ='Junior 6'!$A$1 -> Junior 6 | J1: ='Junior 7'!$A$1 -> Junior 7 | K1: ='Junior 8'!$A$1 -> Junior 8 | L1: ='Junior 9'!$A$1 -> Junior 9 | M1: ='Junior 10'!$A$1 -> Junior 10 | N1: ='Junior 11'!$A$1 -> Junior 11 | O1: ='Junior 12'!$A$1 -> Junior 12 | P1: ='Junior 13'!$A$1 -> Junior 13 | Q1: ='Junior 14'!$A$1 -> Junior 14 | R1: ='Junior 15'!$A$1 -> Junior 15 | S1: Leader 1 | T1: Leader 2 | U1: Leader 3 | V1: Leader 4 | W1: Leader 5 | X1: Leader 6 | Y1: Leader 7
B2: Troop: | C2: =Instructions!F5 -> 40726
A4: Enter A for credit
A6: 1 | B6: Registration Papers
A7: 2 | B7: Girl Scout Council Dues
A8: 3 | B8: Service Unit Dues
A9: 4 | B9: Annual Fund
A10: 5 | B10: Health History | E10: a
B11: Status: (P)artial or (C)omplete | D11: =IF(AND(D6="A",D7="A",D8="A",D9="A",D10="A"),"C",IF(COUNTIF(D6:D10,"A")>0,"P"," ")) | E11: =IF(AND(E6="A",E7="A",E8="A",E9="A",E10="A"),"C",IF(COUNTIF(E6:E10,"A")>0,"P"," ")) -> P | F11: =IF(AND(F6="A",F7="A",F8="A",F9="A",F10="A"),"C",IF(COUNTIF(F6:F10,"A")>0,"P"," ")) | G11: =IF(AND(G6="A",G7="A",G8="A",G9="A",G10="A"),"C",IF(COUNTIF(G6:G10,"A")>0,"P"," ")) | H11: =IF(AND(H6="A",H7="A",H8="A",H9="A",H10="A"),"C",IF(COUNTIF(H6:H10,"A")>0,"P"," ")) | I11: =IF(AND(I6="A",I7="A",I8="A",I9="A",I10="A"),"C",IF(COUNTIF(I6:I10,"A")>0,"P"," ")) | J11: =IF(AND(J6="A",J7="A",J8="A",J9="A",J10="A"),"C",IF(COUNTIF(J6:J10,"A")>0,"P"," ")) | K11: =IF(AND(K6="A",K7="A",K8="A",K9="A",K10="A"),"C",IF(COUNTIF(K6:K10,"A")>0,"P"," ")) | ... R11: =IF(AND(R6="A",R7="A",R8="A",R9="A",R10="A"),"C",IF(COUNTIF(R6:R10,"A")>0,"P"," ")) | S11: =IF(AND(S6="A",S7="A",S10="A"),"C",IF(COUNTIF(S6:S10,"A")>0,"P"," ")) | T11: =IF(AND(T6="A",T7="A",T10="A"),"C",IF(COUNTIF(T6:T10,"A")>0,"P"," ")) | U11: =IF(AND(U6="A",U7="A",U10="A"),"C",IF(COUNTIF(U6:U10,"A")>0,"P"," ")) | V11: =IF(AND(V6="A",V7="A",V10="A"),"C",IF(COUNTIF(V6:V10,"A")>0,"P"," ")) | W11: =IF(AND(W6="A",W7="A",W10="A"),"C",IF(COUNTIF(W6:W10,"A")>0,"P"," ")) | X11: =IF(AND(X6="A",X7="A",X10="A"),"C",IF(COUNTIF(X6:X10,"A")>0,"P"," ")) | Y11: =IF(AND(Y6="A",Y7="A",Y10="A"),"C",IF(COUNTIF(Y6:Y10,"A")>0,"P"," "))
A13: 1 | B13: Registration Papers
A14: 2 | B14: Girl Scout Council Dues
A15: 3 | B15: Service Unit Dues
A16: 4 | B16: Annual Fund
A17: 5 | B17: Health History
B18: Status: (P)artial or (C)omplete | D18: =IF(AND(D13="A",D14="A",D15="A",D16="A",D17="A"),"C",IF(COUNTIF(D13:D17,"A")>0,"P"," ")) | E18: =IF(AND(E13="A",E14="A",E15="A",E16="A",E17="A"),"C",IF(COUNTIF(E13:E17,"A")>0,"P"," ")) | F18: =IF(AND(F13="A",F14="A",F15="A",F16="A",F17="A"),"C",IF(COUNTIF(F13:F17,"A")>0,"P"," ")) | G18: =IF(AND(G13="A",G14="A",G15="A",G16="A",G17="A"),"C",IF(COUNTIF(G13:G17,"A")>0,"P"," ")) | H18: =IF(AND(H13="A",H14="A",H15="A",H16="A",H17="A"),"C",IF(COUNTIF(H13:H17,"A")>0,"P"," ")) | I18: =IF(AND(I13="A",I14="A",I15="A",I16="A",I17="A"),"C",IF(COUNTIF(I13:I17,"A")>0,"P"," ")) | J18: =IF(AND(J13="A",J14="A",J15="A",J16="A",J17="A"),"C",IF(COUNTIF(J13:J17,"A")>0,"P"," ")) | K18: =IF(AND(K13="A",K14="A",K15="A",K16="A",K17="A"),"C",IF(COUNTIF(K13:K17,"A")>0,"P"," ")) | ... R18: =IF(AND(R13="A",R14="A",R15="A",R16="A",R17="A"),"C",IF(COUNTIF(R13:R17,"A")>0,"P"," ")) | S18: =IF(AND(S13="A",S14="A",S17="A"),"C",IF(COUNTIF(S13:S17,"A")>0,"P"," ")) | T18: =IF(AND(T13="A",T14="A",T17="A"),"C",IF(COUNTIF(T13:T17,"A")>0,"P"," ")) | U18: =IF(AND(U13="A",U14="A",U17="A"),"C",IF(COUNTIF(U13:U17,"A")>0,"P"," ")) | V18: =IF(AND(V13="A",V14="A",V17="A"),"C",IF(COUNTIF(V13:V17,"A")>0,"P"," ")) | W18: =IF(AND(W13="A",W14="A",W17="A"),"C",IF(COUNTIF(W13:W17,"A")>0,"P"," ")) | X18: =IF(AND(X13="A",X14="A",X17="A"),"C",IF(COUNTIF(X13:X17,"A")>0,"P"," ")) | Y18: =IF(AND(Y13="A",Y14="A",Y17="A"),"C",IF(COUNTIF(Y13:Y17,"A")>0,"P"," "))

Sheet Dues
A1: Enter amount received | B1: =Bekah!$A$1 -> Bekah | C1: =Elizabeth!$A$1 -> Elizabeth | D1: =Meagan!$A$1 -> Meagan | E1: ='Junior 4'!$A$1 -> Junior 4 | F1: ='Junior 5'!$A$1 -> Junior 5 | G1: ='Junior 6'!$A$1 -> Junior 6 | H1: ='Junior 7'!$A$1 -> Junior 7 | I1: ='Junior 8'!$A$1 -> Junior 8 | J1: ='Junior 9'!$A$1 -> Junior 9 | K1: ='Junior 10'!$A$1 -> Junior 10 | L1: ='Junior 11'!$A$1 -> Junior 11 | M1: ='Junior 12'!$A$1 -> Junior 12 | N1: ='Junior 13'!$A$1 -> Junior 13 | O1: ='Junior 14'!$A$1 -> Junior 14 | P1: ='Junior 15'!$A$1 -> Junior 15 | Q1: meeting totals
A4: Date
Q5: =SUM(B5:P5) -> 0
Q6: =SUM(B6:P6) -> 0
Q7: =SUM(B7:P7) -> 0
Q8: =SUM(B8:P8) -> 0
Q9: =SUM(B9:P9) -> 0
Q10: =SUM(B10:P10) -> 0
Q11: =SUM(B11:P11) -> 0
Q12: =SUM(B12:P12) -> 0
Q13: =SUM(B13:P13) -> 0
Q14: =SUM(B14:P14) -> 0
Q15: =SUM(B15:P15) -> 0
Q16: =SUM(B16:P16) -> 0
... Q24: =SUM(B24:P24) -> 0
A25: yearly total (per girl) | B25: =SUM(B5:B24) -> 0 | C25: =SUM(C5:C24) -> 0 | D25: =SUM(D5:D24) -> 0 | E25: =SUM(E5:E24) -> 0 | F25: =SUM(F5:F24) -> 0 | G25: =SUM(G5:G24) -> 0 | H25: =SUM(H5:H24) -> 0 | I25: =SUM(I5:I24) -> 0 | ... Q25: =SUM(Q5:Q24) -> 0
Q27: =SUM(B27:P27) -> 0
Q28: =SUM(B28:P28) -> 0
Q29: =SUM(B29:P29) -> 0
Q30: =SUM(B30:P30) -> 0
Q31: =SUM(B31:P31) -> 0
Q32: =SUM(B32:P32) -> 0
Q33: =SUM(B33:P33) -> 0
Q34: =SUM(B34:P34) -> 0
Q35: =SUM(B35:P35) -> 0
Q36: =SUM(B36:P36) -> 0
Q37: =SUM(B37:P37) -> 0
Q38: =SUM(B38:P38) -> 0
... Q46: =SUM(B46:P46) -> 0
A47: yearly total (per girl) | B47: =SUM(B27:B46) -> 0 | C47: =SUM(C27:C46) -> 0 | D47: =SUM(D27:D46) -> 0 | E47: =SUM(E27:E46) -> 0 | F47: =SUM(F27:F46) -> 0 | G47: =SUM(G27:G46) -> 0 | H47: =SUM(H27:H46) -> 0 | I47: =SUM(I27:I46) -> 0 | ... Q47: =SUM(Q27:Q46) -> 0

Sheet Attendance
A1: Attendance | C1: =Bekah!$A$1 -> Bekah | D1: =Elizabeth!$A$1 -> Elizabeth | E1: =Meagan!$A$1 -> Meagan | F1: ='Junior 4'!$A$1 -> Junior 4 | G1: ='Junior 5'!$A$1 -> Junior 5 | H1: ='Junior 6'!$A$1 -> Junior 6 | I1: ='Junior 7'!$A$1 -> Junior 7 | J1: ='Junior 8'!$A$1 -> Junior 8 | K1: ='Junior 9'!$A$1 -> Junior 9 | L1: ='Junior 10'!$A$1 -> Junior 10 | M1: ='Junior 11'!$A$1 -> Junior 11 | N1: ='Junior 12'!$A$1 -> Junior 12 | O1: ='Junior 13'!$A$1 -> Junior 13 | P1: ='Junior 14'!$A$1 -> Junior 14 | Q1: ='Junior 15'!$A$1 -> Junior 15
A2: Enter A to indicated Attendance at the Event.
A4: Date | B4: Event Attended (Meeting, Field Trip, Day Camp, etc)
A5: 41169 | B5: meeting | C5: a | D5: a
A6: 41183 | B6: meeting | C6: a | D6: a
A7: 41197 | B7: meeting | C7: a | D7: a
A8: 41218 | B8: meeting | C8: a | D8: a | E8: a
A9: 41232 | B9: meeting (victoria csi badge) | D9: a
A10: 41248 | B10: meeting (cookie prep)
A11: 41262 | B11: Christmas caroling and party | C11: a
A12: 41281 | B12: metting (stephanie movie badge) | C12: a | D12: a | E12: a

Sheet Badges
B1: Service Unit | C1: =Instructions!F3 -> 10 | D1: =Bekah!$A$1 -> Bekah | E1: =Elizabeth!$A$1 -> Elizabeth | F1: =Meagan!$A$1 -> Meagan | G1: ='Junior 4'!$A$1 -> Junior 4 | H1: ='Junior 5'!$A$1 -> Junior 5 | I1: ='Junior 6'!$A$1 -> Junior 6 | J1: ='Junior 7'!$A$1 -> Junior 7 | K1: ='Junior 8'!$A$1 -> Junior 8 | L1: ='Junior 9'!$A$1 -> Junior 9 | M1: ='Junior 10'!$A$1 -> Junior 10 | N1: ='Junior 11'!$A$1 -> Junior 11 | O1: ='Junior 12'!$A$1 -> Junior 12 | P1: ='Junior 13'!$A$1 -> Junior 13 | Q1: ='Junior 14'!$A$1 -> Junior 14 | R1: ='Junior 15'!$A$1 -> Junior 15
B2: Troop | C2: =Instructions!F5 -> 40726
A3: Enter A for credit
A5: It's Your World -- Change It!
B6: Digital Photographer | D6: Every step has three choices. Do ONE choice to complete each step.
B7: 1 | C7: Learn about digital cameras from an
C8: Interview a local photographer or | D8: a | E8: a | F8: a
C9: Visit a camera store
C10: Teach yourself the basics
B11: 2 | C11: Take tons of photographs | D11: =IF(COUNTIF(D8:D10,"A")>=1,"C",IF(COUNTIF(D8:D10,"A")>0,"P"," ")) -> C | E11: =IF(COUNTIF(E8:E10,"A")>=1,"C",IF(COUNTIF(E8:E10,"A")>0,"P"," ")) -> C | F11: =IF(COUNTIF(F8:F10,"A")>=1,"C",IF(COUNTIF(F8:F10,"A")>0,"P"," ")) -> C | G11: =IF(COUNTIF(G8:G10,"A")>=1,"C",IF(COUNTIF(G8:G10,"A")>0,"P"," ")) | H11: =IF(COUNTIF(H8:H10,"A")>=1,"C",IF(COUNTIF(H8:H10,"A")>0,"P"," ")) | I11: =IF(COUNTIF(I8:I10,"A")>=1,"C",IF(COUNTIF(I8:I10,"A")>0,"P"," ")) | J11: =IF(COUNTIF(J8:J10,"A")>=1,"C",IF(COUNTIF(J8:J10,"A")>0,"P"," ")) | K11: =IF(COUNTIF(K8:K10,"A")>=1,"C",IF(COUNTIF(K8:K10,"A")>0,"P"," ")) | ... R11: =IF(COUNTIF(R8:R10,"A")>=1,"C",IF(COUNTIF(R8:R10,"A")>0,"P"," "))
C12: Photograph a friend or group of | D12: a | E12: a | F12: a
C13: Photograph a pet
C14: Photograph a landscape
B15: 3 | C15: Edit three photos | D15: =IF(COUNTIF(D12:D14,"A")>=1,"C",IF(COUNTIF(D12:D14,"A")>0,"P"," ")) -> C | E15: =IF(COUNTIF(E12:E14,"A")>=1,"C",IF(COUNTIF(E12:E14,"A")>0,"P"," ")) -> C | F15: =IF(COUNTIF(F12:F14,"A")>=1,"C",IF(COUNTIF(F12:F14,"A")>0,"P"," ")) -> C | G15: =IF(COUNTIF(G12:G14,"A")>=1,"C",IF(COUNTIF(G12:G14,"A")>0,"P"," ")) | H15: =IF(COUNTIF(H12:H14,"A")>=1,"C",IF(COUNTIF(H12:H14,"A")>0,"P"," ")) | I15: =IF(COUNTIF(I12:I14,"A")>=1,"C",IF(COUNTIF(I12:I14,"A")>0,"P"," ")) | J15: =IF(COUNTIF(J12:J14,"A")>=1,"C",IF(COUNTIF(J12:J14,"A")>0,"P"," ")) | K15: =IF(COUNTIF(K12:K14,"A")>=1,"C",IF(COUNTIF(K12:K14,"A")>0,"P"," ")) | ... R15: =IF(COUNTIF(R12:R14,"A")>=1,"C",IF(COUNTIF(R12:R14,"A")>0,"P"," "))
C16: Fix something
C17: Change something | E17: a | F17: a
C18: Add something
B19: 4 | C19: Make a digital photo project | D19: =IF(COUNTIF(D16:D18,"A")>=1,"C",IF(COUNTIF(D16:D18,"A")>0,"P"," ")) | E19: =IF(COUNTIF(E16:E18,"A")>=1,"C",IF(COUNTIF(E16:E18,"A")>0,"P"," ")) -> C | F19: =IF(COUNTIF(F16:F18,"A")>=1,"C",IF(COUNTIF(F16:F18,"A")>0,"P"," ")) -> C | G19: =IF(COUNTIF(G16:G18,"A")>=1,"C",IF(COUNTIF(G16:G18,"A")>0,"P"," ")) | H19: =IF(COUNTIF(H16:H18,"A")>=1,"C",IF(COUNTIF(H16:H18,"A")>0,"P"," ")) | I19: =IF(COUNTIF(I16:I18,"A")>=1,"C",IF(COUNTIF(I16:I18,"A")>0,"P"," ")) | J19: =IF(COUNTIF(J16:J18,"A")>=1,"C",IF(COUNTIF(J16:J18,"A")>0,"P"," ")) | K19: =IF(COUNTIF(K16:K18,"A")>=1,"C",IF(COUNTIF(K16:K18,"A")>0,"P"," ")) | ... R19: =IF(COUNTIF(R16:R18,"A")>=1,"C",IF(COUNTIF(R16:R18,"A")>0,"P"," "))
C20: Create a collage
C21: Create a panoramic photo to
C22: Make a gift for someone special | E22: a | F22: a
B23: 5 | C23: Share your photos | D23: =IF(COUNTIF(D20:D22,"A")>=1,"C",IF(COUNTIF(D20:D22,"A")>0,"P"," ")) | E23: =IF(COUNTIF(E20:E22,"A")>=1,"C",IF(COUNTIF(E20:E22,"A")>0,"P"," ")) -> C | F23: =IF(COUNTIF(F20:F22,"A")>=1,"C",IF(COUNTIF(F20:F22,"A")>0,"P"," ")) -> C | G23: =IF(COUNTIF(G20:G22,"A")>=1,"C",IF(COUNTIF(G20:G22,"A")>0,"P"," ")) | H23: =IF(COUNTIF(H20:H22,"A")>=1,"C",IF(COUNTIF(H20:H22,"A")>0,"P"," ")) | I23: =IF(COUNTIF(I20:I22,"A")>=1,"C",IF(COUNTIF(I20:I22,"A")>0,"P"," ")) | J23: =IF(COUNTIF(J20:J22,"A")>=1,"C",IF(COUNTIF(J20:J22,"A")>0,"P"," ")) | K23: =IF(COUNTIF(K20:K22,"A")>=1,"C",IF(COUNTIF(K20:K22,"A")>0,"P"," ")) | ... R23: =IF(COUNTIF(R20:R22,"A")>=1,"C",IF(COUNTIF(R20:R22,"A")>0,"P"," "))
C24: Make a digital album
C25: Stage an art show
C26: Start an online photo journal | D26: a | E26: a
D27: =IF(COUNTIF(D24:D26,"A")>=1,"C",IF(COUNTIF(D24:D26,"A")>0,"P"," ")) -> C | E27: =IF(COUNTIF(E24:E26,"A")>=1,"C",IF(COUNTIF(E24:E26,"A")>0,"P"," ")) -> C | F27: =IF(COUNTIF(F24:F26,"A")>=1,"C",IF(COUNTIF(F24:F26,"A")>0,"P"," ")) | G27: =IF(COUNTIF(G24:G26,"A")>=1,"C",IF(COUNTIF(G24:G26,"A")>0,"P"," ")) | H27: =IF(COUNTIF(H24:H26,"A")>=1,"C",IF(COUNTIF(H24:H26,"A")>0,"P"," ")) | I27: =IF(COUNTIF(I24:I26,"A")>=1,"C",IF(COUNTIF(I24:I26,"A")>0,"P"," ")) | J27: =IF(COUNTIF(J24:J26,"A")>=1,"C",IF(COUNTIF(J24:J26,"A")>0,"P"," ")) | K27: =IF(COUNTIF(K24:K26,"A")>=1,"C",IF(COUNTIF(K24:K26,"A")>0,"P"," ")) | ... R27: =IF(COUNTIF(R24:R26,"A")>=1,"C",IF(COUNTIF(R24:R26,"A")>0,"P"," "))
C28: Status: (P)artial or (C)omplete | D28: =IF(COUNTIF(D11:D27,"C")>4,"C",IF(COUNTIF(D11:D27,"C")>0,"P"," ")) -> P | E28: =IF(COUNTIF(E11:E27,"C")>4,"C",IF(COUNTIF(E11:E27,"C")>0,"P"," ")) -> C | F28: =IF(COUNTIF(F11:F27,"C")>4,"C",IF(COUNTIF(F11:F27,"C")>0,"P"," ")) -> P | G28: =IF(COUNTIF(G11:G27,"C")>4,"C",IF(COUNTIF(G11:G27,"C")>0,"P"," ")) | H28: =IF(COUNTIF(H11:H27,"C")>4,"C",IF(COUNTIF(H11:H27,"C")>0,"P"," ")) | I28: =IF(COUNTIF(I11:I27,"C")>4,"C",IF(COUNTIF(I11:I27,"C")>0,"P"," ")) | J28: =IF(COUNTIF(J11:J27,"C")>4,"C",IF(COUNTIF(J11:J27,"C")>0,"P"," ")) | K28: =IF(COUNTIF(K11:K27,"C")>4,"C",IF(COUNTIF(K11:K27,"C")>0,"P"," ")) | ... R28: =IF(COUNTIF(R11:R27,"C")>4,"C",IF(COUNTIF(R11:R27,"C")>0,"P"," "))
B29: Staying Fit
B30: 1 | C30: Start moving
C31: Try 30 minutes of aerobic activity
C32: Find a way to make your day more
C33: Forget being a couch potato
B34: 2 | C34: Keep your fit body fueled | D34: =IF(COUNTIF(D31:D33,"A")>=1,"C",IF(COUNTIF(D31:D33,"A")>0,"P"," ")) | E34: =IF(COUNTIF(E31:E33,"A")>=1,"C",IF(COUNTIF(E31:E33,"A")>0,"P"," ")) | F34: =IF(COUNTIF(F31:F33,"A")>=1,"C",IF(COUNTIF(F31:F33,"A")>0,"P"," ")) | G34: =IF(COUNTIF(G31:G33,"A")>=1,"C",IF(COUNTIF(G31:G33,"A")>0,"P"," ")) | H34: =IF(COUNTIF(H31:H33,"A")>=1,"C",IF(COUNTIF(H31:H33,"A")>0,"P"," ")) | I34: =IF(COUNTIF(I31:I33,"A")>=1,"C",IF(COUNTIF(I31:I33,"A")>0,"P"," ")) | J34: =IF(COUNTIF(J31:J33,"A")>=1,"C",IF(COUNTIF(J31:J33,"A")>0,"P"," ")) | K34: =IF(COUNTIF(K31:K33,"A")>=1,"C",IF(COUNTIF(K31:K33,"A")>0,"P"," ")) | ... R34: =IF(COUNTIF(R31:R33,"A")>=1,"C",IF(COUNTIF(R31:R33,"A")>0,"P"," "))
C35: Be a food-label detective
C36: Play a brainstorm game
C37: Nutrient scavenger hunt
B38: 3 | C38: Know how to stress less | D38: =IF(COUNTIF(D35:D37,"A")>=1,"C",IF(COUNTIF(D35:D37,"A")>0,"P"," ")) | E38: =IF(COUNTIF(E35:E37,"A")>=1,"C",IF(COUNTIF(E35:E37,"A")>0,"P"," ")) | F38: =IF(COUNTIF(F35:F37,"A")>=1,"C",IF(COUNTIF(F35:F37,"A")>0,"P"," ")) | G38: =IF(COUNTIF(G35:G37,"A")>=1,"C",IF(COUNTIF(G35:G37,"A")>0,"P"," ")) | H38: =IF(COUNTIF(H35:H37,"A")>=1,"C",IF(COUNTIF(H35:H37,"A")>0,"P"," ")) | I38: =IF(COUNTIF(I35:I37,"A")>=1,"C",IF(COUNTIF(I35:I37,"A")>0,"P"," ")) | J38: =IF(COUNTIF(J35:J37,"A")>=1,"C",IF(COUNTIF(J35:J37,"A")>0,"P"," ")) | K38: =IF(COUNTIF(K35:K37,"A")>=1,"C",IF(COUNTIF(K35:K37,"A")>0,"P"," ")) | ... R38: =IF(COUNTIF(R35:R37,"A")>=1,"C",IF(COUNTIF(R35:R37,"A")>0,"P"," "))
C39: Dear self
C40: Helping others help us
C41: Create a stress-free zone
...

Sheet Journeys
B1: Service Unit: | C1: =Instructions!F3 -> 10 | D1: =Bekah!$A$1 -> Bekah | E1: =Elizabeth!$A$1 -> Elizabeth | F1: =Meagan!$A$1 -> Meagan | G1: ='Junior 4'!$A$1 -> Junior 4 | H1: ='Junior 5'!$A$1 -> Junior 5 | I1: ='Junior 6'!$A$1 -> Junior 6 | J1: ='Junior 7'!$A$1 -> Junior 7 | K1: ='Junior 8'!$A$1 -> Junior 8 | L1: ='Junior 9'!$A$1 -> Junior 9 | M1: ='Junior 10'!$A$1 -> Junior 10 | N1: ='Junior 11'!$A$1 -> Junior 11 | O1: ='Junior 12'!$A$1 -> Junior 12 | P1: ='Junior 13'!$A$1 -> Junior 13 | Q1: ='Junior 14'!$A$1 -> Junior 14 | R1: ='Junior 15'!$A$1 -> Junior 15
B2: Troop: | C2: =Instructions!F5 -> 40726
A4: Enter A for credit
A5: It's Your World -- Change It!
A6: Agent of Change
B7: The Power of One Award
B8: 1 | C8: discover and share the powerful | D8: a | E8: a
B9: 2 | C9: use their own "power log" to | D9: a | E9: a
B10: 3 | C10: discover what the Girl Scout Law | D10: a | E10: a
C11: Status: (P)artial or (C)omplete | D11: =IF(COUNTIF(D8:D10,"A")>2,"C",IF(COUNTIF(D8:D10,"A")>0,"P"," ")) -> C | E11: =IF(COUNTIF(E8:E10,"A")>2,"C",IF(COUNTIF(E8:E10,"A")>0,"P"," ")) -> C | F11: =IF(COUNTIF(F8:F10,"A")>2,"C",IF(COUNTIF(F8:F10,"A")>0,"P"," ")) | G11: =IF(COUNTIF(G8:G10,"A")>2,"C",IF(COUNTIF(G8:G10,"A")>0,"P"," ")) | H11: =IF(COUNTIF(H8:H10,"A")>2,"C",IF(COUNTIF(H8:H10,"A")>0,"P"," ")) | I11: =IF(COUNTIF(I8:I10,"A")>2,"C",IF(COUNTIF(I8:I10,"A")>0,"P"," ")) | J11: =IF(COUNTIF(J8:J10,"A")>2,"C",IF(COUNTIF(J8:J10,"A")>0,"P"," ")) | K11: =IF(COUNTIF(K8:K10,"A")>2,"C",IF(COUNTIF(K8:K10,"A")>0,"P"," ")) | ... R11: =IF(COUNTIF(R8:R10,"A")>2,"C",IF(COUNTIF(R8:R10,"A")>0,"P"," "))
B12: The Power of Team Award
B13: 1 | C13: create a short "supergirl" story, | D13: a | E13: a
B14: 2 | C14: make a team decision | D14: a | E14: a
C15: Status: (P)artial or (C)omplete | D15: =IF(COUNTIF(D13:D14,"A")>1,"C",IF(COUNTIF(D13:D14,"A")>0,"P"," ")) -> C | E15: =IF(COUNTIF(E13:E14,"A")>1,"C",IF(COUNTIF(E13:E14,"A")>0,"P"," ")) -> C | F15: =IF(COUNTIF(F13:F14,"A")>1,"C",IF(COUNTIF(F13:F14,"A")>0,"P"," ")) | G15: =IF(COUNTIF(G13:G14,"A")>1,"C",IF(COUNTIF(G13:G14,"A")>0,"P"," ")) | H15: =IF(COUNTIF(H13:H14,"A")>1,"C",IF(COUNTIF(H13:H14,"A")>0,"P"," ")) | I15: =IF(COUNTIF(I13:I14,"A")>1,"C",IF(COUNTIF(I13:I14,"A")>0,"P"," ")) | J15: =IF(COUNTIF(J13:J14,"A")>1,"C",IF(COUNTIF(J13:J14,"A")>0,"P"," ")) | K15: =IF(COUNTIF(K13:K14,"A")>1,"C",IF(COUNTIF(K13:K14,"A")>0,"P"," ")) | ... R15: =IF(COUNTIF(R13:R14,"A")>1,"C",IF(COUNTIF(R13:R14,"A")>0,"P"," "))
B16: The Power of Community Award
B17: 1 | C17: take action on your plan, reach | D17: a | E17: a
B18: 2 | C18: join in their Girl Scout Junior circle | D18: a | E18: a
C19: Status: (P)artial or (C)omplete | D19: =IF(COUNTIF(D17:D18,"A")>1,"C",IF(COUNTIF(D17:D18,"A")>0,"P"," ")) -> C | E19: =IF(COUNTIF(E17:E18,"A")>1,"C",IF(COUNTIF(E17:E18,"A")>0,"P"," ")) -> P | F19: =IF(COUNTIF(F17:F18,"A")>1,"C",IF(COUNTIF(F17:F18,"A")>0,"P"," ")) | G19: =IF(COUNTIF(G17:G18,"A")>1,"C",IF(COUNTIF(G17:G18,"A")>0,"P"," ")) | H19: =IF(COUNTIF(H17:H18,"A")>1,"C",IF(COUNTIF(H17:H18,"A")>0,"P"," ")) | I19: =IF(COUNTIF(I17:I18,"A")>1,"C",IF(COUNTIF(I17:I18,"A")>0,"P"," ")) | J19: =IF(COUNTIF(J17:J18,"A")>1,"C",IF(COUNTIF(J17:J18,"A")>0,"P"," ")) | K19: =IF(COUNTIF(K17:K18,"A")>1,"C",IF(COUNTIF(K17:K18,"A")>0,"P"," ")) | ... R19: =IF(COUNTIF(R17:R18,"A")>1,"C",IF(COUNTIF(R17:R18,"A")>0,"P"," "))
A21: It's Your Planet -- Love It!
A22: GET MOVING!
B23: Energize Award
B24: 1 | C24: Make an Energy Pledge
B25: 2 | C25: Try at least two other Energize
B26: 3 | C26: Check out how other people
C27: Status: (P)artial or (C)omplete | D27: =IF(COUNTIF(D24:D26,"A")=3,"C",IF(COUNTIF(D24:D26,"A")>0,"P"," ")) | E27: =IF(COUNTIF(E24:E26,"A")=3,"C",IF(COUNTIF(E24:E26,"A")>0,"P"," ")) | F27: =IF(COUNTIF(F24:F26,"A")=3,"C",IF(COUNTIF(F24:F26,"A")>0,"P"," ")) | G27: =IF(COUNTIF(G24:G26,"A")=3,"C",IF(COUNTIF(G24:G26,"A")>0,"P"," ")) | H27: =IF(COUNTIF(H24:H26,"A")=3,"C",IF(COUNTIF(H24:H26,"A")>0,"P"," ")) | I27: =IF(COUNTIF(I24:I26,"A")=3,"C",IF(COUNTIF(I24:I26,"A")>0,"P"," ")) | J27: =IF(COUNTIF(J24:J26,"A")=3,"C",IF(COUNTIF(J24:J26,"A")>0,"P"," ")) | K27: =IF(COUNTIF(K24:K26,"A")=3,"C",IF(COUNTIF(K24:K26,"A")>0,"P"," ")) | ... R27: =IF(COUNTIF(R24:R26,"A")=3,"C",IF(COUNTIF(R24:R26,"A")>0,"P"," "))
B28: Investigate Award
B29: 1 | C29: Learn about energy use
B30: 2 | C30: Work with their families
B31: 3 | C31: Investigate energy use
C32: Status: (P)artial or (C)omplete | D32: =IF(COUNTIF(D29:D31,"A")=3,"C",IF(COUNTIF(D29:D31,"A")>0,"P"," ")) | E32: =IF(COUNTIF(E29:E31,"A")=3,"C",IF(COUNTIF(E29:E31,"A")>0,"P"," ")) | F32: =IF(COUNTIF(F29:F31,"A")=3,"C",IF(COUNTIF(F29:F31,"A")>0,"P"," ")) | G32: =IF(COUNTIF(G29:G31,"A")=3,"C",IF(COUNTIF(G29:G31,"A")>0,"P"," ")) | H32: =IF(COUNTIF(H29:H31,"A")=3,"C",IF(COUNTIF(H29:H31,"A")>0,"P"," ")) | I32: =IF(COUNTIF(I29:I31,"A")=3,"C",IF(COUNTIF(I29:I31,"A")>0,"P"," ")) | J32: =IF(COUNTIF(J29:J31,"A")=3,"C",IF(COUNTIF(J29:J31,"A")>0,"P"," ")) | K32: =IF(COUNTIF(K29:K31,"A")=3,"C",IF(COUNTIF(K29:K31,"A")>0,"P"," ")) | ... R32: =IF(COUNTIF(R29:R31,"A")=3,"C",IF(COUNTIF(R29:R31,"A")>0,"P"," "))
B33: Innovate Award
B34: 1 | C34: Identify an energy issue
B35: 2 | C35: Share the news
C36: Status: (P)artial or (C)omplete | D36: =IF(COUNTIF(D34:D35,"A")=2,"C",IF(COUNTIF(D34:D35,"A")>0,"P"," ")) | E36: =IF(COUNTIF(E34:E35,"A")=2,"C",IF(COUNTIF(E34:E35,"A")>0,"P"," ")) | F36: =IF(COUNTIF(F34:F35,"A")=2,"C",IF(COUNTIF(F34:F35,"A")>0,"P"," ")) | G36: =IF(COUNTIF(G34:G35,"A")=2,"C",IF(COUNTIF(G34:G35,"A")>0,"P"," ")) | H36: =IF(COUNTIF(H34:H35,"A")=2,"C",IF(COUNTIF(H34:H35,"A")>0,"P"," ")) | I36: =IF(COUNTIF(I34:I35,"A")=2,"C",IF(COUNTIF(I34:I35,"A")>0,"P"," ")) | J36: =IF(COUNTIF(J34:J35,"A")=2,"C",IF(COUNTIF(J34:J35,"A")>0,"P"," ")) | K36: =IF(COUNTIF(K34:K35,"A")=2,"C",IF(COUNTIF(K34:K35,"A")>0,"P"," ")) | ... R36: =IF(COUNTIF(R34:R35,"A")=2,"C",IF(COUNTIF(R34:R35,"A")>0,"P"," "))
A38: It's Your Story -- Tell It!
A39: aMUSE
B40: Reach Out
B41: 1 | C41: Reach Out
C42: Status: (P)artial or (C)omplete | D42: =IF(COUNTIF(D41:D41,"A")=1,"C",IF(COUNTIF(D41:D41,"A")>0,"P"," ")) | E42: =IF(COUNTIF(E41:E41,"A")=1,"C",IF(COUNTIF(E41:E41,"A")>0,"P"," ")) | F42: =IF(COUNTIF(F41:F41,"A")=1,"C",IF(COUNTIF(F41:F41,"A")>0,"P"," ")) | G42: =IF(COUNTIF(G41:G41,"A")=1,"C",IF(COUNTIF(G41:G41,"A")>0,"P"," ")) | H42: =IF(COUNTIF(H41:H41,"A")=1,"C",IF(COUNTIF(H41:H41,"A")>0,"P"," ")) | I42: =IF(COUNTIF(I41:I41,"A")=1,"C",IF(COUNTIF(I41:I41,"A")>0,"P"," ")) | J42: =IF(COUNTIF(J41:J41,"A")=1,"C",IF(COUNTIF(J41:J41,"A")>0,"P"," ")) | K42: =IF(COUNTIF(K41:K41,"A")=1,"C",IF(COUNTIF(K41:K41,"A")>0,"P"," ")) | ... R42: =IF(COUNTIF(R41:R41,"A")=1,"C",IF(COUNTIF(R41:R41,"A")>0,"P"," "))
B43: Speak Out
...

Sheet Council Own
B1: Service Unit: | C1: =[1]Instructions!E3 -> 0 | D1: =Bekah!$A$1 -> Bekah | E1: =Elizabeth!$A$1 -> Elizabeth | F1: =Meagan!$A$1 -> Meagan | G1: ='Junior 4'!$A$1 -> Junior 4 | H1: ='Junior 5'!$A$1 -> Junior 5 | I1: ='Junior 6'!$A$1 -> Junior 6 | J1: ='Junior 7'!$A$1 -> Junior 7 | K1: ='Junior 8'!$A$1 -> Junior 8 | L1: ='Junior 9'!$A$1 -> Junior 9 | M1: ='Junior 10'!$A$1 -> Junior 10 | N1: ='Junior 11'!$A$1 -> Junior 11 | O1: ='Junior 12'!$A$1 -> Junior 12 | P1: ='Junior 13'!$A$1 -> Junior 13 | Q1: ='Junior 14'!$A$1 -> Junior 14 | R1: ='Junior 15'!$A$1 -> Junior 15
B2: Troop: | C2: =[1]Instructions!E5 -> 0
A4: Enter A for credit
A5: Council's Own
B6: <<List Badge Here>> | D6: Every step has three choices. Do ONE choice to complete each step.
B7: 1 | C7: <List Requirement Here> | S7: These I modeled after all the others. If you can attain a picture, you may paste it in the space to the left of the name. You will enter the name of the badge, and all the requirements under the name. I've left the comments open so that you may enter the specific requirements here. Everything will transfer through to all the other necessary sheets. The status portion is set the same at 1 step for each requirements to complete. You may change if you know how, otherwise, just enter the A's if they're done.
C8: <List Requirement Here>
C9: <List Requirement Here>
C10: <List Requirement Here>
B11: 2 | C11: <List Requirement Here> | D11: =IF(COUNTIF(D8:D10,"A")>=1,"C",IF(COUNTIF(D8:D10,"A")>0,"P"," ")) | E11: =IF(COUNTIF(E8:E10,"A")>=1,"C",IF(COUNTIF(E8:E10,"A")>0,"P"," ")) | F11: =IF(COUNTIF(F8:F10,"A")>=1,"C",IF(COUNTIF(F8:F10,"A")>0,"P"," ")) | G11: =IF(COUNTIF(G8:G10,"A")>=1,"C",IF(COUNTIF(G8:G10,"A")>0,"P"," ")) | H11: =IF(COUNTIF(H8:H10,"A")>=1,"C",IF(COUNTIF(H8:H10,"A")>0,"P"," ")) | I11: =IF(COUNTIF(I8:I10,"A")>=1,"C",IF(COUNTIF(I8:I10,"A")>0,"P"," ")) | J11: =IF(COUNTIF(J8:J10,"A")>=1,"C",IF(COUNTIF(J8:J10,"A")>0,"P"," ")) | K11: =IF(COUNTIF(K8:K10,"A")>=1,"C",IF(COUNTIF(K8:K10,"A")>0,"P"," ")) | ... R11: =IF(COUNTIF(R8:R10,"A")>=1,"C",IF(COUNTIF(R8:R10,"A")>0,"P"," "))
C12: <List Requirement Here>
C13: <List Requirement Here>
C14: <List Requirement Here>
B15: 3 | C15: <List Requirement Here> | D15: =IF(COUNTIF(D12:D14,"A")>=1,"C",IF(COUNTIF(D12:D14,"A")>0,"P"," ")) | E15: =IF(COUNTIF(E12:E14,"A")>=1,"C",IF(COUNTIF(E12:E14,"A")>0,"P"," ")) | F15: =IF(COUNTIF(F12:F14,"A")>=1,"C",IF(COUNTIF(F12:F14,"A")>0,"P"," ")) | G15: =IF(COUNTIF(G12:G14,"A")>=1,"C",IF(COUNTIF(G12:G14,"A")>0,"P"," ")) | H15: =IF(COUNTIF(H12:H14,"A")>=1,"C",IF(COUNTIF(H12:H14,"A")>0,"P"," ")) | I15: =IF(COUNTIF(I12:I14,"A")>=1,"C",IF(COUNTIF(I12:I14,"A")>0,"P"," ")) | J15: =IF(COUNTIF(J12:J14,"A")>=1,"C",IF(COUNTIF(J12:J14,"A")>0,"P"," ")) | K15: =IF(COUNTIF(K12:K14,"A")>=1,"C",IF(COUNTIF(K12:K14,"A")>0,"P"," ")) | ... R15: =IF(COUNTIF(R12:R14,"A")>=1,"C",IF(COUNTIF(R12:R14,"A")>0,"P"," "))
C16: <List Requirement Here>
C17: <List Requirement Here>
C18: <List Requirement Here>
B19: 4 | C19: <List Requirement Here> | D19: =IF(COUNTIF(D16:D18,"A")>=1,"C",IF(COUNTIF(D16:D18,"A")>0,"P"," ")) | E19: =IF(COUNTIF(E16:E18,"A")>=1,"C",IF(COUNTIF(E16:E18,"A")>0,"P"," ")) | F19: =IF(COUNTIF(F16:F18,"A")>=1,"C",IF(COUNTIF(F16:F18,"A")>0,"P"," ")) | G19: =IF(COUNTIF(G16:G18,"A")>=1,"C",IF(COUNTIF(G16:G18,"A")>0,"P"," ")) | H19: =IF(COUNTIF(H16:H18,"A")>=1,"C",IF(COUNTIF(H16:H18,"A")>0,"P"," ")) | I19: =IF(COUNTIF(I16:I18,"A")>=1,"C",IF(COUNTIF(I16:I18,"A")>0,"P"," ")) | J19: =IF(COUNTIF(J16:J18,"A")>=1,"C",IF(COUNTIF(J16:J18,"A")>0,"P"," ")) | K19: =IF(COUNTIF(K16:K18,"A")>=1,"C",IF(COUNTIF(K16:K18,"A")>0,"P"," ")) | ... R19: =IF(COUNTIF(R16:R18,"A")>=1,"C",IF(COUNTIF(R16:R18,"A")>0,"P"," "))
C20: <List Requirement Here>
C21: <List Requirement Here>
C22: <List Requirement Here>
B23: 5 | C23: <List Requirement Here> | D23: =IF(COUNTIF(D20:D22,"A")>=1,"C",IF(COUNTIF(D20:D22,"A")>0,"P"," ")) | E23: =IF(COUNTIF(E20:E22,"A")>=1,"C",IF(COUNTIF(E20:E22,"A")>0,"P"," ")) | F23: =IF(COUNTIF(F20:F22,"A")>=1,"C",IF(COUNTIF(F20:F22,"A")>0,"P"," ")) | G23: =IF(COUNTIF(G20:G22,"A")>=1,"C",IF(COUNTIF(G20:G22,"A")>0,"P"," ")) | H23: =IF(COUNTIF(H20:H22,"A")>=1,"C",IF(COUNTIF(H20:H22,"A")>0,"P"," ")) | I23: =IF(COUNTIF(I20:I22,"A")>=1,"C",IF(COUNTIF(I20:I22,"A")>0,"P"," ")) | J23: =IF(COUNTIF(J20:J22,"A")>=1,"C",IF(COUNTIF(J20:J22,"A")>0,"P"," ")) | K23: =IF(COUNTIF(K20:K22,"A")>=1,"C",IF(COUNTIF(K20:K22,"A")>0,"P"," ")) | ... R23: =IF(COUNTIF(R20:R22,"A")>=1,"C",IF(COUNTIF(R20:R22,"A")>0,"P"," "))
C24: <List Requirement Here>
C25: <List Requirement Here>
C26: <List Requirement Here>
D27: =IF(COUNTIF(D24:D26,"A")>=1,"C",IF(COUNTIF(D24:D26,"A")>0,"P"," ")) | E27: =IF(COUNTIF(E24:E26,"A")>=1,"C",IF(COUNTIF(E24:E26,"A")>0,"P"," ")) | F27: =IF(COUNTIF(F24:F26,"A")>=1,"C",IF(COUNTIF(F24:F26,"A")>0,"P"," ")) | G27: =IF(COUNTIF(G24:G26,"A")>=1,"C",IF(COUNTIF(G24:G26,"A")>0,"P"," ")) | H27: =IF(COUNTIF(H24:H26,"A")>=1,"C",IF(COUNTIF(H24:H26,"A")>0,"P"," ")) | I27: =IF(COUNTIF(I24:I26,"A")>=1,"C",IF(COUNTIF(I24:I26,"A")>0,"P"," ")) | J27: =IF(COUNTIF(J24:J26,"A")>=1,"C",IF(COUNTIF(J24:J26,"A")>0,"P"," ")) | K27: =IF(COUNTIF(K24:K26,"A")>=1,"C",IF(COUNTIF(K24:K26,"A")>0,"P"," ")) | ... R27: =IF(COUNTIF(R24:R26,"A")>=1,"C",IF(COUNTIF(R24:R26,"A")>0,"P"," "))
C28: Status: (P)artial or (C)omplete | D28: =IF(COUNTIF(D11:D27,"C")>4,"C",IF(COUNTIF(D11:D27,"C")>0,"P"," ")) | E28: =IF(COUNTIF(E11:E27,"C")>4,"C",IF(COUNTIF(E11:E27,"C")>0,"P"," ")) | F28: =IF(COUNTIF(F11:F27,"C")>4,"C",IF(COUNTIF(F11:F27,"C")>0,"P"," ")) | G28: =IF(COUNTIF(G11:G27,"C")>4,"C",IF(COUNTIF(G11:G27,"C")>0,"P"," ")) | H28: =IF(COUNTIF(H11:H27,"C")>4,"C",IF(COUNTIF(H11:H27,"C")>0,"P"," ")) | I28: =IF(COUNTIF(I11:I27,"C")>4,"C",IF(COUNTIF(I11:I27,"C")>0,"P"," ")) | J28: =IF(COUNTIF(J11:J27,"C")>4,"C",IF(COUNTIF(J11:J27,"C")>0,"P"," ")) | K28: =IF(COUNTIF(K11:K27,"C")>4,"C",IF(COUNTIF(K11:K27,"C")>0,"P"," ")) | ... R28: =IF(COUNTIF(R11:R27,"C")>4,"C",IF(COUNTIF(R11:R27,"C")>0,"P"," "))
B30: <<List Badge Here>>
B31: 1 | C31: <List Requirement Here>
C32: <List Requirement Here>
C33: <List Requirement Here>
C34: <List Requirement Here>
B35: 2 | C35: <List Requirement Here> | D35: =IF(COUNTIF(D32:D34,"A")>=1,"C",IF(COUNTIF(D32:D34,"A")>0,"P"," ")) | E35: =IF(COUNTIF(E32:E34,"A")>=1,"C",IF(COUNTIF(E32:E34,"A")>0,"P"," ")) | F35: =IF(COUNTIF(F32:F34,"A")>=1,"C",IF(COUNTIF(F32:F34,"A")>0,"P"," ")) | G35: =IF(COUNTIF(G32:G34,"A")>=1,"C",IF(COUNTIF(G32:G34,"A")>0,"P"," ")) | H35: =IF(COUNTIF(H32:H34,"A")>=1,"C",IF(COUNTIF(H32:H34,"A")>0,"P"," ")) | I35: =IF(COUNTIF(I32:I34,"A")>=1,"C",IF(COUNTIF(I32:I34,"A")>0,"P"," ")) | J35: =IF(COUNTIF(J32:J34,"A")>=1,"C",IF(COUNTIF(J32:J34,"A")>0,"P"," ")) | K35: =IF(COUNTIF(K32:K34,"A")>=1,"C",IF(COUNTIF(K32:K34,"A")>0,"P"," ")) | ... R35: =IF(COUNTIF(R32:R34,"A")>=1,"C",IF(COUNTIF(R32:R34,"A")>0,"P"," "))
C36: <List Requirement Here>
C37: <List Requirement Here>
C38: <List Requirement Here>
B39: 3 | C39: <List Requirement Here> | D39: =IF(COUNTIF(D36:D38,"A")>=1,"C",IF(COUNTIF(D36:D38,"A")>0,"P"," ")) | E39: =IF(COUNTIF(E36:E38,"A")>=1,"C",IF(COUNTIF(E36:E38,"A")>0,"P"," ")) | F39: =IF(COUNTIF(F36:F38,"A")>=1,"C",IF(COUNTIF(F36:F38,"A")>0,"P"," ")) | G39: =IF(COUNTIF(G36:G38,"A")>=1,"C",IF(COUNTIF(G36:G38,"A")>0,"P"," ")) | H39: =IF(COUNTIF(H36:H38,"A")>=1,"C",IF(COUNTIF(H36:H38,"A")>0,"P"," ")) | I39: =IF(COUNTIF(I36:I38,"A")>=1,"C",IF(COUNTIF(I36:I38,"A")>0,"P"," ")) | J39: =IF(COUNTIF(J36:J38,"A")>=1,"C",IF(COUNTIF(J36:J38,"A")>0,"P"," ")) | K39: =IF(COUNTIF(K36:K38,"A")>=1,"C",IF(COUNTIF(K36:K38,"A")>0,"P"," ")) | ... R39: =IF(COUNTIF(R36:R38,"A")>=1,"C",IF(COUNTIF(R36:R38,"A")>0,"P"," "))
C40: <List Requirement Here>
C41: <List Requirement Here>
C42: <List Requirement Here>
...

Sheet Bronze Award
B1: Service Unit: | C1: =Instructions!F3 -> 10 | D1: =Bekah!$A$1 -> Bekah | E1: =Elizabeth!$A$1 -> Elizabeth | F1: =Meagan!$A$1 -> Meagan | G1: ='Junior 4'!$A$1 -> Junior 4 | H1: ='Junior 5'!$A$1 -> Junior 5 | I1: ='Junior 6'!$A$1 -> Junior 6 | J1: ='Junior 7'!$A$1 -> Junior 7 | K1: ='Junior 8'!$A$1 -> Junior 8 | L1: ='Junior 9'!$A$1 -> Junior 9 | M1: ='Junior 10'!$A$1 -> Junior 10 | N1: ='Junior 11'!$A$1 -> Junior 11 | O1: ='Junior 12'!$A$1 -> Junior 12 | P1: ='Junior 13'!$A$1 -> Junior 13 | Q1: ='Junior 14'!$A$1 -> Junior 14 | R1: ='Junior 15'!$A$1 -> Junior 15
B2: Troop: | C2: =Instructions!F5 -> 40726
A3: Enter A for credit
D6: Bronze Award
B7: 1 | C7: Go on a Girl Scout Junior Journey | D7: a | E7: a
B8: 2 | C8: Build your Girl Scout Junior Team | D8: a | E8: a
B9: 3 | C9: Exploer your community | D9: a | E9: a
B10: 4 | C10: Choose your Bronze project | D10: a | E10: a
B11: 5 | C11: Make a plan | D11: a | E11: a
B12: 6 | C12: Put your plan in motion | D12: a | E12: a
B13: 7 | C13: Spread the word | D13: a | E13: a
C14: Status: (P)artial or (C)omplete | D14: =IF(COUNTIF(D7:D13,"A")=7,"C",IF(COUNTIF(D7:D13,"A")>0,"P"," ")) -> C | E14: =IF(COUNTIF(E7:E13,"A")=7,"C",IF(COUNTIF(E7:E13,"A")>0,"P"," ")) -> C | F14: =IF(COUNTIF(F7:F13,"A")=7,"C",IF(COUNTIF(F7:F13,"A")>0,"P"," ")) | G14: =IF(COUNTIF(G7:G13,"A")=7,"C",IF(COUNTIF(G7:G13,"A")>0,"P"," ")) | H14: =IF(COUNTIF(H7:H13,"A")=7,"C",IF(COUNTIF(H7:H13,"A")>0,"P"," ")) | I14: =IF(COUNTIF(I7:I13,"A")=7,"C",IF(COUNTIF(I7:I13,"A")>0,"P"," ")) | J14: =IF(COUNTIF(J7:J13,"A")=7,"C",IF(COUNTIF(J7:J13,"A")>0,"P"," ")) | K14: =IF(COUNTIF(K7:K13,"A")=7,"C",IF(COUNTIF(K7:K13,"A")>0,"P"," ")) | ... R14: =IF(COUNTIF(R7:R13,"A")=7,"C",IF(COUNTIF(R7:R13,"A")>0,"P"," "))

Sheet Bridging
B1: Service Unit | C1: 0 | D1: =Bekah!$A$1 -> Bekah | E1: =Elizabeth!$A$1 -> Elizabeth | F1: =Meagan!$A$1 -> Meagan | G1: ='Junior 4'!$A$1 -> Junior 4 | H1: ='Junior 5'!$A$1 -> Junior 5 | I1: ='Junior 6'!$A$1 -> Junior 6 | J1: ='Junior 7'!$A$1 -> Junior 7 | K1: ='Junior 8'!$A$1 -> Junior 8 | L1: ='Junior 9'!$A$1 -> Junior 9 | M1: ='Junior 10'!$A$1 -> Junior 10 | N1: ='Junior 11'!$A$1 -> Junior 11 | O1: ='Junior 12'!$A$1 -> Junior 12 | P1: ='Junior 13'!$A$1 -> Junior 13 | Q1: ='Junior 14'!$A$1 -> Junior 14 | R1: ='Junior 15'!$A$1 -> Junior 15
B2: Troop | C2: 0
A4: Enter A for credit
B6: Pass It On!
B7: 1 | C7: Invite Brownies to attend one of your
B8: 2 | C8: Invite girls your age who aren't Girl
B9: 3 | C9: Team up with the girls in your group | D9: a | E9: a | F9: a
D10: =IF(COUNTIF(D7:D9,"A")>=1,"C",IF(COUNTIF(D7:D9,"A")>0,"P"," ")) -> C | E10: =IF(COUNTIF(E7:E9,"A")>=1,"C",IF(COUNTIF(E7:E9,"A")>0,"P"," ")) -> C | F10: =IF(COUNTIF(F7:F9,"A")>=1,"C",IF(COUNTIF(F7:F9,"A")>0,"P"," ")) -> C | G10: =IF(COUNTIF(G7:G9,"A")>=1,"C",IF(COUNTIF(G7:G9,"A")>0,"P"," ")) | H10: =IF(COUNTIF(H7:H9,"A")>=1,"C",IF(COUNTIF(H7:H9,"A")>0,"P"," ")) | I10: =IF(COUNTIF(I7:I9,"A")>=1,"C",IF(COUNTIF(I7:I9,"A")>0,"P"," ")) | J10: =IF(COUNTIF(J7:J9,"A")>=1,"C",IF(COUNTIF(J7:J9,"A")>0,"P"," ")) | K10: =IF(COUNTIF(K7:K9,"A")>=1,"C",IF(COUNTIF(K7:K9,"A")>0,"P"," ")) | ... R10: =IF(COUNTIF(R7:R9,"A")>=1,"C",IF(COUNTIF(R7:R9,"A")>0,"P"," "))
B11: Look Ahead!
B12: 1 | C12: Ask a Girl Scout Cadette to talk to you | D12: a | E12: a | F12: a
B13: 2 | C13: Do you want to work on your Girl Scout | D13: a | E13: a | F13: a
B14: 3 | C14: Talk to Cadettes about which Journeys | D14: a | E14: a | F14: a
D15: =IF(COUNTIF(D12:D14,"A")>=1,"C",IF(COUNTIF(D12:D14,"A")>0,"P"," ")) -> C | E15: =IF(COUNTIF(E12:E14,"A")>=1,"C",IF(COUNTIF(E12:E14,"A")>0,"P"," ")) -> C | F15: =IF(COUNTIF(F12:F14,"A")>=1,"C",IF(COUNTIF(F12:F14,"A")>0,"P"," ")) -> C | G15: =IF(COUNTIF(G12:G14,"A")>=1,"C",IF(COUNTIF(G12:G14,"A")>0,"P"," ")) | H15: =IF(COUNTIF(H12:H14,"A")>=1,"C",IF(COUNTIF(H12:H14,"A")>0,"P"," ")) | I15: =IF(COUNTIF(I12:I14,"A")>=1,"C",IF(COUNTIF(I12:I14,"A")>0,"P"," ")) | J15: =IF(COUNTIF(J12:J14,"A")>=1,"C",IF(COUNTIF(J12:J14,"A")>0,"P"," ")) | K15: =IF(COUNTIF(K12:K14,"A")>=1,"C",IF(COUNTIF(K12:K14,"A")>0,"P"," ")) | ... R15: =IF(COUNTIF(R12:R14,"A")>=1,"C",IF(COUNTIF(R12:R14,"A")>0,"P"," "))
C16: Plan a Ceremony
D17: =IF(COUNTIF(D16:D16,"A")=1,"C",IF(COUNTIF(D16:D16,"A")>0,"P"," ")) | E17: =IF(COUNTIF(E16:E16,"A")=1,"C",IF(COUNTIF(E16:E16,"A")>0,"P"," ")) | F17: =IF(COUNTIF(F16:F16,"A")=1,"C",IF(COUNTIF(F16:F16,"A")>0,"P"," ")) | G17: =IF(COUNTIF(G16:G16,"A")=1,"C",IF(COUNTIF(G16:G16,"A")>0,"P"," ")) | H17: =IF(COUNTIF(H16:H16,"A")=1,"C",IF(COUNTIF(H16:H16,"A")>0,"P"," ")) | I17: =IF(COUNTIF(I16:I16,"A")=1,"C",IF(COUNTIF(I16:I16,"A")>0,"P"," ")) | J17: =IF(COUNTIF(J16:J16,"A")=1,"C",IF(COUNTIF(J16:J16,"A")>0,"P"," ")) | K17: =IF(COUNTIF(K16:K16,"A")=1,"C",IF(COUNTIF(K16:K16,"A")>0,"P"," ")) | ... R17: =IF(COUNTIF(R16:R16,"A")=1,"C",IF(COUNTIF(R16:R16,"A")>0,"P"," "))
C18: Status: (P)artial or (C)omplete | D18: =IF(COUNTIF(D7:D17,"C")=3,"C",IF(COUNTIF(D7:D17,"C")>0,"P"," ")) -> P | E18: =IF(COUNTIF(E7:E17,"C")=3,"C",IF(COUNTIF(E7:E17,"C")>0,"P"," ")) -> P | F18: =IF(COUNTIF(F7:F17,"C")=3,"C",IF(COUNTIF(F7:F17,"C")>0,"P"," ")) -> P | G18: =IF(COUNTIF(G7:G17,"C")=3,"C",IF(COUNTIF(G7:G17,"C")>0,"P"," ")) | H18: =IF(COUNTIF(H7:H17,"C")=3,"C",IF(COUNTIF(H7:H17,"C")>0,"P"," ")) | I18: =IF(COUNTIF(I7:I17,"C")=3,"C",IF(COUNTIF(I7:I17,"C")>0,"P"," ")) | J18: =IF(COUNTIF(J7:J17,"C")=3,"C",IF(COUNTIF(J7:J17,"C")>0,"P"," ")) | K18: =IF(COUNTIF(K7:K17,"C")=3,"C",IF(COUNTIF(K7:K17,"C")>0,"P"," ")) | ... R18: =IF(COUNTIF(R7:R17,"C")=3,"C",IF(COUNTIF(R7:R17,"C")>0,"P"," "))

Sheet Age-Level
B1: Service Unit: | C1: =Instructions!F3 -> 10 | D1: =Bekah!$A$1 -> Bekah | E1: =Elizabeth!$A$1 -> Elizabeth | F1: =Meagan!$A$1 -> Meagan | G1: ='Junior 4'!$A$1 -> Junior 4 | H1: ='Junior 5'!$A$1 -> Junior 5 | I1: ='Junior 6'!$A$1 -> Junior 6 | J1: ='Junior 7'!$A$1 -> Junior 7 | K1: ='Junior 8'!$A$1 -> Junior 8 | L1: ='Junior 9'!$A$1 -> Junior 9 | M1: ='Junior 10'!$A$1 -> Junior 10 | N1: ='Junior 11'!$A$1 -> Junior 11 | O1: ='Junior 12'!$A$1 -> Junior 12 | P1: ='Junior 13'!$A$1 -> Junior 13 | Q1: ='Junior 14'!$A$1 -> Junior 14 | R1: ='Junior 15'!$A$1 -> Junior 15
B2: Troop: | C2: =Instructions!F5 -> 40726
A4: Enter A for credit
B5: Junior Aide Award | D5: http://trax.boy-scouts.net/pdf/JrAide.pdf
B6: 1 | C6: Get Ready | D6: a
B7: 2 | C7: Get Set | D7: a
B8: 3 | C8: Go! | F8: a
C9: Status: (P)artial or (C)omplete | D9: =IF(COUNTIF(D6:D8,"A")=3,"C",IF(COUNTIF(D6:D8,"A")>0,"P"," ")) -> P | E9: =IF(COUNTIF(E6:E8,"A")=3,"C",IF(COUNTIF(E6:E8,"A")>0,"P"," ")) | F9: =IF(COUNTIF(F6:F8,"A")=3,"C",IF(COUNTIF(F6:F8,"A")>0,"P"," ")) -> P | G9: =IF(COUNTIF(G6:G8,"A")=3,"C",IF(COUNTIF(G6:G8,"A")>0,"P"," ")) | H9: =IF(COUNTIF(H6:H8,"A")=3,"C",IF(COUNTIF(H6:H8,"A")>0,"P"," ")) | I9: =IF(COUNTIF(I6:I8,"A")=3,"C",IF(COUNTIF(I6:I8,"A")>0,"P"," ")) | J9: =IF(COUNTIF(J6:J8,"A")=3,"C",IF(COUNTIF(J6:J8,"A")>0,"P"," ")) | K9: =IF(COUNTIF(K6:K8,"A")=3,"C",IF(COUNTIF(K6:K8,"A")>0,"P"," ")) | ... R9: =IF(COUNTIF(R6:R8,"A")=3,"C",IF(COUNTIF(R6:R8,"A")>0,"P"," "))
B10: Cookies | D10: Cookies
C11: Cookie Rally (Year 1)
C12: Cookie Sales (Year 1)
C13: Cookie Pin (Year 1)
C14: Cookie Rally (Year 2) | D14: a
C15: Cookie Sales (Year 2)
C16: Cookie Pin (Year 2)
B17: Fall Sales
C18: Fall Sales (Year 1)
C19: Fall Sales (Year 2)
B20: Thinking Day | D20: World Thinking Day
C21: Thinking Day (Year 1)
C22: Thinking Day (Year 2)
B23: Global Action award | D23: Global Action Award
C24: Global Action Award
B25: Journey Summit Pin
C26: Journey Summit Pin | D26: =IF(COUNTIF(Journeys!D4:D49,"C")>8,"C",IF(COUNTIF(Journeys!D4:D49,"C")>0,"P"," ")) -> P | E26: =IF(COUNTIF(Journeys!E4:E49,"C")>8,"C",IF(COUNTIF(Journeys!E4:E49,"C")>0,"P"," ")) -> P | F26: =IF(COUNTIF(Journeys!F4:F49,"C")>8,"C",IF(COUNTIF(Journeys!F4:F49,"C")>0,"P"," ")) | G26: =IF(COUNTIF(Journeys!G4:G49,"C")>8,"C",IF(COUNTIF(Journeys!G4:G49,"C")>0,"P"," ")) | H26: =IF(COUNTIF(Journeys!H4:H49,"C")>8,"C",IF(COUNTIF(Journeys!H4:H49,"C")>0,"P"," ")) | I26: =IF(COUNTIF(Journeys!I4:I49,"C")>8,"C",IF(COUNTIF(Journeys!I4:I49,"C")>0,"P"," ")) | J26: =IF(COUNTIF(Journeys!J4:J49,"C")>8,"C",IF(COUNTIF(Journeys!J4:J49,"C")>0,"P"," ")) | K26: =IF(COUNTIF(Journeys!K4:K49,"C")>8,"C",IF(COUNTIF(Journeys!K4:K49,"C")>0,"P"," ")) | ... R26: =IF(COUNTIF(Journeys!R4:R49,"C")>8,"C",IF(COUNTIF(Journeys!R4:R49,"C")>0,"P"," "))
B27: International Friendship Recognition pin
C28: International Friendship Recognition
B29: Investiture & Rededication Patches
C30: Investiture
C31: Rededication (1st year) | D31: a | E31: a | F31: a
C32: Rededication (2nd year) | D32: a | E32: a
C33: Rededication (3rd year)
C34: Rededication (4th year)
C35: Rededication (5th year)
B36: My Promise, My Faith (Year 1)
B37: 1 | C37: Choose one line from the Law
B38: 2 | C38: Find a woman in your community
B39: 3 | C39: Gather three inspirational quotes
B40: 4 | C40: Make something to remind you
B41: 5 | C41: Make a commitment to live what
...

Sheet Fun Patches
B1: Service Unit: | C1: =Instructions!F3 -> 10 | D1: =Bekah!$A$1 -> Bekah | E1: =Elizabeth!$A$1 -> Elizabeth | F1: =Meagan!$A$1 -> Meagan | G1: ='Junior 4'!$A$1 -> Junior 4 | H1: ='Junior 5'!$A$1 -> Junior 5 | I1: ='Junior 6'!$A$1 -> Junior 6 | J1: ='Junior 7'!$A$1 -> Junior 7 | K1: ='Junior 8'!$A$1 -> Junior 8 | L1: ='Junior 9'!$A$1 -> Junior 9 | M1: ='Junior 10'!$A$1 -> Junior 10 | N1: ='Junior 11'!$A$1 -> Junior 11 | O1: ='Junior 12'!$A$1 -> Junior 12 | P1: ='Junior 13'!$A$1 -> Junior 13 | Q1: ='Junior 14'!$A$1 -> Junior 14 | R1: ='Junior 15'!$A$1 -> Junior 15
B2: Troop: | C2: =Instructions!F5 -> 40726
A4: Enter A for credit
C5: <LIST PATCH HERE>
C6: <LIST PATCH HERE>
C7: <LIST PATCH HERE>
C8: <LIST PATCH HERE>
C9: <LIST PATCH HERE>
C10: <LIST PATCH HERE>
C11: <LIST PATCH HERE>
C12: <LIST PATCH HERE>
C13: <LIST PATCH HERE>
C14: <LIST PATCH HERE>
C15: <LIST PATCH HERE>
C16: <LIST PATCH HERE>
... C54: <LIST PATCH HERE>

Sheet Summary
A1: Summary Page | B1: =Bekah!$A$1 -> Bekah | D1: =Elizabeth!$A$1 -> Elizabeth | F1: =Meagan!$A$1 -> Meagan | H1: ='Junior 4'!$A$1 -> Junior 4 | J1: ='Junior 5'!$A$1 -> Junior 5 | L1: ='Junior 6'!$A$1 -> Junior 6 | N1: ='Junior 7'!$A$1 -> Junior 7 | P1: ='Junior 8'!$A$1 -> Junior 8 | R1: ='Junior 9'!$A$1 -> Junior 9 | T1: ='Junior 10'!$A$1 -> Junior 10 | V1: ='Junior 11'!$A$1 -> Junior 11 | X1: ='Junior 12'!$A$1 -> Junior 12 | Z1: ='Junior 13'!$A$1 -> Junior 13 | AB1: ='Junior 14'!$A$1 -> Junior 14 | AD1: ='Junior 15'!$A$1 -> Junior 15
A2: Enter Y for yes when you have presented the award | B2: Earned | C2: Awarded | D2: Earned | E2: Awarded | F2: Earned | G2: Awarded | H2: Earned | I2: Awarded | J2: Earned | K2: Awarded | L2: Earned | M2: Awarded | N2: Earned | O2: Awarded | P2: Earned | Q2: Awarded | R2: Earned | S2: Awarded | T2: Earned | U2: Awarded | V2: Earned | W2: Awarded | X2: Earned | Y2: Awarded | Z2: Earned | AA2: Awarded | AB2: Earned | AC2: Awarded | AD2: Earned | AE2: Awarded
A3: =Badges!$A$5 -> It's Your World -- Change It!
A4: =Badges!$B$6 -> Digital Photographer | B4: =IF(Badges!D28="C","E","") | D4: =IF(Badges!E28="C","E","") -> E | F4: =IF(Badges!F28="C","E","") | H4: =IF(Badges!G28="C","E","") | J4: =IF(Badges!H28="C","E","") | L4: =IF(Badges!I28="C","E","") | N4: =IF(Badges!J28="C","E","") | P4: =IF(Badges!K28="C","E","") | R4: =IF(Badges!L28="C","E","") | T4: =IF(Badges!M28="C","E","") | V4: =IF(Badges!N28="C","E","") | X4: =IF(Badges!O28="C","E","") | Z4: =IF(Badges!P28="C","E","") | AB4: =IF(Badges!Q28="C","E","") | AD4: =IF(Badges!R28="C","E","")
A5: =Badges!B29 -> Staying Fit | B5: =IF(Badges!D51="C","E","") | D5: =IF(Badges!E51="C","E","") | F5: =IF(Badges!F51="C","E","") | H5: =IF(Badges!G51="C","E","") | J5: =IF(Badges!H51="C","E","") | L5: =IF(Badges!I51="C","E","") | N5: =IF(Badges!J51="C","E","") | P5: =IF(Badges!K51="C","E","") | R5: =IF(Badges!L51="C","E","") | T5: =IF(Badges!M51="C","E","") | V5: =IF(Badges!N51="C","E","") | X5: =IF(Badges!O51="C","E","") | Z5: =IF(Badges!P51="C","E","") | AB5: =IF(Badges!Q51="C","E","") | AD5: =IF(Badges!R51="C","E","")
A6: =Badges!B52 -> Musician | B6: =IF(Badges!D74="C","E","") | D6: =IF(Badges!E74="C","E","") | F6: =IF(Badges!F74="C","E","") | H6: =IF(Badges!G74="C","E","") | J6: =IF(Badges!H74="C","E","") | L6: =IF(Badges!I74="C","E","") | N6: =IF(Badges!J74="C","E","") | P6: =IF(Badges!K74="C","E","") | R6: =IF(Badges!L74="C","E","") | T6: =IF(Badges!M74="C","E","") | V6: =IF(Badges!N74="C","E","") | X6: =IF(Badges!O74="C","E","") | Z6: =IF(Badges!P74="C","E","") | AB6: =IF(Badges!Q74="C","E","") | AD6: =IF(Badges!R74="C","E","")
A7: =Badges!B75 -> Entertainment Technology | B7: =IF(Badges!D97="C","E","") | D7: =IF(Badges!E97="C","E","") | F7: =IF(Badges!F97="C","E","") | H7: =IF(Badges!G97="C","E","") | J7: =IF(Badges!H97="C","E","") | L7: =IF(Badges!I97="C","E","") | N7: =IF(Badges!J97="C","E","") | P7: =IF(Badges!K97="C","E","") | R7: =IF(Badges!L97="C","E","") | T7: =IF(Badges!M97="C","E","") | V7: =IF(Badges!N97="C","E","") | X7: =IF(Badges!O97="C","E","") | Z7: =IF(Badges!P97="C","E","") | AB7: =IF(Badges!Q97="C","E","") | AD7: =IF(Badges!R97="C","E","")
A8: =Badges!B98 -> Scribe | B8: =IF(Badges!D120="C","E","") | D8: =IF(Badges!E120="C","E","") | F8: =IF(Badges!F120="C","E","") | H8: =IF(Badges!G120="C","E","") | J8: =IF(Badges!H120="C","E","") | L8: =IF(Badges!I120="C","E","") | N8: =IF(Badges!J120="C","E","") | P8: =IF(Badges!K120="C","E","") | R8: =IF(Badges!L120="C","E","") | T8: =IF(Badges!M120="C","E","") | V8: =IF(Badges!N120="C","E","") | X8: =IF(Badges!O120="C","E","") | Z8: =IF(Badges!P120="C","E","") | AB8: =IF(Badges!Q120="C","E","") | AD8: =IF(Badges!R120="C","E","")
A9: =Badges!A121 -> It's Your Planet -- Love It!
A10: =Badges!B122 -> Jeweler | B10: =IF(Badges!D144="C","E","") | D10: =IF(Badges!E144="C","E","") | F10: =IF(Badges!F144="C","E","") | H10: =IF(Badges!G144="C","E","") | J10: =IF(Badges!H144="C","E","") | L10: =IF(Badges!I144="C","E","") | N10: =IF(Badges!J144="C","E","") | P10: =IF(Badges!K144="C","E","") | R10: =IF(Badges!L144="C","E","") | T10: =IF(Badges!M144="C","E","") | V10: =IF(Badges!N144="C","E","") | X10: =IF(Badges!O144="C","E","") | Z10: =IF(Badges!P144="C","E","") | AB10: =IF(Badges!Q144="C","E","") | AD10: =IF(Badges!R144="C","E","")
A11: =Badges!B145 -> Gardener | B11: =IF(Badges!D167="C","E","") | D11: =IF(Badges!E167="C","E","") | F11: =IF(Badges!F167="C","E","") | H11: =IF(Badges!G167="C","E","") | J11: =IF(Badges!H167="C","E","") | L11: =IF(Badges!I167="C","E","") | N11: =IF(Badges!J167="C","E","") | P11: =IF(Badges!K167="C","E","") | R11: =IF(Badges!L167="C","E","") | T11: =IF(Badges!M167="C","E","") | V11: =IF(Badges!N167="C","E","") | X11: =IF(Badges!O167="C","E","") | Z11: =IF(Badges!P167="C","E","") | AB11: =IF(Badges!Q167="C","E","") | AD11: =IF(Badges!R167="C","E","")
A12: =Badges!B168 -> Detective | B12: =IF(Badges!D190="C","E","") | D12: =IF(Badges!E190="C","E","") | F12: =IF(Badges!F190="C","E","") | H12: =IF(Badges!G190="C","E","") | J12: =IF(Badges!H190="C","E","") | L12: =IF(Badges!I190="C","E","") | N12: =IF(Badges!J190="C","E","") | P12: =IF(Badges!K190="C","E","") | R12: =IF(Badges!L190="C","E","") | T12: =IF(Badges!M190="C","E","") | V12: =IF(Badges!N190="C","E","") | X12: =IF(Badges!O190="C","E","") | Z12: =IF(Badges!P190="C","E","") | AB12: =IF(Badges!Q190="C","E","") | AD12: =IF(Badges!R190="C","E","")
A13: =Badges!B191 -> Camper | B13: =IF(Badges!D213="C","E","") | D13: =IF(Badges!E213="C","E","") | F13: =IF(Badges!F213="C","E","") | H13: =IF(Badges!G213="C","E","") | J13: =IF(Badges!H213="C","E","") | L13: =IF(Badges!I213="C","E","") | N13: =IF(Badges!J213="C","E","") | P13: =IF(Badges!K213="C","E","") | R13: =IF(Badges!L213="C","E","") | T13: =IF(Badges!M213="C","E","") | V13: =IF(Badges!N213="C","E","") | X13: =IF(Badges!O213="C","E","") | Z13: =IF(Badges!P213="C","E","") | AB13: =IF(Badges!Q213="C","E","") | AD13: =IF(Badges!R213="C","E","")
A14: =Badges!B214 -> Independence | B14: =IF(Badges!D236="C","E","") | D14: =IF(Badges!E236="C","E","") | F14: =IF(Badges!F236="C","E","") | H14: =IF(Badges!G236="C","E","") | J14: =IF(Badges!H236="C","E","") | L14: =IF(Badges!I236="C","E","") | N14: =IF(Badges!J236="C","E","") | P14: =IF(Badges!K236="C","E","") | R14: =IF(Badges!L236="C","E","") | T14: =IF(Badges!M236="C","E","") | V14: =IF(Badges!N236="C","E","") | X14: =IF(Badges!O236="C","E","") | Z14: =IF(Badges!P236="C","E","") | AB14: =IF(Badges!Q236="C","E","") | AD14: =IF(Badges!R236="C","E","")
A15: =Badges!A237 -> It's Your Story -- Tell It!
A16: =Badges!B238 -> Gecacher | B16: =IF(Badges!D260="C","E","") | D16: =IF(Badges!E260="C","E","") | F16: =IF(Badges!F260="C","E","") | H16: =IF(Badges!G260="C","E","") | J16: =IF(Badges!H260="C","E","") | L16: =IF(Badges!I260="C","E","") | N16: =IF(Badges!J260="C","E","") | P16: =IF(Badges!K260="C","E","") | R16: =IF(Badges!L260="C","E","") | T16: =IF(Badges!M260="C","E","") | V16: =IF(Badges!N260="C","E","") | X16: =IF(Badges!O260="C","E","") | Z16: =IF(Badges!P260="C","E","") | AB16: =IF(Badges!Q260="C","E","") | AD16: =IF(Badges!R260="C","E","")
A17: =Badges!B261 -> Animal Habitats | B17: =IF(Badges!D283="C","E","") -> E | C17: y | D17: =IF(Badges!E283="C","E","") -> E | E17: y | F17: =IF(Badges!F283="C","E","") | H17: =IF(Badges!G283="C","E","") | J17: =IF(Badges!H283="C","E","") | L17: =IF(Badges!I283="C","E","") | N17: =IF(Badges!J283="C","E","") | P17: =IF(Badges!K283="C","E","") | R17: =IF(Badges!L283="C","E","") | T17: =IF(Badges!M283="C","E","") | V17: =IF(Badges!N283="C","E","") | X17: =IF(Badges!O283="C","E","") | Z17: =IF(Badges!P283="C","E","") | AB17: =IF(Badges!Q283="C","E","") | AD17: =IF(Badges!R283="C","E","")
A18: =Badges!B284 -> Playing the Past | B18: =IF(Badges!D306="C","E","") | D18: =IF(Badges!E306="C","E","") | F18: =IF(Badges!F306="C","E","") | H18: =IF(Badges!G306="C","E","") | J18: =IF(Badges!H306="C","E","") | L18: =IF(Badges!I306="C","E","") | N18: =IF(Badges!J306="C","E","") | P18: =IF(Badges!K306="C","E","") | R18: =IF(Badges!L306="C","E","") | T18: =IF(Badges!M306="C","E","") | V18: =IF(Badges!N306="C","E","") | X18: =IF(Badges!O306="C","E","") | Z18: =IF(Badges!P306="C","E","") | AB18: =IF(Badges!Q306="C","E","") | AD18: =IF(Badges!R306="C","E","")
A19: =Badges!B307 -> Product Designer | B19: =IF(Badges!D329="C","E","") | D19: =IF(Badges!E329="C","E","") | F19: =IF(Badges!F329="C","E","") | H19: =IF(Badges!G329="C","E","") | J19: =IF(Badges!H329="C","E","") | L19: =IF(Badges!I329="C","E","") | N19: =IF(Badges!J329="C","E","") | P19: =IF(Badges!K329="C","E","") | R19: =IF(Badges!L329="C","E","") | T19: =IF(Badges!M329="C","E","") | V19: =IF(Badges!N329="C","E","") | X19: =IF(Badges!O329="C","E","") | Z19: =IF(Badges!P329="C","E","") | AB19: =IF(Badges!Q329="C","E","") | AD19: =IF(Badges!R329="C","E","")
A20: =Badges!B330 -> Social Butterfly | B20: =IF(Badges!D352="C","E","") | D20: =IF(Badges!E352="C","E","") | F20: =IF(Badges!F352="C","E","") | H20: =IF(Badges!G352="C","E","") | J20: =IF(Badges!H352="C","E","") | L20: =IF(Badges!I352="C","E","") | N20: =IF(Badges!J352="C","E","") | P20: =IF(Badges!K352="C","E","") | R20: =IF(Badges!L352="C","E","") | T20: =IF(Badges!M352="C","E","") | V20: =IF(Badges!N352="C","E","") | X20: =IF(Badges!O352="C","E","") | Z20: =IF(Badges!P352="C","E","") | AB20: =IF(Badges!Q352="C","E","") | AD20: =IF(Badges!R352="C","E","")
A21: =Badges!A353 -> Legacy
A22: =Badges!B354 -> Drawing | B22: =IF(Badges!D376="C","E","") -> E | D22: =IF(Badges!E376="C","E","") -> E | F22: =IF(Badges!F376="C","E","") -> E | H22: =IF(Badges!G376="C","E","") | J22: =IF(Badges!H376="C","E","") | L22: =IF(Badges!I376="C","E","") | N22: =IF(Badges!J376="C","E","") | P22: =IF(Badges!K376="C","E","") | R22: =IF(Badges!L376="C","E","") | T22: =IF(Badges!M376="C","E","") | V22: =IF(Badges!N376="C","E","") | X22: =IF(Badges!O376="C","E","") | Z22: =IF(Badges!P376="C","E","") | AB22: =IF(Badges!Q376="C","E","") | AD22: =IF(Badges!R376="C","E","")
A23: =Badges!B377 -> Practice with Purpose | B23: =IF(Badges!D399="C","E","") | D23: =IF(Badges!E399="C","E","") | F23: =IF(Badges!F399="C","E","") | H23: =IF(Badges!G399="C","E","") | J23: =IF(Badges!H399="C","E","") | L23: =IF(Badges!I399="C","E","") | N23: =IF(Badges!J399="C","E","") | P23: =IF(Badges!K399="C","E","") | R23: =IF(Badges!L399="C","E","") | T23: =IF(Badges!M399="C","E","") | V23: =IF(Badges!N399="C","E","") | X23: =IF(Badges!O399="C","E","") | Z23: =IF(Badges!P399="C","E","") | AB23: =IF(Badges!Q399="C","E","") | AD23: =IF(Badges!R399="C","E","")
A24: =Badges!B400 -> Inside Government | B24: =IF(Badges!D422="C","E","") | D24: =IF(Badges!E422="C","E","") | F24: =IF(Badges!F422="C","E","") | H24: =IF(Badges!G422="C","E","") | J24: =IF(Badges!H422="C","E","") | L24: =IF(Badges!I422="C","E","") | N24: =IF(Badges!J422="C","E","") | P24: =IF(Badges!K422="C","E","") | R24: =IF(Badges!L422="C","E","") | T24: =IF(Badges!M422="C","E","") | V24: =IF(Badges!N422="C","E","") | X24: =IF(Badges!O422="C","E","") | Z24: =IF(Badges!P422="C","E","") | AB24: =IF(Badges!Q422="C","E","") | AD24: =IF(Badges!R422="C","E","")
A25: =Badges!B423 -> Simple Meals | B25: =IF(Badges!D445="C","E","") | D25: =IF(Badges!E445="C","E","") | F25: =IF(Badges!F445="C","E","") | H25: =IF(Badges!G445="C","E","") | J25: =IF(Badges!H445="C","E","") | L25: =IF(Badges!I445="C","E","") | N25: =IF(Badges!J445="C","E","") | P25: =IF(Badges!K445="C","E","") | R25: =IF(Badges!L445="C","E","") | T25: =IF(Badges!M445="C","E","") | V25: =IF(Badges!N445="C","E","") | X25: =IF(Badges!O445="C","E","") | Z25: =IF(Badges!P445="C","E","") | AB25: =IF(Badges!Q445="C","E","") | AD25: =IF(Badges!R445="C","E","")
A26: =Badges!B446 -> Junior First Aid | B26: =IF(Badges!D468="C","E","") | D26: =IF(Badges!E468="C","E","") | F26: =IF(Badges!F468="C","E","") | H26: =IF(Badges!G468="C","E","") | J26: =IF(Badges!H468="C","E","") | L26: =IF(Badges!I468="C","E","") | N26: =IF(Badges!J468="C","E","") | P26: =IF(Badges!K468="C","E","") | R26: =IF(Badges!L468="C","E","") | T26: =IF(Badges!M468="C","E","") | V26: =IF(Badges!N468="C","E","") | X26: =IF(Badges!O468="C","E","") | Z26: =IF(Badges!P468="C","E","") | AB26: =IF(Badges!Q468="C","E","") | AD26: =IF(Badges!R468="C","E","")
A27: =Badges!B469 -> Junior Girl Scout Way | B27: =IF(Badges!D491="C","E","") -> E | C27: y | D27: =IF(Badges!E491="C","E","") -> E | E27: y | F27: =IF(Badges!F491="C","E","") | H27: =IF(Badges!G491="C","E","") | J27: =IF(Badges!H491="C","E","") | L27: =IF(Badges!I491="C","E","") | N27: =IF(Badges!J491="C","E","") | P27: =IF(Badges!K491="C","E","") | R27: =IF(Badges!L491="C","E","") | T27: =IF(Badges!M491="C","E","") | V27: =IF(Badges!N491="C","E","") | X27: =IF(Badges!O491="C","E","") | Z27: =IF(Badges!P491="C","E","") | AB27: =IF(Badges!Q491="C","E","") | AD27: =IF(Badges!R491="C","E","")
A28: =Badges!B492 -> Flowers | B28: =IF(Badges!D514="C","E","") | D28: =IF(Badges!E514="C","E","") | F28: =IF(Badges!F514="C","E","") | H28: =IF(Badges!G514="C","E","") | J28: =IF(Badges!H514="C","E","") | L28: =IF(Badges!I514="C","E","") | N28: =IF(Badges!J514="C","E","") | P28: =IF(Badges!K514="C","E","") | R28: =IF(Badges!L514="C","E","") | T28: =IF(Badges!M514="C","E","") | V28: =IF(Badges!N514="C","E","") | X28: =IF(Badges!O514="C","E","") | Z28: =IF(Badges!P514="C","E","") | AB28: =IF(Badges!Q514="C","E","") | AD28: =IF(Badges!R514="C","E","")
A29: =Badges!A515 -> Financial Literacy
