Workbook

Sheet Instructions
A1: Instructions and FAQs:
A3: First, please enter your Service Unit in the box:
A5: Next, please enter your Troop number in this box:
A7: Immediately after you download:
B8: You must save your spreadsheet to your hard drive. If you don't, it won't let you propogate the names throughout the spreadsheet, and it will act as though the spreadsheet is read-only.
A9: How to enter Junior Names in the spreadsheet:
B10: Double-Click on the Tabs at the bottom of the page that say "Ambassador 1", "Ambassador 2", etc. That will highlight the text. Simply type the girl's first name on the tab. That will cause her name to proliferate throughout the spreadsheet.
A11: The Parent Contact Info page:
B12: The Parent Contact Info page is simply there to give you a place to collect parent info for your scouts. Use it or not. It will have no effect on the rest of the sheet. This is just there as a tool for you.
A13: The Registration page:
B14: The Registration page is there to give you some help in remembering who has given you their registration papers, health history, paid their money to your council and your service unit. This will not spread anywhere else on the sheet. For the leader names, simply click on the names to change your leaders' names.
A15: The Attendance page:
B16: The Attendance page is used to help you keep track of who was present at various events, such as Meetings, Campouts, etc.
A17: The Dues page:
B18: Enter dues as you receive them. The sheet is set up for you to record money. Simply type in what they were able to contribute.
A19: How to enter credit on the Badges, Earned Age-Level, Signs, Bridgining and Bronze pages:
B20: To enter credit on the Badges page, enter an A as a girl completes each requirement.
A21: The Summary page:
B22: The summary page is for keeping track, at a glance, of where you are patches-wise. You can quickly see, at a glance, what you have already awarded to the girls, and what you still owe them. As you enter completion information in other parts of the spreadsheet, as soon as a girl is complete for an award, it will automatically pop up an E (and highlight it) on the Summary page. When you present the award to the girl, enter an A when you present the award (and the highlight goes away). Here is also where you will enter your Fun Patches. Simply type in the patch you need to order then place the "E" in the Earned column and it will calculate for you on the Summary page as well as enter it onto the individual girls' pages.
A23: The Order page:
B24: You will never enter any information on the Order page. It is a completely automated page that gleens information from the Summary page. When it is time for you to turn in your request for awards from your awards chair, simply go to the Order page for that information. Every time a girl earns a patch, the numbers on this page increase. When you award the patch to the girl (and enter an A on the Summary page), the numbers decrease.
A25: What's the purpose of the individual Ambassador pages?
B26: You will never enter any information on the individual Junior pages. Those pages are for you to occasionally print out and hand to the parents. You can use them to let a parent know what their daughter has and has not completed. You can also use that page to make homework assignments for the girls.
A27: Troubleshooting & Frequently Asked Questions
B28: First, most issues can be solved by carefully reading these instructions. I encourage you to re-read this entire page before you do anything else. If that doesn't help, then the home site has a troubleshooting and FAQ page:
C29: http://trax.boy-scouts.net/faq.htm
C30: http://groups.yahoo.com/group/scouttrax/
B31: If neither of these has helped, then please e-mail me and ask. However, I ask that you please exhaust the above resources before you e-mail me. I get several e-mails per day asking for help, and to be honest, if they ask a question which I've already covered in these instructions and/or the FAQ page, I'm very likely to ignore the e-mail. Please read before you e-mail me.
A32: What's the password?
B33: First, I wouldn't recommend unprotecting the spreadsheet. It has been locked for your protection. Basically, it has been locked to keep you from messing up the formulas. It's designed as such that if you are getting a message telling you that a cell is protected, then you are trying to type in the wrong box. But if you must know, the password is: ambassador
A34: What about sharing and editing this sheet?
B35: 1. You have my permission to share this spreadsheet, absolutely free of charge, to any scouter anywhere.
B36: 2. You have my permission to post this spreadsheet on any server willing to host it. I will, however, ask that if you DO post this spreadsheet on a server somewhere, that you occasionally check back to the two main site that will host this sheet to check for updates (to make sure you have the latest version available. The site is:
B37: The Girl Scout Trax Website: | E37: http://trax.boy-scouts.net/gstrax.htm | H37: old, out dated
E38: http://groups.yahoo.com/group/scouttrax/
B39: 3. You have my permission to modify this sheet in any way to suit your own needs, however, if you do, please don't post your modified version anywhere on the internet.
B40: 4. You have my permission to e-mail me with suggestions for improvements you'd like to see, but please don't be offended if I don't use your suggestions.
A41: How can you contact me?
B42: aedmunds@bellsouth.net | D42: old, out of date, try the yahoo group listed above
A43: Version History
...

Sheet Parent Contact Info
A1: ='ambassador 1'!$A$1 -> ambassador 1 | B1: Moen | C1: Date of Birth: | E1: EMERGENCY CONTACT
A2: girl's email | C2: Cell Phone:
A3: Primary Adult | C3: Second Adult | F3: Name:
A4: Relationship: | C4: Relationship:
A5: Name: | C5: Name: | F5: Relationship:
A6: Address: | C6: Address:
A7: City, State ZIP: | C7: City, State ZIP: | F7: Home Phone:
A8: Home Phone: | C8: Home Phone:
A9: Work Phone: | C9: Work Phone: | F9: Work Phone:
A10: Cell Phone: | C10: Cell Phone:
A11: Home e-mail: | C11: Home e-mail: | F11: Cell Phone:
A12: Work e-mail: | C12: Work e-mail:
A13: ='ambassador 2'!A1 -> ambassador 2 | C13: Date of Birth: | E13: EMERGENCY CONTACT
A14: girl's email | C14: Cell Phone:
A15: Primary Adult | C15: Second Adult | F15: Name:
A16: Relationship: | C16: Relationship:
A17: Name: | C17: Name: | F17: Relationship:
A18: Address: | C18: Address:
A19: City, State ZIP: | C19: City, State ZIP: | F19: Home Phone:
A20: Home Phone: | C20: Home Phone:
A21: Work Phone: | C21: Work Phone: | F21: Work Phone:
A22: Cell Phone: | C22: Cell Phone:
A23: Home e-mail: | C23: Home e-mail: | F23: Cell Phone:
A24: Work e-mail: | C24: Work e-mail:
A25: ='ambassador 3'!A1 -> ambassador 3 | C25: Date of Birth: | E25: EMERGENCY CONTACT
A26: girl's email | C26: Cell Phone:
A27: Primary Adult | C27: Second Adult | F27: Name:
A28: Relationship: | C28: Relationship:
A29: Name: | C29: Name: | F29: Relationship:
A30: Address: | C30: Address:
A31: City, State ZIP: | C31: City, State ZIP: | F31: Home Phone:
A32: Home Phone: | C32: Home Phone:
A33: Work Phone: | C33: Work Phone: | F33: Work Phone:
A34: Cell Phone: | C34: Cell Phone:
A35: Home e-mail: | C35: Home e-mail: | F35: Cell Phone:
A36: Work e-mail: | C36: Work e-mail:
A37: ='ambassador 4'!A1 -> ambassador 4 | C37: Date of Birth: | E37: EMERGENCY CONTACT
A38: girl's email | C38: Cell Phone:
A39: Primary Adult | C39: Second Adult | F39: Name:
A40: Relationship: | C40: Relationship:
...

Sheet Registration
B1: Service Unit: | C1: =Instructions!F3 -> 0 | D1: ='ambassador 1'!$A$1 -> ambassador 1 | E1: ='ambassador 2'!$A$1 -> ambassador 2 | F1: ='ambassador 3'!$A$1 -> ambassador 3 | G1: ='ambassador 4'!$A$1 -> ambassador 4 | H1: ='ambassador 5'!$A$1 -> ambassador 5 | I1: ='ambassador 6'!$A$1 -> ambassador 6 | J1: ='ambassador 7'!$A$1 -> ambassador 7 | K1: ='ambassador 8'!$A$1 -> ambassador 8 | L1: ='ambassador 9'!$A$1 -> ambassador 9 | M1: ='ambassador 10'!$A$1 -> ambassador 10 | N1: ='ambassador 11'!$A$1 -> ambassador 11 | O1: ='ambassador 12'!$A$1 -> ambassador 12 | P1: ='ambassador 13'!$A$1 -> ambassador 13 | Q1: ='ambassador 14'!$A$1 -> ambassador 14 | R1: ='ambassador 15'!$A$1 -> ambassador 15 | S1: Leader 1 | T1: Leader 2 | U1: Leader 3 | V1: Leader 4 | W1: Leader 5 | X1: Leader 6 | Y1: Leader 7
B2: Troop: | C2: =Instructions!F5 -> 0
A4: Enter A for credit
A6: 1 | B6: Registration Papers
A7: 2 | B7: Girl Scout Council Dues
A8: 3 | B8: Service Unit Dues
A9: 4 | B9: Annual Fund
A10: 5 | B10: Health History
B11: Status: (P)artial or (C)omplete | D11: =IF(AND(D6="A",D7="A",D8="A",D9="A",D10="A"),"C",IF(COUNTIF(D6:D10,"A")>0,"P"," ")) | E11: =IF(AND(E6="A",E7="A",E8="A",E9="A",E10="A"),"C",IF(COUNTIF(E6:E10,"A")>0,"P"," ")) | F11: =IF(AND(F6="A",F7="A",F8="A",F9="A",F10="A"),"C",IF(COUNTIF(F6:F10,"A")>0,"P"," ")) | G11: =IF(AND(G6="A",G7="A",G8="A",G9="A",G10="A"),"C",IF(COUNTIF(G6:G10,"A")>0,"P"," ")) | H11: =IF(AND(H6="A",H7="A",H8="A",H9="A",H10="A"),"C",IF(COUNTIF(H6:H10,"A")>0,"P"," ")) | I11: =IF(AND(I6="A",I7="A",I8="A",I9="A",I10="A"),"C",IF(COUNTIF(I6:I10,"A")>0,"P"," ")) | J11: =IF(AND(J6="A",J7="A",J8="A",J9="A",J10="A"),"C",IF(COUNTIF(J6:J10,"A")>0,"P"," ")) | K11: =IF(AND(K6="A",K7="A",K8="A",K9="A",K10="A"),"C",IF(COUNTIF(K6:K10,"A")>0,"P"," ")) | ... R11: =IF(AND(R6="A",R7="A",R8="A",R9="A",R10="A"),"C",IF(COUNTIF(R6:R10,"A")>0,"P"," ")) | S11: =IF(AND(S6="A",S7="A",S10="A"),"C",IF(COUNTIF(S6:S10,"A")>0,"P"," ")) | T11: =IF(AND(T6="A",T7="A",T10="A"),"C",IF(COUNTIF(T6:T10,"A")>0,"P"," ")) | U11: =IF(AND(U6="A",U7="A",U10="A"),"C",IF(COUNTIF(U6:U10,"A")>0,"P"," ")) | V11: =IF(AND(V6="A",V7="A",V10="A"),"C",IF(COUNTIF(V6:V10,"A")>0,"P"," ")) | W11: =IF(AND(W6="A",W7="A",W10="A"),"C",IF(COUNTIF(W6:W10,"A")>0,"P"," ")) | X11: =IF(AND(X6="A",X7="A",X10="A"),"C",IF(COUNTIF(X6:X10,"A")>0,"P"," ")) | Y11: =IF(AND(Y6="A",Y7="A",Y10="A"),"C",IF(COUNTIF(Y6:Y10,"A")>0,"P"," "))
A13: 1 | B13: Registration Papers
A14: 2 | B14: Girl Scout Council Dues
A15: 3 | B15: Service Unit Dues
A16: 4 | B16: Annual Fund
A17: 5 | B17: Health History
B18: Status: (P)artial or (C)omplete | D18: =IF(AND(D13="A",D14="A",D15="A",D16="A",D17="A"),"C",IF(COUNTIF(D13:D17,"A")>0,"P"," ")) | E18: =IF(AND(E13="A",E14="A",E15="A",E16="A",E17="A"),"C",IF(COUNTIF(E13:E17,"A")>0,"P"," ")) | F18: =IF(AND(F13="A",F14="A",F15="A",F16="A",F17="A"),"C",IF(COUNTIF(F13:F17,"A")>0,"P"," ")) | G18: =IF(AND(G13="A",G14="A",G15="A",G16="A",G17="A"),"C",IF(COUNTIF(G13:G17,"A")>0,"P"," ")) | H18: =IF(AND(H13="A",H14="A",H15="A",H16="A",H17="A"),"C",IF(COUNTIF(H13:H17,"A")>0,"P"," ")) | I18: =IF(AND(I13="A",I14="A",I15="A",I16="A",I17="A"),"C",IF(COUNTIF(I13:I17,"A")>0,"P"," ")) | J18: =IF(AND(J13="A",J14="A",J15="A",J16="A",J17="A"),"C",IF(COUNTIF(J13:J17,"A")>0,"P"," ")) | K18: =IF(AND(K13="A",K14="A",K15="A",K16="A",K17="A"),"C",IF(COUNTIF(K13:K17,"A")>0,"P"," ")) | ... R18: =IF(AND(R13="A",R14="A",R15="A",R16="A",R17="A"),"C",IF(COUNTIF(R13:R17,"A")>0,"P"," ")) | S18: =IF(AND(S13="A",S14="A",S17="A"),"C",IF(COUNTIF(S13:S17,"A")>0,"P"," ")) | T18: =IF(AND(T13="A",T14="A",T17="A"),"C",IF(COUNTIF(T13:T17,"A")>0,"P"," ")) | U18: =IF(AND(U13="A",U14="A",U17="A"),"C",IF(COUNTIF(U13:U17,"A")>0,"P"," ")) | V18: =IF(AND(V13="A",V14="A",V17="A"),"C",IF(COUNTIF(V13:V17,"A")>0,"P"," ")) | W18: =IF(AND(W13="A",W14="A",W17="A"),"C",IF(COUNTIF(W13:W17,"A")>0,"P"," ")) | X18: =IF(AND(X13="A",X14="A",X17="A"),"C",IF(COUNTIF(X13:X17,"A")>0,"P"," ")) | Y18: =IF(AND(Y13="A",Y14="A",Y17="A"),"C",IF(COUNTIF(Y13:Y17,"A")>0,"P"," "))
A20: 1 | B20: Registration Papers
A21: 2 | B21: Girl Scout Council Dues
A22: 3 | B22: Service Unit Dues
A23: 4 | B23: Annual Fund
A24: 5 | B24: Health History
B25: Status: (P)artial or (C)omplete | D25: =IF(AND(D20="A",D21="A",D22="A",D23="A",D24="A"),"C",IF(COUNTIF(D20:D24,"A")>0,"P"," ")) | E25: =IF(AND(E20="A",E21="A",E22="A",E23="A",E24="A"),"C",IF(COUNTIF(E20:E24,"A")>0,"P"," ")) | F25: =IF(AND(F20="A",F21="A",F22="A",F23="A",F24="A"),"C",IF(COUNTIF(F20:F24,"A")>0,"P"," ")) | G25: =IF(AND(G20="A",G21="A",G22="A",G23="A",G24="A"),"C",IF(COUNTIF(G20:G24,"A")>0,"P"," ")) | H25: =IF(AND(H20="A",H21="A",H22="A",H23="A",H24="A"),"C",IF(COUNTIF(H20:H24,"A")>0,"P"," ")) | I25: =IF(AND(I20="A",I21="A",I22="A",I23="A",I24="A"),"C",IF(COUNTIF(I20:I24,"A")>0,"P"," ")) | J25: =IF(AND(J20="A",J21="A",J22="A",J23="A",J24="A"),"C",IF(COUNTIF(J20:J24,"A")>0,"P"," ")) | K25: =IF(AND(K20="A",K21="A",K22="A",K23="A",K24="A"),"C",IF(COUNTIF(K20:K24,"A")>0,"P"," ")) | ... R25: =IF(AND(R20="A",R21="A",R22="A",R23="A",R24="A"),"C",IF(COUNTIF(R20:R24,"A")>0,"P"," ")) | S25: =IF(AND(S20="A",S21="A",S24="A"),"C",IF(COUNTIF(S20:S24,"A")>0,"P"," ")) | T25: =IF(AND(T20="A",T21="A",T24="A"),"C",IF(COUNTIF(T20:T24,"A")>0,"P"," ")) | U25: =IF(AND(U20="A",U21="A",U24="A"),"C",IF(COUNTIF(U20:U24,"A")>0,"P"," ")) | V25: =IF(AND(V20="A",V21="A",V24="A"),"C",IF(COUNTIF(V20:V24,"A")>0,"P"," ")) | W25: =IF(AND(W20="A",W21="A",W24="A"),"C",IF(COUNTIF(W20:W24,"A")>0,"P"," ")) | X25: =IF(AND(X20="A",X21="A",X24="A"),"C",IF(COUNTIF(X20:X24,"A")>0,"P"," ")) | Y25: =IF(AND(Y20="A",Y21="A",Y24="A"),"C",IF(COUNTIF(Y20:Y24,"A")>0,"P"," "))

Sheet Dues
A1: Enter amount received | B1: ='ambassador 1'!$A$1 -> ambassador 1 | C1: ='ambassador 2'!$A$1 -> ambassador 2 | D1: ='ambassador 3'!$A$1 -> ambassador 3 | E1: ='ambassador 4'!$A$1 -> ambassador 4 | F1: ='ambassador 5'!$A$1 -> ambassador 5 | G1: ='ambassador 6'!$A$1 -> ambassador 6 | H1: ='ambassador 7'!$A$1 -> ambassador 7 | I1: ='ambassador 8'!$A$1 -> ambassador 8 | J1: ='ambassador 9'!$A$1 -> ambassador 9 | K1: ='ambassador 10'!$A$1 -> ambassador 10 | L1: ='ambassador 11'!$A$1 -> ambassador 11 | M1: ='ambassador 12'!$A$1 -> ambassador 12 | N1: ='ambassador 13'!$A$1 -> ambassador 13 | O1: ='ambassador 14'!$A$1 -> ambassador 14 | P1: ='ambassador 15'!$A$1 -> ambassador 15 | Q1: meeting totals
A4: Date
Q5: =SUM(B5:P5) -> 0
Q6: =SUM(B6:P6) -> 0
Q7: =SUM(B7:P7) -> 0
Q8: =SUM(B8:P8) -> 0
Q9: =SUM(B9:P9) -> 0
Q10: =SUM(B10:P10) -> 0
Q11: =SUM(B11:P11) -> 0
Q12: =SUM(B12:P12) -> 0
Q13: =SUM(B13:P13) -> 0
Q14: =SUM(B14:P14) -> 0
Q15: =SUM(B15:P15) -> 0
Q16: =SUM(B16:P16) -> 0
... Q24: =SUM(B24:P24) -> 0
A25: yearly total (per girl) | B25: =SUM(B5:B24) -> 0 | C25: =SUM(C5:C24) -> 0 | D25: =SUM(D5:D24) -> 0 | E25: =SUM(E5:E24) -> 0 | F25: =SUM(F5:F24) -> 0 | G25: =SUM(G5:G24) -> 0 | H25: =SUM(H5:H24) -> 0 | I25: =SUM(I5:I24) -> 0 | ... Q25: =SUM(Q5:Q24) -> 0
Q27: =SUM(B27:P27) -> 0
Q28: =SUM(B28:P28) -> 0
Q29: =SUM(B29:P29) -> 0
Q30: =SUM(B30:P30) -> 0
Q31: =SUM(B31:P31) -> 0
Q32: =SUM(B32:P32) -> 0
Q33: =SUM(B33:P33) -> 0
Q34: =SUM(B34:P34) -> 0
Q35: =SUM(B35:P35) -> 0
Q36: =SUM(B36:P36) -> 0
Q37: =SUM(B37:P37) -> 0
Q38: =SUM(B38:P38) -> 0
... Q46: =SUM(B46:P46) -> 0
A47: yearly total (per girl) | B47: =SUM(B27:B46) -> 0 | C47: =SUM(C27:C46) -> 0 | D47: =SUM(D27:D46) -> 0 | E47: =SUM(E27:E46) -> 0 | F47: =SUM(F27:F46) -> 0 | G47: =SUM(G27:G46) -> 0 | H47: =SUM(H27:H46) -> 0 | I47: =SUM(I27:I46) -> 0 | ... Q47: =SUM(Q27:Q46) -> 0
Q49: =SUM(B49:P49) -> 0
Q50: =SUM(B50:P50) -> 0
Q51: =SUM(B51:P51) -> 0
Q52: =SUM(B52:P52) -> 0
Q53: =SUM(B53:P53) -> 0
Q54: =SUM(B54:P54) -> 0
Q55: =SUM(B55:P55) -> 0
Q56: =SUM(B56:P56) -> 0
Q57: =SUM(B57:P57) -> 0
Q58: =SUM(B58:P58) -> 0
...

Sheet Attendance
A1: Attendance | C1: ='ambassador 1'!$A$1 -> ambassador 1 | D1: ='ambassador 2'!$A$1 -> ambassador 2 | E1: ='ambassador 3'!$A$1 -> ambassador 3 | F1: ='ambassador 4'!$A$1 -> ambassador 4 | G1: ='ambassador 5'!$A$1 -> ambassador 5 | H1: ='ambassador 6'!$A$1 -> ambassador 6 | I1: ='ambassador 7'!$A$1 -> ambassador 7 | J1: ='ambassador 8'!$A$1 -> ambassador 8 | K1: ='ambassador 9'!$A$1 -> ambassador 9 | L1: ='ambassador 10'!$A$1 -> ambassador 10 | M1: ='ambassador 11'!$A$1 -> ambassador 11 | N1: ='ambassador 12'!$A$1 -> ambassador 12 | O1: ='ambassador 13'!$A$1 -> ambassador 13 | P1: ='ambassador 14'!$A$1 -> ambassador 14 | Q1: ='ambassador 15'!$A$1 -> ambassador 15
A2: Enter A to indicated Attendance at the Event.
A4: Date | B4: Event Attended (Meeting, Field Trip, Day Camp, etc)

Sheet Badges
B1: Service Unit | C1: =Instructions!F3 -> 0 | D1: ='ambassador 1'!$A$1 -> ambassador 1 | E1: ='ambassador 2'!$A$1 -> ambassador 2 | F1: ='ambassador 3'!$A$1 -> ambassador 3 | G1: ='ambassador 4'!$A$1 -> ambassador 4 | H1: ='ambassador 5'!$A$1 -> ambassador 5 | I1: ='ambassador 6'!$A$1 -> ambassador 6 | J1: ='ambassador 7'!$A$1 -> ambassador 7 | K1: ='ambassador 8'!$A$1 -> ambassador 8 | L1: ='ambassador 9'!$A$1 -> ambassador 9 | M1: ='ambassador 10'!$A$1 -> ambassador 10 | N1: ='ambassador 11'!$A$1 -> ambassador 11 | O1: ='ambassador 12'!$A$1 -> ambassador 12 | P1: ='ambassador 13'!$A$1 -> ambassador 13 | Q1: ='ambassador 14'!$A$1 -> ambassador 14 | R1: ='ambassador 15'!$A$1 -> ambassador 15
B2: Troop | C2: =Instructions!F5 -> 0
A3: Enter A for credit
A5: Legacy
B6: Photography
B7: 1 | C7: Expore the power of photography
C8: Go to a photography exhibit
C9: Create a photography timeline.
C10: Make sticky-note comics
B11: 2 | C11: Focus on composition | D11: =IF(COUNTIF(D8:D10,"A")>=1,"C",IF(COUNTIF(D8:D10,"A")>0,"P"," ")) | E11: =IF(COUNTIF(E8:E10,"A")>=1,"C",IF(COUNTIF(E8:E10,"A")>0,"P"," ")) | F11: =IF(COUNTIF(F8:F10,"A")>=1,"C",IF(COUNTIF(F8:F10,"A")>0,"P"," ")) | G11: =IF(COUNTIF(G8:G10,"A")>=1,"C",IF(COUNTIF(G8:G10,"A")>0,"P"," ")) | H11: =IF(COUNTIF(H8:H10,"A")>=1,"C",IF(COUNTIF(H8:H10,"A")>0,"P"," ")) | I11: =IF(COUNTIF(I8:I10,"A")>=1,"C",IF(COUNTIF(I8:I10,"A")>0,"P"," ")) | J11: =IF(COUNTIF(J8:J10,"A")>=1,"C",IF(COUNTIF(J8:J10,"A")>0,"P"," ")) | K11: =IF(COUNTIF(K8:K10,"A")>=1,"C",IF(COUNTIF(K8:K10,"A")>0,"P"," ")) | ... R11: =IF(COUNTIF(R8:R10,"A")>=1,"C",IF(COUNTIF(R8:R10,"A")>0,"P"," "))
C12: Capture a day in the life
C13: Photograph weather patterns
C14: Take 5 photos form a different
B15: 3 | C15: Focus on light | D15: =IF(COUNTIF(D12:D14,"A")>=1,"C",IF(COUNTIF(D12:D14,"A")>0,"P"," ")) | E15: =IF(COUNTIF(E12:E14,"A")>=1,"C",IF(COUNTIF(E12:E14,"A")>0,"P"," ")) | F15: =IF(COUNTIF(F12:F14,"A")>=1,"C",IF(COUNTIF(F12:F14,"A")>0,"P"," ")) | G15: =IF(COUNTIF(G12:G14,"A")>=1,"C",IF(COUNTIF(G12:G14,"A")>0,"P"," ")) | H15: =IF(COUNTIF(H12:H14,"A")>=1,"C",IF(COUNTIF(H12:H14,"A")>0,"P"," ")) | I15: =IF(COUNTIF(I12:I14,"A")>=1,"C",IF(COUNTIF(I12:I14,"A")>0,"P"," ")) | J15: =IF(COUNTIF(J12:J14,"A")>=1,"C",IF(COUNTIF(J12:J14,"A")>0,"P"," ")) | K15: =IF(COUNTIF(K12:K14,"A")>=1,"C",IF(COUNTIF(K12:K14,"A")>0,"P"," ")) | ... R15: =IF(COUNTIF(R12:R14,"A")>=1,"C",IF(COUNTIF(R12:R14,"A")>0,"P"," "))
C16: Invite friends to a shoot day
C17: Capture the same person or object
C18: Grow your image
B19: 4 | C19: Focus on motion | D19: =IF(COUNTIF(D16:D18,"A")>=1,"C",IF(COUNTIF(D16:D18,"A")>0,"P"," ")) | E19: =IF(COUNTIF(E16:E18,"A")>=1,"C",IF(COUNTIF(E16:E18,"A")>0,"P"," ")) | F19: =IF(COUNTIF(F16:F18,"A")>=1,"C",IF(COUNTIF(F16:F18,"A")>0,"P"," ")) | G19: =IF(COUNTIF(G16:G18,"A")>=1,"C",IF(COUNTIF(G16:G18,"A")>0,"P"," ")) | H19: =IF(COUNTIF(H16:H18,"A")>=1,"C",IF(COUNTIF(H16:H18,"A")>0,"P"," ")) | I19: =IF(COUNTIF(I16:I18,"A")>=1,"C",IF(COUNTIF(I16:I18,"A")>0,"P"," ")) | J19: =IF(COUNTIF(J16:J18,"A")>=1,"C",IF(COUNTIF(J16:J18,"A")>0,"P"," ")) | K19: =IF(COUNTIF(K16:K18,"A")>=1,"C",IF(COUNTIF(K16:K18,"A")>0,"P"," ")) | ... R19: =IF(COUNTIF(R16:R18,"A")>=1,"C",IF(COUNTIF(R16:R18,"A")>0,"P"," "))
C20: Take photos of a group
C21: Take photos of faces in motion
C22: Take photos of objects in motion
B23: 5 | C23: Tell a story with photography | D23: =IF(COUNTIF(D20:D22,"A")>=1,"C",IF(COUNTIF(D20:D22,"A")>0,"P"," ")) | E23: =IF(COUNTIF(E20:E22,"A")>=1,"C",IF(COUNTIF(E20:E22,"A")>0,"P"," ")) | F23: =IF(COUNTIF(F20:F22,"A")>=1,"C",IF(COUNTIF(F20:F22,"A")>0,"P"," ")) | G23: =IF(COUNTIF(G20:G22,"A")>=1,"C",IF(COUNTIF(G20:G22,"A")>0,"P"," ")) | H23: =IF(COUNTIF(H20:H22,"A")>=1,"C",IF(COUNTIF(H20:H22,"A")>0,"P"," ")) | I23: =IF(COUNTIF(I20:I22,"A")>=1,"C",IF(COUNTIF(I20:I22,"A")>0,"P"," ")) | J23: =IF(COUNTIF(J20:J22,"A")>=1,"C",IF(COUNTIF(J20:J22,"A")>0,"P"," ")) | K23: =IF(COUNTIF(K20:K22,"A")>=1,"C",IF(COUNTIF(K20:K22,"A")>0,"P"," ")) | ... R23: =IF(COUNTIF(R20:R22,"A")>=1,"C",IF(COUNTIF(R20:R22,"A")>0,"P"," "))
C24: Stage a photo exhibit
C25: Make a digital slide show
C26: Create a photo album or scrapbook
D27: =IF(COUNTIF(D24:D26,"A")>=1,"C",IF(COUNTIF(D24:D26,"A")>0,"P"," ")) | E27: =IF(COUNTIF(E24:E26,"A")>=1,"C",IF(COUNTIF(E24:E26,"A")>0,"P"," ")) | F27: =IF(COUNTIF(F24:F26,"A")>=1,"C",IF(COUNTIF(F24:F26,"A")>0,"P"," ")) | G27: =IF(COUNTIF(G24:G26,"A")>=1,"C",IF(COUNTIF(G24:G26,"A")>0,"P"," ")) | H27: =IF(COUNTIF(H24:H26,"A")>=1,"C",IF(COUNTIF(H24:H26,"A")>0,"P"," ")) | I27: =IF(COUNTIF(I24:I26,"A")>=1,"C",IF(COUNTIF(I24:I26,"A")>0,"P"," ")) | J27: =IF(COUNTIF(J24:J26,"A")>=1,"C",IF(COUNTIF(J24:J26,"A")>0,"P"," ")) | K27: =IF(COUNTIF(K24:K26,"A")>=1,"C",IF(COUNTIF(K24:K26,"A")>0,"P"," ")) | ... R27: =IF(COUNTIF(R24:R26,"A")>=1,"C",IF(COUNTIF(R24:R26,"A")>0,"P"," "))
C28: Status: (P)artial or (C)omplete | D28: =IF(COUNTIF(D11:D27,"C")>4,"C",IF(COUNTIF(D11:D27,"C")>0,"P"," ")) | E28: =IF(COUNTIF(E11:E27,"C")>4,"C",IF(COUNTIF(E11:E27,"C")>0,"P"," ")) | F28: =IF(COUNTIF(F11:F27,"C")>4,"C",IF(COUNTIF(F11:F27,"C")>0,"P"," ")) | G28: =IF(COUNTIF(G11:G27,"C")>4,"C",IF(COUNTIF(G11:G27,"C")>0,"P"," ")) | H28: =IF(COUNTIF(H11:H27,"C")>4,"C",IF(COUNTIF(H11:H27,"C")>0,"P"," ")) | I28: =IF(COUNTIF(I11:I27,"C")>4,"C",IF(COUNTIF(I11:I27,"C")>0,"P"," ")) | J28: =IF(COUNTIF(J11:J27,"C")>4,"C",IF(COUNTIF(J11:J27,"C")>0,"P"," ")) | K28: =IF(COUNTIF(K11:K27,"C")>4,"C",IF(COUNTIF(K11:K27,"C")>0,"P"," ")) | ... R28: =IF(COUNTIF(R11:R27,"C")>4,"C",IF(COUNTIF(R11:R27,"C")>0,"P"," "))
B29: Coaching
B30: 1 | C30: Begin to outline your coaching strategy
C31: Talk to a great coach
C32: Watch three sports documentaries
C33: Attend a coaching clinic or seminar
B34: 2 | C34: Conduct a first assessment | D34: =IF(COUNTIF(D31:D33,"A")>=1,"C",IF(COUNTIF(D31:D33,"A")>0,"P"," ")) | E34: =IF(COUNTIF(E31:E33,"A")>=1,"C",IF(COUNTIF(E31:E33,"A")>0,"P"," ")) | F34: =IF(COUNTIF(F31:F33,"A")>=1,"C",IF(COUNTIF(F31:F33,"A")>0,"P"," ")) | G34: =IF(COUNTIF(G31:G33,"A")>=1,"C",IF(COUNTIF(G31:G33,"A")>0,"P"," ")) | H34: =IF(COUNTIF(H31:H33,"A")>=1,"C",IF(COUNTIF(H31:H33,"A")>0,"P"," ")) | I34: =IF(COUNTIF(I31:I33,"A")>=1,"C",IF(COUNTIF(I31:I33,"A")>0,"P"," ")) | J34: =IF(COUNTIF(J31:J33,"A")>=1,"C",IF(COUNTIF(J31:J33,"A")>0,"P"," ")) | K34: =IF(COUNTIF(K31:K33,"A")>=1,"C",IF(COUNTIF(K31:K33,"A")>0,"P"," ")) | ... R34: =IF(COUNTIF(R31:R33,"A")>=1,"C",IF(COUNTIF(R31:R33,"A")>0,"P"," "))
C35: Prepare individual questionaires
C36: Host an initial session
C37: Prepare a goal chart together
B38: 3 | C38: Design your coaching plan | D38: =IF(COUNTIF(D35:D37,"A")>=1,"C",IF(COUNTIF(D35:D37,"A")>0,"P"," ")) | E38: =IF(COUNTIF(E35:E37,"A")>=1,"C",IF(COUNTIF(E35:E37,"A")>0,"P"," ")) | F38: =IF(COUNTIF(F35:F37,"A")>=1,"C",IF(COUNTIF(F35:F37,"A")>0,"P"," ")) | G38: =IF(COUNTIF(G35:G37,"A")>=1,"C",IF(COUNTIF(G35:G37,"A")>0,"P"," ")) | H38: =IF(COUNTIF(H35:H37,"A")>=1,"C",IF(COUNTIF(H35:H37,"A")>0,"P"," ")) | I38: =IF(COUNTIF(I35:I37,"A")>=1,"C",IF(COUNTIF(I35:I37,"A")>0,"P"," ")) | J38: =IF(COUNTIF(J35:J37,"A")>=1,"C",IF(COUNTIF(J35:J37,"A")>0,"P"," ")) | K38: =IF(COUNTIF(K35:K37,"A")>=1,"C",IF(COUNTIF(K35:K37,"A")>0,"P"," ")) | ... R38: =IF(COUNTIF(R35:R37,"A")>=1,"C",IF(COUNTIF(R35:R37,"A")>0,"P"," "))
C39: Design a special warm-up
C40: Research and choose
C41: Open and close each session
...

Sheet Journey
A1: Ambassador Journey Awards Ambassador Journey Awards | C1: Service Unit | D1: =[1]Instructions!F3 -> 0 | E1: ='ambassador 1'!$A$1 -> ambassador 1 | F1: ='ambassador 2'!$A$1 -> ambassador 2 | G1: ='ambassador 3'!$A$1 -> ambassador 3 | H1: ='ambassador 4'!$A$1 -> ambassador 4 | I1: ='ambassador 5'!$A$1 -> ambassador 5 | J1: ='ambassador 6'!$A$1 -> ambassador 6 | K1: ='ambassador 7'!$A$1 -> ambassador 7 | L1: ='ambassador 8'!$A$1 -> ambassador 8 | M1: ='ambassador 9'!$A$1 -> ambassador 9 | N1: ='ambassador 10'!$A$1 -> ambassador 10 | O1: ='ambassador 11'!$A$1 -> ambassador 11 | P1: ='ambassador 12'!$A$1 -> ambassador 12 | Q1: ='ambassador 13'!$A$1 -> ambassador 13 | R1: ='ambassador 14'!$A$1 -> ambassador 14 | S1: ='ambassador 15'!$A$1 -> ambassador 15 | T1: Ambassador Journey Awards Ambassador Journey Awards
C2: Troop | D2: =[1]Instructions!F5 -> 0
B3: Enter A for credit
B5: It's Your World -- Change It!
B6: Your Voice, Your World: The Power of Advocacy
C7: The Girl Scout Advocate Award
C8: 1 | D8: Eight steps to advocacy
C9: 2 | D9: Explore
C10: 3 | D10: Engage
D11: Status: (P)artial or (C)omplete | E11: =IF(COUNTIF(E8:E10,"A")=3,"C",IF(COUNTIF(E8:E10,"A")>0,"P"," ")) | F11: =IF(COUNTIF(F8:F10,"A")=3,"C",IF(COUNTIF(F8:F10,"A")>0,"P"," ")) | G11: =IF(COUNTIF(G8:G10,"A")=3,"C",IF(COUNTIF(G8:G10,"A")>0,"P"," ")) | H11: =IF(COUNTIF(H8:H10,"A")=3,"C",IF(COUNTIF(H8:H10,"A")>0,"P"," ")) | I11: =IF(COUNTIF(I8:I10,"A")=3,"C",IF(COUNTIF(I8:I10,"A")>0,"P"," ")) | J11: =IF(COUNTIF(J8:J10,"A")=3,"C",IF(COUNTIF(J8:J10,"A")>0,"P"," ")) | K11: =IF(COUNTIF(K8:K10,"A")=3,"C",IF(COUNTIF(K8:K10,"A")>0,"P"," ")) | L11: =IF(COUNTIF(L8:L10,"A")=3,"C",IF(COUNTIF(L8:L10,"A")>0,"P"," ")) | ... S11: =IF(COUNTIF(S8:S10,"A")=3,"C",IF(COUNTIF(S8:S10,"A")>0,"P"," "))
B13: It's Your Planet -- Love It!
B14: JUSTICE
C15: Sage Award
C16: 1 | D16: LOOK HIGH, LOOK WIDE
C17: 2 | D17: DO the MATH
C18: 3 | D18: Be HAWK-EYED
C19: 4 | D19: Take the SCIENTIFIC View
C20: 5 | D20: DECIPHER Decisions
C21: 6 | D21: Write Your Equation & PRESENT It
D22: Status: (P)artial or (C)omplete | E22: =IF(COUNTIF(E16:E21,"A")=6,"C",IF(COUNTIF(E16:E21,"A")>0,"P"," ")) | F22: =IF(COUNTIF(F16:F21,"A")=6,"C",IF(COUNTIF(F16:F21,"A")>0,"P"," ")) | G22: =IF(COUNTIF(G16:G21,"A")=6,"C",IF(COUNTIF(G16:G21,"A")>0,"P"," ")) | H22: =IF(COUNTIF(H16:H21,"A")=6,"C",IF(COUNTIF(H16:H21,"A")>0,"P"," ")) | I22: =IF(COUNTIF(I16:I21,"A")=6,"C",IF(COUNTIF(I16:I21,"A")>0,"P"," ")) | J22: =IF(COUNTIF(J16:J21,"A")=6,"C",IF(COUNTIF(J16:J21,"A")>0,"P"," ")) | K22: =IF(COUNTIF(K16:K21,"A")=6,"C",IF(COUNTIF(K16:K21,"A")>0,"P"," ")) | L22: =IF(COUNTIF(L16:L21,"A")=6,"C",IF(COUNTIF(L16:L21,"A")>0,"P"," ")) | ... S22: =IF(COUNTIF(S16:S21,"A")=6,"C",IF(COUNTIF(S16:S21,"A")>0,"P"," "))
B24: It's Your Story -- Tell It!
B25: BLISS: Live it! Give It!
C26: Dream Maker Award
C27: 1 | D27: Meet Successful Dreamers
C28: 2 | D28: Seek and Select a Dreamer(s)
C29: 3 | D29: Define the Dream
C30: 4 | D30: Give It! Gift It!
D31: Status: (P)artial or (C)omplete | E31: =IF(COUNTIF(E27:E30,"A")=4,"C",IF(COUNTIF(E27:E30,"A")>0,"P"," ")) | F31: =IF(COUNTIF(F27:F30,"A")=4,"C",IF(COUNTIF(F27:F30,"A")>0,"P"," ")) | G31: =IF(COUNTIF(G27:G30,"A")=4,"C",IF(COUNTIF(G27:G30,"A")>0,"P"," ")) | H31: =IF(COUNTIF(H27:H30,"A")=4,"C",IF(COUNTIF(H27:H30,"A")>0,"P"," ")) | I31: =IF(COUNTIF(I27:I30,"A")=4,"C",IF(COUNTIF(I27:I30,"A")>0,"P"," ")) | J31: =IF(COUNTIF(J27:J30,"A")=4,"C",IF(COUNTIF(J27:J30,"A")>0,"P"," ")) | K31: =IF(COUNTIF(K27:K30,"A")=4,"C",IF(COUNTIF(K27:K30,"A")>0,"P"," ")) | L31: =IF(COUNTIF(L27:L30,"A")=4,"C",IF(COUNTIF(L27:L30,"A")>0,"P"," ")) | ... S31: =IF(COUNTIF(S27:S30,"A")=4,"C",IF(COUNTIF(S27:S30,"A")>0,"P"," "))

Sheet Council Own
B1: Service Unit: | C1: =Instructions!F3 -> 0 | D1: ='ambassador 1'!$A$1 -> ambassador 1 | E1: ='ambassador 2'!$A$1 -> ambassador 2 | F1: ='ambassador 3'!$A$1 -> ambassador 3 | G1: ='ambassador 4'!$A$1 -> ambassador 4 | H1: ='ambassador 5'!$A$1 -> ambassador 5 | I1: ='ambassador 6'!$A$1 -> ambassador 6 | J1: ='ambassador 7'!$A$1 -> ambassador 7 | K1: ='ambassador 8'!$A$1 -> ambassador 8 | L1: ='ambassador 9'!$A$1 -> ambassador 9 | M1: ='ambassador 10'!$A$1 -> ambassador 10 | N1: ='ambassador 11'!$A$1 -> ambassador 11 | O1: ='ambassador 12'!$A$1 -> ambassador 12 | P1: ='ambassador 13'!$A$1 -> ambassador 13 | Q1: ='ambassador 14'!$A$1 -> ambassador 14 | R1: ='ambassador 15'!$A$1 -> ambassador 15
B2: Troop: | C2: =Instructions!F5 -> 0
A4: Enter A for credit
A5: Council's Own
B6: <<List Badge Here>> | D6: Every step has three choices. Do ONE choice to complete each step.
B7: 1 | C7: <List Requirement Here> | S7: These I modeled after all the others. If you can attain a picture, you may paste it in the space to the left of the name. You will enter the name of the badge, and all the requirements under the name. I've left the comments open so that you may enter the specific requirements here. Everything will transfer through to all the other necessary sheets. The status portion is set the same at 1 step for each requirements to complete. You may change if you know how, otherwise, just enter the A's if they're done.
C8: <List Requirement Here>
C9: <List Requirement Here>
C10: <List Requirement Here>
B11: 2 | C11: <List Requirement Here> | D11: =IF(COUNTIF(D8:D10,"A")>=1,"C",IF(COUNTIF(D8:D10,"A")>0,"P"," ")) | E11: =IF(COUNTIF(E8:E10,"A")>=1,"C",IF(COUNTIF(E8:E10,"A")>0,"P"," ")) | F11: =IF(COUNTIF(F8:F10,"A")>=1,"C",IF(COUNTIF(F8:F10,"A")>0,"P"," ")) | G11: =IF(COUNTIF(G8:G10,"A")>=1,"C",IF(COUNTIF(G8:G10,"A")>0,"P"," ")) | H11: =IF(COUNTIF(H8:H10,"A")>=1,"C",IF(COUNTIF(H8:H10,"A")>0,"P"," ")) | I11: =IF(COUNTIF(I8:I10,"A")>=1,"C",IF(COUNTIF(I8:I10,"A")>0,"P"," ")) | J11: =IF(COUNTIF(J8:J10,"A")>=1,"C",IF(COUNTIF(J8:J10,"A")>0,"P"," ")) | K11: =IF(COUNTIF(K8:K10,"A")>=1,"C",IF(COUNTIF(K8:K10,"A")>0,"P"," ")) | ... R11: =IF(COUNTIF(R8:R10,"A")>=1,"C",IF(COUNTIF(R8:R10,"A")>0,"P"," "))
C12: <List Requirement Here>
C13: <List Requirement Here>
C14: <List Requirement Here>
B15: 3 | C15: <List Requirement Here> | D15: =IF(COUNTIF(D12:D14,"A")>=1,"C",IF(COUNTIF(D12:D14,"A")>0,"P"," ")) | E15: =IF(COUNTIF(E12:E14,"A")>=1,"C",IF(COUNTIF(E12:E14,"A")>0,"P"," ")) | F15: =IF(COUNTIF(F12:F14,"A")>=1,"C",IF(COUNTIF(F12:F14,"A")>0,"P"," ")) | G15: =IF(COUNTIF(G12:G14,"A")>=1,"C",IF(COUNTIF(G12:G14,"A")>0,"P"," ")) | H15: =IF(COUNTIF(H12:H14,"A")>=1,"C",IF(COUNTIF(H12:H14,"A")>0,"P"," ")) | I15: =IF(COUNTIF(I12:I14,"A")>=1,"C",IF(COUNTIF(I12:I14,"A")>0,"P"," ")) | J15: =IF(COUNTIF(J12:J14,"A")>=1,"C",IF(COUNTIF(J12:J14,"A")>0,"P"," ")) | K15: =IF(COUNTIF(K12:K14,"A")>=1,"C",IF(COUNTIF(K12:K14,"A")>0,"P"," ")) | ... R15: =IF(COUNTIF(R12:R14,"A")>=1,"C",IF(COUNTIF(R12:R14,"A")>0,"P"," "))
C16: <List Requirement Here>
C17: <List Requirement Here>
C18: <List Requirement Here>
B19: 4 | C19: <List Requirement Here> | D19: =IF(COUNTIF(D16:D18,"A")>=1,"C",IF(COUNTIF(D16:D18,"A")>0,"P"," ")) | E19: =IF(COUNTIF(E16:E18,"A")>=1,"C",IF(COUNTIF(E16:E18,"A")>0,"P"," ")) | F19: =IF(COUNTIF(F16:F18,"A")>=1,"C",IF(COUNTIF(F16:F18,"A")>0,"P"," ")) | G19: =IF(COUNTIF(G16:G18,"A")>=1,"C",IF(COUNTIF(G16:G18,"A")>0,"P"," ")) | H19: =IF(COUNTIF(H16:H18,"A")>=1,"C",IF(COUNTIF(H16:H18,"A")>0,"P"," ")) | I19: =IF(COUNTIF(I16:I18,"A")>=1,"C",IF(COUNTIF(I16:I18,"A")>0,"P"," ")) | J19: =IF(COUNTIF(J16:J18,"A")>=1,"C",IF(COUNTIF(J16:J18,"A")>0,"P"," ")) | K19: =IF(COUNTIF(K16:K18,"A")>=1,"C",IF(COUNTIF(K16:K18,"A")>0,"P"," ")) | ... R19: =IF(COUNTIF(R16:R18,"A")>=1,"C",IF(COUNTIF(R16:R18,"A")>0,"P"," "))
C20: <List Requirement Here>
C21: <List Requirement Here>
C22: <List Requirement Here>
B23: 5 | C23: <List Requirement Here> | D23: =IF(COUNTIF(D20:D22,"A")>=1,"C",IF(COUNTIF(D20:D22,"A")>0,"P"," ")) | E23: =IF(COUNTIF(E20:E22,"A")>=1,"C",IF(COUNTIF(E20:E22,"A")>0,"P"," ")) | F23: =IF(COUNTIF(F20:F22,"A")>=1,"C",IF(COUNTIF(F20:F22,"A")>0,"P"," ")) | G23: =IF(COUNTIF(G20:G22,"A")>=1,"C",IF(COUNTIF(G20:G22,"A")>0,"P"," ")) | H23: =IF(COUNTIF(H20:H22,"A")>=1,"C",IF(COUNTIF(H20:H22,"A")>0,"P"," ")) | I23: =IF(COUNTIF(I20:I22,"A")>=1,"C",IF(COUNTIF(I20:I22,"A")>0,"P"," ")) | J23: =IF(COUNTIF(J20:J22,"A")>=1,"C",IF(COUNTIF(J20:J22,"A")>0,"P"," ")) | K23: =IF(COUNTIF(K20:K22,"A")>=1,"C",IF(COUNTIF(K20:K22,"A")>0,"P"," ")) | ... R23: =IF(COUNTIF(R20:R22,"A")>=1,"C",IF(COUNTIF(R20:R22,"A")>0,"P"," "))
C24: <List Requirement Here>
C25: <List Requirement Here>
C26: <List Requirement Here>
D27: =IF(COUNTIF(D24:D26,"A")>=1,"C",IF(COUNTIF(D24:D26,"A")>0,"P"," ")) | E27: =IF(COUNTIF(E24:E26,"A")>=1,"C",IF(COUNTIF(E24:E26,"A")>0,"P"," ")) | F27: =IF(COUNTIF(F24:F26,"A")>=1,"C",IF(COUNTIF(F24:F26,"A")>0,"P"," ")) | G27: =IF(COUNTIF(G24:G26,"A")>=1,"C",IF(COUNTIF(G24:G26,"A")>0,"P"," ")) | H27: =IF(COUNTIF(H24:H26,"A")>=1,"C",IF(COUNTIF(H24:H26,"A")>0,"P"," ")) | I27: =IF(COUNTIF(I24:I26,"A")>=1,"C",IF(COUNTIF(I24:I26,"A")>0,"P"," ")) | J27: =IF(COUNTIF(J24:J26,"A")>=1,"C",IF(COUNTIF(J24:J26,"A")>0,"P"," ")) | K27: =IF(COUNTIF(K24:K26,"A")>=1,"C",IF(COUNTIF(K24:K26,"A")>0,"P"," ")) | ... R27: =IF(COUNTIF(R24:R26,"A")>=1,"C",IF(COUNTIF(R24:R26,"A")>0,"P"," "))
C28: Status: (P)artial or (C)omplete | D28: =IF(COUNTIF(D11:D27,"C")>4,"C",IF(COUNTIF(D11:D27,"C")>0,"P"," ")) | E28: =IF(COUNTIF(E11:E27,"C")>4,"C",IF(COUNTIF(E11:E27,"C")>0,"P"," ")) | F28: =IF(COUNTIF(F11:F27,"C")>4,"C",IF(COUNTIF(F11:F27,"C")>0,"P"," ")) | G28: =IF(COUNTIF(G11:G27,"C")>4,"C",IF(COUNTIF(G11:G27,"C")>0,"P"," ")) | H28: =IF(COUNTIF(H11:H27,"C")>4,"C",IF(COUNTIF(H11:H27,"C")>0,"P"," ")) | I28: =IF(COUNTIF(I11:I27,"C")>4,"C",IF(COUNTIF(I11:I27,"C")>0,"P"," ")) | J28: =IF(COUNTIF(J11:J27,"C")>4,"C",IF(COUNTIF(J11:J27,"C")>0,"P"," ")) | K28: =IF(COUNTIF(K11:K27,"C")>4,"C",IF(COUNTIF(K11:K27,"C")>0,"P"," ")) | ... R28: =IF(COUNTIF(R11:R27,"C")>4,"C",IF(COUNTIF(R11:R27,"C")>0,"P"," "))
B30: <<List Badge Here>>
B31: 1 | C31: <List Requirement Here>
C32: <List Requirement Here>
C33: <List Requirement Here>
C34: <List Requirement Here>
B35: 2 | C35: <List Requirement Here> | D35: =IF(COUNTIF(D32:D34,"A")>=1,"C",IF(COUNTIF(D32:D34,"A")>0,"P"," ")) | E35: =IF(COUNTIF(E32:E34,"A")>=1,"C",IF(COUNTIF(E32:E34,"A")>0,"P"," ")) | F35: =IF(COUNTIF(F32:F34,"A")>=1,"C",IF(COUNTIF(F32:F34,"A")>0,"P"," ")) | G35: =IF(COUNTIF(G32:G34,"A")>=1,"C",IF(COUNTIF(G32:G34,"A")>0,"P"," ")) | H35: =IF(COUNTIF(H32:H34,"A")>=1,"C",IF(COUNTIF(H32:H34,"A")>0,"P"," ")) | I35: =IF(COUNTIF(I32:I34,"A")>=1,"C",IF(COUNTIF(I32:I34,"A")>0,"P"," ")) | J35: =IF(COUNTIF(J32:J34,"A")>=1,"C",IF(COUNTIF(J32:J34,"A")>0,"P"," ")) | K35: =IF(COUNTIF(K32:K34,"A")>=1,"C",IF(COUNTIF(K32:K34,"A")>0,"P"," ")) | ... R35: =IF(COUNTIF(R32:R34,"A")>=1,"C",IF(COUNTIF(R32:R34,"A")>0,"P"," "))
C36: <List Requirement Here>
C37: <List Requirement Here>
C38: <List Requirement Here>
B39: 3 | C39: <List Requirement Here> | D39: =IF(COUNTIF(D36:D38,"A")>=1,"C",IF(COUNTIF(D36:D38,"A")>0,"P"," ")) | E39: =IF(COUNTIF(E36:E38,"A")>=1,"C",IF(COUNTIF(E36:E38,"A")>0,"P"," ")) | F39: =IF(COUNTIF(F36:F38,"A")>=1,"C",IF(COUNTIF(F36:F38,"A")>0,"P"," ")) | G39: =IF(COUNTIF(G36:G38,"A")>=1,"C",IF(COUNTIF(G36:G38,"A")>0,"P"," ")) | H39: =IF(COUNTIF(H36:H38,"A")>=1,"C",IF(COUNTIF(H36:H38,"A")>0,"P"," ")) | I39: =IF(COUNTIF(I36:I38,"A")>=1,"C",IF(COUNTIF(I36:I38,"A")>0,"P"," ")) | J39: =IF(COUNTIF(J36:J38,"A")>=1,"C",IF(COUNTIF(J36:J38,"A")>0,"P"," ")) | K39: =IF(COUNTIF(K36:K38,"A")>=1,"C",IF(COUNTIF(K36:K38,"A")>0,"P"," ")) | ... R39: =IF(COUNTIF(R36:R38,"A")>=1,"C",IF(COUNTIF(R36:R38,"A")>0,"P"," "))
C40: <List Requirement Here>
C41: <List Requirement Here>
C42: <List Requirement Here>
...

Sheet Age-Level
B1: Service Unit: | C1: =Instructions!F3 -> 0 | D1: ='ambassador 1'!$A$1 -> ambassador 1 | E1: ='ambassador 2'!$A$1 -> ambassador 2 | F1: ='ambassador 3'!$A$1 -> ambassador 3 | G1: ='ambassador 4'!$A$1 -> ambassador 4 | H1: ='ambassador 5'!$A$1 -> ambassador 5 | I1: ='ambassador 6'!$A$1 -> ambassador 6 | J1: ='ambassador 7'!$A$1 -> ambassador 7 | K1: ='ambassador 8'!$A$1 -> ambassador 8 | L1: ='ambassador 9'!$A$1 -> ambassador 9 | M1: ='ambassador 10'!$A$1 -> ambassador 10 | N1: ='ambassador 11'!$A$1 -> ambassador 11 | O1: ='ambassador 12'!$A$1 -> ambassador 12 | P1: ='ambassador 13'!$A$1 -> ambassador 13 | Q1: ='ambassador 14'!$A$1 -> ambassador 14 | R1: ='ambassador 15'!$A$1 -> ambassador 15
B2: Troop: | C2: =Instructions!F5 -> 0
A4: Enter A for credit
B5: Gold Torch Award
B6: 1 | C6: Complete one Ambassador Leadership
B7: 2 | C7: Serve for one full term in a leadership
C8: Status: (P)artial or (C)omplete | D8: =IF(COUNTIF(D6:D7,"A")=2,"C",IF(COUNTIF(D6:D7,"A")>0,"P"," ")) | E8: =IF(COUNTIF(E6:E7,"A")=2,"C",IF(COUNTIF(E6:E7,"A")>0,"P"," ")) | F8: =IF(COUNTIF(F6:F7,"A")=2,"C",IF(COUNTIF(F6:F7,"A")>0,"P"," ")) | G8: =IF(COUNTIF(G6:G7,"A")=2,"C",IF(COUNTIF(G6:G7,"A")>0,"P"," ")) | H8: =IF(COUNTIF(H6:H7,"A")=2,"C",IF(COUNTIF(H6:H7,"A")>0,"P"," ")) | I8: =IF(COUNTIF(I6:I7,"A")=2,"C",IF(COUNTIF(I6:I7,"A")>0,"P"," ")) | J8: =IF(COUNTIF(J6:J7,"A")=2,"C",IF(COUNTIF(J6:J7,"A")>0,"P"," ")) | K8: =IF(COUNTIF(K6:K7,"A")=2,"C",IF(COUNTIF(K6:K7,"A")>0,"P"," ")) | ... R8: =IF(COUNTIF(R6:R7,"A")=2,"C",IF(COUNTIF(R6:R7,"A")>0,"P"," "))
B9: Ambassador Community Service bar
B10: 1 | C10: Choose an organizaton and complete
C11: Status: (P)artial or (C)omplete | D11: =IF(COUNTIF(D10,"A")=1,"C",IF(COUNTIF(D10,"A")>0,"P"," ")) | E11: =IF(COUNTIF(E10,"A")=1,"C",IF(COUNTIF(E10,"A")>0,"P"," ")) | F11: =IF(COUNTIF(F10,"A")=1,"C",IF(COUNTIF(F10,"A")>0,"P"," ")) | G11: =IF(COUNTIF(G10,"A")=1,"C",IF(COUNTIF(G10,"A")>0,"P"," ")) | H11: =IF(COUNTIF(H10,"A")=1,"C",IF(COUNTIF(H10,"A")>0,"P"," ")) | I11: =IF(COUNTIF(I10,"A")=1,"C",IF(COUNTIF(I10,"A")>0,"P"," ")) | J11: =IF(COUNTIF(J10,"A")=1,"C",IF(COUNTIF(J10,"A")>0,"P"," ")) | K11: =IF(COUNTIF(K10,"A")=1,"C",IF(COUNTIF(K10,"A")>0,"P"," ")) | ... R11: =IF(COUNTIF(R10,"A")=1,"C",IF(COUNTIF(R10,"A")>0,"P"," "))
B12: Ambassador Service to Girl Scouting bar
B13: 1 | C13: Choose an organizaton and complete
C14: Status: (P)artial or (C)omplete | D14: =IF(COUNTIF(D13,"A")=1,"C",IF(COUNTIF(D13,"A")>0,"P"," ")) | E14: =IF(COUNTIF(E13,"A")=1,"C",IF(COUNTIF(E13,"A")>0,"P"," ")) | F14: =IF(COUNTIF(F13,"A")=1,"C",IF(COUNTIF(F13,"A")>0,"P"," ")) | G14: =IF(COUNTIF(G13,"A")=1,"C",IF(COUNTIF(G13,"A")>0,"P"," ")) | H14: =IF(COUNTIF(H13,"A")=1,"C",IF(COUNTIF(H13,"A")>0,"P"," ")) | I14: =IF(COUNTIF(I13,"A")=1,"C",IF(COUNTIF(I13,"A")>0,"P"," ")) | J14: =IF(COUNTIF(J13,"A")=1,"C",IF(COUNTIF(J13,"A")>0,"P"," ")) | K14: =IF(COUNTIF(K13,"A")=1,"C",IF(COUNTIF(K13,"A")>0,"P"," ")) | ... R14: =IF(COUNTIF(R13,"A")=1,"C",IF(COUNTIF(R13,"A")>0,"P"," "))
B15: Ambassador Volunteer in Training
B16: 1 | C16: Find a Mentor
B17: 2 | C17: Complete a council-designed
B18: 3 | C18: Create and implement a thoughtful
C19: Status: (P)artial or (C)omplete | D19: =IF(COUNTIF(D16:D18,"A")=3,"C",IF(COUNTIF(D16:D18,"A")>0,"P"," ")) | E19: =IF(COUNTIF(E16:E18,"A")=3,"C",IF(COUNTIF(E16:E18,"A")>0,"P"," ")) | F19: =IF(COUNTIF(F16:F18,"A")=3,"C",IF(COUNTIF(F16:F18,"A")>0,"P"," ")) | G19: =IF(COUNTIF(G16:G18,"A")=3,"C",IF(COUNTIF(G16:G18,"A")>0,"P"," ")) | H19: =IF(COUNTIF(H16:H18,"A")=3,"C",IF(COUNTIF(H16:H18,"A")>0,"P"," ")) | I19: =IF(COUNTIF(I16:I18,"A")=3,"C",IF(COUNTIF(I16:I18,"A")>0,"P"," ")) | J19: =IF(COUNTIF(J16:J18,"A")=3,"C",IF(COUNTIF(J16:J18,"A")>0,"P"," ")) | K19: =IF(COUNTIF(K16:K18,"A")=3,"C",IF(COUNTIF(K16:K18,"A")>0,"P"," ")) | ... R19: =IF(COUNTIF(R16:R18,"A")=3,"C",IF(COUNTIF(R16:R18,"A")>0,"P"," "))
B20: Journey Summit Pin
C21: Journey Summit Pin | D21: =IF(COUNTIF(Journey!D30:'Journey'!D66,"B")=3,"C",IF(COUNTIF(Journey!D30:'Journey'!D66,"B")>0,"P"," ")) | E21: =IF(COUNTIF(Journey!E30:'Journey'!E66,"B")=3,"C",IF(COUNTIF(Journey!E30:'Journey'!E66,"B")>0,"P"," ")) | F21: =IF(COUNTIF(Journey!F30:'Journey'!F66,"B")=3,"C",IF(COUNTIF(Journey!F30:'Journey'!F66,"B")>0,"P"," ")) | G21: =IF(COUNTIF(Journey!G30:'Journey'!G66,"B")=3,"C",IF(COUNTIF(Journey!G30:'Journey'!G66,"B")>0,"P"," ")) | H21: =IF(COUNTIF(Journey!H30:'Journey'!H66,"B")=3,"C",IF(COUNTIF(Journey!H30:'Journey'!H66,"B")>0,"P"," ")) | I21: =IF(COUNTIF(Journey!I30:'Journey'!I66,"B")=3,"C",IF(COUNTIF(Journey!I30:'Journey'!I66,"B")>0,"P"," ")) | J21: =IF(COUNTIF(Journey!J30:'Journey'!J66,"B")=3,"C",IF(COUNTIF(Journey!J30:'Journey'!J66,"B")>0,"P"," ")) | K21: =IF(COUNTIF(Journey!K30:'Journey'!K66,"B")=3,"C",IF(COUNTIF(Journey!K30:'Journey'!K66,"B")>0,"P"," ")) | ... R21: =IF(COUNTIF(Journey!R30:'Journey'!R66,"B")=3,"C",IF(COUNTIF(Journey!R30:'Journey'!R66,"B")>0,"P"," "))
B22: Cookies | D22: Cookies
C23: Cookie Rally (Year 1)
C24: Cookie Sales (Year 1)
C25: Cookie Pin (Year 1)
C26: Cookie Rally (Year 2)
C27: Cookie Sales (Year 2)
C28: Cookie Pin (Year 2)
B29: Fall Sales
C30: Fall Sales (Year 1)
C31: Fall Sales (Year 2)
B32: Thinking Day | D32: World Thinking Day
C33: Thinking Day (Year 1)
C34: Thinking Day (Year 2)
B35: Global Action award | D35: Global Action Award
C36: Global Action Award
B37: International Friendship Recognition pin
C38: International Friendship Recognition
B39: Investiture & Rededication Patches
C40: Investiture
C41: Rededication (1st year)
...

Sheet Bridging
B1: Service Unit | C1: =Instructions!F3 -> 0 | D1: ='ambassador 1'!$A$1 -> ambassador 1 | E1: ='ambassador 2'!$A$1 -> ambassador 2 | F1: ='ambassador 3'!$A$1 -> ambassador 3 | G1: ='ambassador 4'!$A$1 -> ambassador 4 | H1: ='ambassador 5'!$A$1 -> ambassador 5 | I1: ='ambassador 6'!$A$1 -> ambassador 6 | J1: ='ambassador 7'!$A$1 -> ambassador 7 | K1: ='ambassador 8'!$A$1 -> ambassador 8 | L1: ='ambassador 9'!$A$1 -> ambassador 9 | M1: ='ambassador 10'!$A$1 -> ambassador 10 | N1: ='ambassador 11'!$A$1 -> ambassador 11 | O1: ='ambassador 12'!$A$1 -> ambassador 12 | P1: ='ambassador 13'!$A$1 -> ambassador 13 | Q1: ='ambassador 14'!$A$1 -> ambassador 14 | R1: ='ambassador 15'!$A$1 -> ambassador 15
B2: Troop | C2: =Instructions!F5 -> 0
A4: Enter A for credit
B6: Pass It On!
B7: 1 | C7: Share favorite things you did on a
B8: 2 | C8: Share with a group of Seniors your
B9: 3 | C9: Inspire younger girls by helping them
D10: =IF(COUNTIF(D7:D9,"A")>=1,"C",IF(COUNTIF(D7:D9,"A")>0,"P"," ")) | E10: =IF(COUNTIF(E7:E9,"A")>=1,"C",IF(COUNTIF(E7:E9,"A")>0,"P"," ")) | F10: =IF(COUNTIF(F7:F9,"A")>=1,"C",IF(COUNTIF(F7:F9,"A")>0,"P"," ")) | G10: =IF(COUNTIF(G7:G9,"A")>=1,"C",IF(COUNTIF(G7:G9,"A")>0,"P"," ")) | H10: =IF(COUNTIF(H7:H9,"A")>=1,"C",IF(COUNTIF(H7:H9,"A")>0,"P"," ")) | I10: =IF(COUNTIF(I7:I9,"A")>=1,"C",IF(COUNTIF(I7:I9,"A")>0,"P"," ")) | J10: =IF(COUNTIF(J7:J9,"A")>=1,"C",IF(COUNTIF(J7:J9,"A")>0,"P"," ")) | K10: =IF(COUNTIF(K7:K9,"A")>=1,"C",IF(COUNTIF(K7:K9,"A")>0,"P"," ")) | ... R10: =IF(COUNTIF(R7:R9,"A")>=1,"C",IF(COUNTIF(R7:R9,"A")>0,"P"," "))
B11: Look Ahead!
B12: 1 | C12: Get together with a Girl Scout adult.
B13: 2 | C13: Hold an appriciation breakfast of lunch
B14: 3 | C14: Create a slide show of your best
D15: =IF(COUNTIF(D12:D14,"A")>=1,"C",IF(COUNTIF(D12:D14,"A")>0,"P"," ")) | E15: =IF(COUNTIF(E12:E14,"A")>=1,"C",IF(COUNTIF(E12:E14,"A")>0,"P"," ")) | F15: =IF(COUNTIF(F12:F14,"A")>=1,"C",IF(COUNTIF(F12:F14,"A")>0,"P"," ")) | G15: =IF(COUNTIF(G12:G14,"A")>=1,"C",IF(COUNTIF(G12:G14,"A")>0,"P"," ")) | H15: =IF(COUNTIF(H12:H14,"A")>=1,"C",IF(COUNTIF(H12:H14,"A")>0,"P"," ")) | I15: =IF(COUNTIF(I12:I14,"A")>=1,"C",IF(COUNTIF(I12:I14,"A")>0,"P"," ")) | J15: =IF(COUNTIF(J12:J14,"A")>=1,"C",IF(COUNTIF(J12:J14,"A")>0,"P"," ")) | K15: =IF(COUNTIF(K12:K14,"A")>=1,"C",IF(COUNTIF(K12:K14,"A")>0,"P"," ")) | ... R15: =IF(COUNTIF(R12:R14,"A")>=1,"C",IF(COUNTIF(R12:R14,"A")>0,"P"," "))
C16: Plan a Ceremony
D17: =IF(COUNTIF(D16:D16,"A")=1,"C",IF(COUNTIF(D16:D16,"A")>0,"P"," ")) | E17: =IF(COUNTIF(E16:E16,"A")=1,"C",IF(COUNTIF(E16:E16,"A")>0,"P"," ")) | F17: =IF(COUNTIF(F16:F16,"A")=1,"C",IF(COUNTIF(F16:F16,"A")>0,"P"," ")) | G17: =IF(COUNTIF(G16:G16,"A")=1,"C",IF(COUNTIF(G16:G16,"A")>0,"P"," ")) | H17: =IF(COUNTIF(H16:H16,"A")=1,"C",IF(COUNTIF(H16:H16,"A")>0,"P"," ")) | I17: =IF(COUNTIF(I16:I16,"A")=1,"C",IF(COUNTIF(I16:I16,"A")>0,"P"," ")) | J17: =IF(COUNTIF(J16:J16,"A")=1,"C",IF(COUNTIF(J16:J16,"A")>0,"P"," ")) | K17: =IF(COUNTIF(K16:K16,"A")=1,"C",IF(COUNTIF(K16:K16,"A")>0,"P"," ")) | ... R17: =IF(COUNTIF(R16:R16,"A")=1,"C",IF(COUNTIF(R16:R16,"A")>0,"P"," "))
C18: Status: (P)artial or (C)omplete | D18: =IF(COUNTIF(D7:D17,"C")=3,"C",IF(COUNTIF(D7:D17,"C")>0,"P"," ")) | E18: =IF(COUNTIF(E7:E17,"C")=3,"C",IF(COUNTIF(E7:E17,"C")>0,"P"," ")) | F18: =IF(COUNTIF(F7:F17,"C")=3,"C",IF(COUNTIF(F7:F17,"C")>0,"P"," ")) | G18: =IF(COUNTIF(G7:G17,"C")=3,"C",IF(COUNTIF(G7:G17,"C")>0,"P"," ")) | H18: =IF(COUNTIF(H7:H17,"C")=3,"C",IF(COUNTIF(H7:H17,"C")>0,"P"," ")) | I18: =IF(COUNTIF(I7:I17,"C")=3,"C",IF(COUNTIF(I7:I17,"C")>0,"P"," ")) | J18: =IF(COUNTIF(J7:J17,"C")=3,"C",IF(COUNTIF(J7:J17,"C")>0,"P"," ")) | K18: =IF(COUNTIF(K7:K17,"C")=3,"C",IF(COUNTIF(K7:K17,"C")>0,"P"," ")) | ... R18: =IF(COUNTIF(R7:R17,"C")=3,"C",IF(COUNTIF(R7:R17,"C")>0,"P"," "))

Sheet Gold
A1: Gold Award Project Gold Award Project Gold Award Project | B1: Service Unit: | D1: =[1]Instructions!E3 -> 0 | E1: ='ambassador 1'!$A$1 -> ambassador 1 | F1: ='ambassador 2'!$A$1 -> ambassador 2 | G1: ='ambassador 3'!$A$1 -> ambassador 3 | H1: ='ambassador 4'!$A$1 -> ambassador 4 | I1: ='ambassador 5'!$A$1 -> ambassador 5 | J1: ='ambassador 6'!$A$1 -> ambassador 6 | K1: ='ambassador 7'!$A$1 -> ambassador 7 | L1: ='ambassador 8'!$A$1 -> ambassador 8 | M1: ='ambassador 9'!$A$1 -> ambassador 9 | N1: ='ambassador 10'!$A$1 -> ambassador 10 | O1: ='ambassador 11'!$A$1 -> ambassador 11 | P1: ='ambassador 12'!$A$1 -> ambassador 12 | Q1: ='ambassador 13'!$A$1 -> ambassador 13 | R1: ='ambassador 14'!$A$1 -> ambassador 14 | S1: ='ambassador 15'!$A$1 -> ambassador 15 | T1: Gold Award Project Gold Award Project Gold Award Project
B2: Troop: | D2: =[1]Instructions!E5 -> 0
B3: Enter A for credit
B5: For Girls 14-18
C6: 1 | D6: Choose an issue
C7: 2 | D7: Investigate
C8: 3 | D8: Get help
C9: 4 | D9: Create a plan
C10: 5 | D10: Present your plan and get feedback
C11: 6 | D11: Take action
C12: 7 | D12: Educate and inspire

Sheet Fun Patches
B1: Service Unit: | C1: =Instructions!F3 -> 0 | D1: ='ambassador 1'!$A$1 -> ambassador 1 | E1: ='ambassador 2'!$A$1 -> ambassador 2 | F1: ='ambassador 3'!$A$1 -> ambassador 3 | G1: ='ambassador 4'!$A$1 -> ambassador 4 | H1: ='ambassador 5'!$A$1 -> ambassador 5 | I1: ='ambassador 6'!$A$1 -> ambassador 6 | J1: ='ambassador 7'!$A$1 -> ambassador 7 | K1: ='ambassador 8'!$A$1 -> ambassador 8 | L1: ='ambassador 9'!$A$1 -> ambassador 9 | M1: ='ambassador 10'!$A$1 -> ambassador 10 | N1: ='ambassador 11'!$A$1 -> ambassador 11 | O1: ='ambassador 12'!$A$1 -> ambassador 12 | P1: ='ambassador 13'!$A$1 -> ambassador 13 | Q1: ='ambassador 14'!$A$1 -> ambassador 14 | R1: ='ambassador 15'!$A$1 -> ambassador 15
B2: Troop: | C2: =Instructions!F5 -> 0
A4: Enter A for credit
C5: <LIST PATCH HERE>
C6: <LIST PATCH HERE>
C7: <LIST PATCH HERE>
C8: <LIST PATCH HERE>
C9: <LIST PATCH HERE>
C10: <LIST PATCH HERE>
C11: <LIST PATCH HERE>
C12: <LIST PATCH HERE>
C13: <LIST PATCH HERE>
C14: <LIST PATCH HERE>
C15: <LIST PATCH HERE>
C16: <LIST PATCH HERE>
... C38: <LIST PATCH HERE>

Sheet Summary
A1: Summary Page | B1: ='ambassador 1'!$A$1 -> ambassador 1 | D1: ='ambassador 2'!$A$1 -> ambassador 2 | F1: ='ambassador 3'!$A$1 -> ambassador 3 | H1: ='ambassador 4'!$A$1 -> ambassador 4 | J1: ='ambassador 5'!$A$1 -> ambassador 5 | L1: ='ambassador 6'!$A$1 -> ambassador 6 | N1: ='ambassador 7'!$A$1 -> ambassador 7 | P1: ='ambassador 8'!$A$1 -> ambassador 8 | R1: ='ambassador 9'!$A$1 -> ambassador 9 | T1: ='ambassador 10'!$A$1 -> ambassador 10 | V1: ='ambassador 11'!$A$1 -> ambassador 11 | X1: ='ambassador 12'!$A$1 -> ambassador 12 | Z1: ='ambassador 13'!$A$1 -> ambassador 13 | AB1: ='ambassador 14'!$A$1 -> ambassador 14 | AD1: ='ambassador 15'!$A$1 -> ambassador 15
A2: Enter Y for yes when you have presented the award | B2: Earned | C2: Awarded | D2: Earned | E2: Awarded | F2: Earned | G2: Awarded | H2: Earned | I2: Awarded | J2: Earned | K2: Awarded | L2: Earned | M2: Awarded | N2: Earned | O2: Awarded | P2: Earned | Q2: Awarded | R2: Earned | S2: Awarded | T2: Earned | U2: Awarded | V2: Earned | W2: Awarded | X2: Earned | Y2: Awarded | Z2: Earned | AA2: Awarded | AB2: Earned | AC2: Awarded | AD2: Earned | AE2: Awarded
A3: =Badges!A5 -> Legacy
A4: =Badges!B6 -> Photography | B4: =IF(Badges!D28="C","E","") | D4: =IF(Badges!E28="C","E","") | F4: =IF(Badges!F28="C","E","") | H4: =IF(Badges!G28="C","E","") | J4: =IF(Badges!H28="C","E","") | L4: =IF(Badges!I28="C","E","") | N4: =IF(Badges!J28="C","E","") | P4: =IF(Badges!K28="C","E","") | R4: =IF(Badges!L28="C","E","") | T4: =IF(Badges!M28="C","E","") | V4: =IF(Badges!N28="C","E","") | X4: =IF(Badges!O28="C","E","") | Z4: =IF(Badges!P28="C","E","") | AB4: =IF(Badges!Q28="C","E","") | AD4: =IF(Badges!R28="C","E","")
A5: =Badges!B29 -> Coaching | B5: =IF(Badges!D51="C","E","") | D5: =IF(Badges!E51="C","E","") | F5: =IF(Badges!F51="C","E","") | H5: =IF(Badges!G51="C","E","") | J5: =IF(Badges!H51="C","E","") | L5: =IF(Badges!I51="C","E","") | N5: =IF(Badges!J51="C","E","") | P5: =IF(Badges!K51="C","E","") | R5: =IF(Badges!L51="C","E","") | T5: =IF(Badges!M51="C","E","") | V5: =IF(Badges!N51="C","E","") | X5: =IF(Badges!O51="C","E","") | Z5: =IF(Badges!P51="C","E","") | AB5: =IF(Badges!Q51="C","E","") | AD5: =IF(Badges!R51="C","E","")
A6: =Badges!B52 -> Public Policy | B6: =IF(Badges!D74="C","E","") | D6: =IF(Badges!E74="C","E","") | F6: =IF(Badges!F74="C","E","") | H6: =IF(Badges!G74="C","E","") | J6: =IF(Badges!H74="C","E","") | L6: =IF(Badges!I74="C","E","") | N6: =IF(Badges!J74="C","E","") | P6: =IF(Badges!K74="C","E","") | R6: =IF(Badges!L74="C","E","") | T6: =IF(Badges!M74="C","E","") | V6: =IF(Badges!N74="C","E","") | X6: =IF(Badges!O74="C","E","") | Z6: =IF(Badges!P74="C","E","") | AB6: =IF(Badges!Q74="C","E","") | AD6: =IF(Badges!R74="C","E","")
A7: =Badges!B75 -> Dinner Party | B7: =IF(Badges!D97="C","E","") | D7: =IF(Badges!E97="C","E","") | F7: =IF(Badges!F97="C","E","") | H7: =IF(Badges!G97="C","E","") | J7: =IF(Badges!H97="C","E","") | L7: =IF(Badges!I97="C","E","") | N7: =IF(Badges!J97="C","E","") | P7: =IF(Badges!K97="C","E","") | R7: =IF(Badges!L97="C","E","") | T7: =IF(Badges!M97="C","E","") | V7: =IF(Badges!N97="C","E","") | X7: =IF(Badges!O97="C","E","") | Z7: =IF(Badges!P97="C","E","") | AB7: =IF(Badges!Q97="C","E","") | AD7: =IF(Badges!R97="C","E","")
A8: =Badges!B98 -> Ambassador First Aid | B8: =IF(Badges!D120="C","E","") | D8: =IF(Badges!E120="C","E","") | F8: =IF(Badges!F120="C","E","") | H8: =IF(Badges!G120="C","E","") | J8: =IF(Badges!H120="C","E","") | L8: =IF(Badges!I120="C","E","") | N8: =IF(Badges!J120="C","E","") | P8: =IF(Badges!K120="C","E","") | R8: =IF(Badges!L120="C","E","") | T8: =IF(Badges!M120="C","E","") | V8: =IF(Badges!N120="C","E","") | X8: =IF(Badges!O120="C","E","") | Z8: =IF(Badges!P120="C","E","") | AB8: =IF(Badges!Q120="C","E","") | AD8: =IF(Badges!R120="C","E","")
A9: =Badges!B121 -> Ambassador Girl Scout Way | B9: =IF(Badges!D143="C","E","") | D9: =IF(Badges!E143="C","E","") | F9: =IF(Badges!F143="C","E","") | H9: =IF(Badges!G143="C","E","") | J9: =IF(Badges!H143="C","E","") | L9: =IF(Badges!I143="C","E","") | N9: =IF(Badges!J143="C","E","") | P9: =IF(Badges!K143="C","E","") | R9: =IF(Badges!L143="C","E","") | T9: =IF(Badges!M143="C","E","") | V9: =IF(Badges!N143="C","E","") | X9: =IF(Badges!O143="C","E","") | Z9: =IF(Badges!P143="C","E","") | AB9: =IF(Badges!Q143="C","E","") | AD9: =IF(Badges!R143="C","E","")
A10: =Badges!B144 -> Water | B10: =IF(Badges!D166="C","E","") | D10: =IF(Badges!E166="C","E","") | F10: =IF(Badges!F166="C","E","") | H10: =IF(Badges!G166="C","E","") | J10: =IF(Badges!H166="C","E","") | L10: =IF(Badges!I166="C","E","") | N10: =IF(Badges!J166="C","E","") | P10: =IF(Badges!K166="C","E","") | R10: =IF(Badges!L166="C","E","") | T10: =IF(Badges!M166="C","E","") | V10: =IF(Badges!N166="C","E","") | X10: =IF(Badges!O166="C","E","") | Z10: =IF(Badges!P166="C","E","") | AB10: =IF(Badges!Q166="C","E","") | AD10: =IF(Badges!R166="C","E","")
A11: =Badges!A167 -> Financial Literacy
A12: =Badges!B168 -> On My Own | B12: =IF(Badges!D190="C","E","") | D12: =IF(Badges!E190="C","E","") | F12: =IF(Badges!F190="C","E","") | H12: =IF(Badges!G190="C","E","") | J12: =IF(Badges!H190="C","E","") | L12: =IF(Badges!I190="C","E","") | N12: =IF(Badges!J190="C","E","") | P12: =IF(Badges!K190="C","E","") | R12: =IF(Badges!L190="C","E","") | T12: =IF(Badges!M190="C","E","") | V12: =IF(Badges!N190="C","E","") | X12: =IF(Badges!O190="C","E","") | Z12: =IF(Badges!P190="C","E","") | AB12: =IF(Badges!Q190="C","E","") | AD12: =IF(Badges!R190="C","E","")
A13: =Badges!B191 -> Good Credit | B13: =IF(Badges!D213="C","E","") | D13: =IF(Badges!E213="C","E","") | F13: =IF(Badges!F213="C","E","") | H13: =IF(Badges!G213="C","E","") | J13: =IF(Badges!H213="C","E","") | L13: =IF(Badges!I213="C","E","") | N13: =IF(Badges!J213="C","E","") | P13: =IF(Badges!K213="C","E","") | R13: =IF(Badges!L213="C","E","") | T13: =IF(Badges!M213="C","E","") | V13: =IF(Badges!N213="C","E","") | X13: =IF(Badges!O213="C","E","") | Z13: =IF(Badges!P213="C","E","") | AB13: =IF(Badges!Q213="C","E","") | AD13: =IF(Badges!R213="C","E","")
A14: =Badges!A214 -> Cookie Business
A15: =Badges!B215 -> Research and Development | B15: =IF(Badges!D227="C","E","") | D15: =IF(Badges!E227="C","E","") | F15: =IF(Badges!F227="C","E","") | H15: =IF(Badges!G227="C","E","") | J15: =IF(Badges!H227="C","E","") | L15: =IF(Badges!I227="C","E","") | N15: =IF(Badges!J227="C","E","") | P15: =IF(Badges!K227="C","E","") | R15: =IF(Badges!L227="C","E","") | T15: =IF(Badges!M227="C","E","") | V15: =IF(Badges!N227="C","E","") | X15: =IF(Badges!O227="C","E","") | Z15: =IF(Badges!P227="C","E","") | AB15: =IF(Badges!Q227="C","E","") | AD15: =IF(Badges!R227="C","E","")
A16: =Badges!B228 -> P & L | B16: =IF(Badges!D240="C","E","") | D16: =IF(Badges!E240="C","E","") | F16: =IF(Badges!F240="C","E","") | H16: =IF(Badges!G240="C","E","") | J16: =IF(Badges!H240="C","E","") | L16: =IF(Badges!I240="C","E","") | N16: =IF(Badges!J240="C","E","") | P16: =IF(Badges!K240="C","E","") | R16: =IF(Badges!L240="C","E","") | T16: =IF(Badges!M240="C","E","") | V16: =IF(Badges!N240="C","E","") | X16: =IF(Badges!O240="C","E","") | Z16: =IF(Badges!P240="C","E","") | AB16: =IF(Badges!Q240="C","E","") | AD16: =IF(Badges!R240="C","E","")
A17: Journey Awards
A18: =Journey!B6 -> Your Voice, Your World: The Power of Advocacy | B18: =Journey!E11 | D18: =Journey!F11 | F18: =Journey!G11 | H18: =Journey!H11 | J18: =Journey!I11 | L18: =Journey!J11 | N18: =Journey!K11 | P18: =Journey!L11 | R18: =Journey!M11 | T18: =Journey!N11 | V18: =Journey!O11 | X18: =Journey!P11 | Z18: =Journey!Q11 | AB18: =Journey!R11 | AD18: =Journey!S11
A19: =Journey!B14 -> JUSTICE | B19: =Journey!E22 | D19: =Journey!F22 | F19: =Journey!G22 | H19: =Journey!H22 | J19: =Journey!I22 | L19: =Journey!J22 | N19: =Journey!K22 | P19: =Journey!L22 | R19: =Journey!M22 | T19: =Journey!N22 | V19: =Journey!O22 | X19: =Journey!P22 | Z19: =Journey!Q22 | AB19: =Journey!R22 | AD19: =Journey!S22
A20: =Journey!B25 -> BLISS: Live it! Give It! | B20: =Journey!E31 | D20: =Journey!F31 | F20: =Journey!G31 | H20: =Journey!H31 | J20: =Journey!I31 | L20: =Journey!J31 | N20: =Journey!K31 | P20: =Journey!L31 | R20: =Journey!M31 | T20: =Journey!N31 | V20: =Journey!O31 | X20: =Journey!P31 | Z20: =Journey!Q31 | AB20: =Journey!R31 | AD20: =Journey!S31
A21: ='Council Own'!A5:R5 -> Council's Own
A22: ='Council Own'!B6 -> <<List Badge Here>> | B22: =IF('Council Own'!D28="C","E","") | D22: =IF('Council Own'!E28="C","E","") | F22: =IF('Council Own'!F28="C","E","") | H22: =IF('Council Own'!G28="C","E","") | J22: =IF('Council Own'!H28="C","E","") | L22: =IF('Council Own'!I28="C","E","") | N22: =IF('Council Own'!J28="C","E","") | P22: =IF('Council Own'!K28="C","E","") | R22: =IF('Council Own'!L28="C","E","") | T22: =IF('Council Own'!M28="C","E","") | V22: =IF('Council Own'!N28="C","E","") | X22: =IF('Council Own'!O28="C","E","") | Z22: =IF('Council Own'!P28="C","E","") | AB22: =IF('Council Own'!Q28="C","E","") | AD22: =IF('Council Own'!R28="C","E","")
A23: ='Council Own'!B30 -> <<List Badge Here>> | B23: =IF('Council Own'!D52="C","E","") | D23: =IF('Council Own'!E52="C","E","") | F23: =IF('Council Own'!F52="C","E","") | H23: =IF('Council Own'!G52="C","E","") | J23: =IF('Council Own'!H52="C","E","") | L23: =IF('Council Own'!I52="C","E","") | N23: =IF('Council Own'!J52="C","E","") | P23: =IF('Council Own'!K52="C","E","") | R23: =IF('Council Own'!L52="C","E","") | T23: =IF('Council Own'!M52="C","E","") | V23: =IF('Council Own'!N52="C","E","") | X23: =IF('Council Own'!O52="C","E","") | Z23: =IF('Council Own'!P52="C","E","") | AB23: =IF('Council Own'!Q52="C","E","") | AD23: =IF('Council Own'!R52="C","E","")
A24: ='Council Own'!B54 -> <<List Badge Here>> | B24: =IF('Council Own'!D76="C","E","") | D24: =IF('Council Own'!E76="C","E","") | F24: =IF('Council Own'!F76="C","E","") | H24: =IF('Council Own'!G76="C","E","") | J24: =IF('Council Own'!H76="C","E","") | L24: =IF('Council Own'!I76="C","E","") | N24: =IF('Council Own'!J76="C","E","") | P24: =IF('Council Own'!K76="C","E","") | R24: =IF('Council Own'!L76="C","E","") | T24: =IF('Council Own'!M76="C","E","") | V24: =IF('Council Own'!N76="C","E","") | X24: =IF('Council Own'!O76="C","E","") | Z24: =IF('Council Own'!P76="C","E","") | AB24: =IF('Council Own'!Q76="C","E","") | AD24: =IF('Council Own'!R76="C","E","")
A25: ='Council Own'!B78 -> <<List Badge Here>> | B25: =IF('Council Own'!D100="C","E","") | D25: =IF('Council Own'!E100="C","E","") | F25: =IF('Council Own'!F100="C","E","") | H25: =IF('Council Own'!G100="C","E","") | J25: =IF('Council Own'!H100="C","E","") | L25: =IF('Council Own'!I100="C","E","") | N25: =IF('Council Own'!J100="C","E","") | P25: =IF('Council Own'!K100="C","E","") | R25: =IF('Council Own'!L100="C","E","") | T25: =IF('Council Own'!M100="C","E","") | V25: =IF('Council Own'!N100="C","E","") | X25: =IF('Council Own'!O100="C","E","") | Z25: =IF('Council Own'!P100="C","E","") | AB25: =IF('Council Own'!Q100="C","E","") | AD25: =IF('Council Own'!R100="C","E","")
A26: ='Council Own'!B102 -> <<List Badge Here>> | B26: =IF('Council Own'!D124="C","E","") | D26: =IF('Council Own'!E124="C","E","") | F26: =IF('Council Own'!F124="C","E","") | H26: =IF('Council Own'!G124="C","E","") | J26: =IF('Council Own'!H124="C","E","") | L26: =IF('Council Own'!I124="C","E","") | N26: =IF('Council Own'!J124="C","E","") | P26: =IF('Council Own'!K124="C","E","") | R26: =IF('Council Own'!L124="C","E","") | T26: =IF('Council Own'!M124="C","E","") | V26: =IF('Council Own'!N124="C","E","") | X26: =IF('Council Own'!O124="C","E","") | Z26: =IF('Council Own'!P124="C","E","") | AB26: =IF('Council Own'!Q124="C","E","") | AD26: =IF('Council Own'!R124="C","E","")
A27: ='Council Own'!B126 -> <<List Badge Here>> | B27: =IF('Council Own'!D148="C","E","") | D27: =IF('Council Own'!E148="C","E","") | F27: =IF('Council Own'!F148="C","E","") | H27: =IF('Council Own'!G148="C","E","") | J27: =IF('Council Own'!H148="C","E","") | L27: =IF('Council Own'!I148="C","E","") | N27: =IF('Council Own'!J148="C","E","") | P27: =IF('Council Own'!K148="C","E","") | R27: =IF('Council Own'!L148="C","E","") | T27: =IF('Council Own'!M148="C","E","") | V27: =IF('Council Own'!N148="C","E","") | X27: =IF('Council Own'!O148="C","E","") | Z27: =IF('Council Own'!P148="C","E","") | AB27: =IF('Council Own'!Q148="C","E","") | AD27: =IF('Council Own'!R148="C","E","")
A28: Age-Level Awards
A29: ='Age-Level'!B5 -> Gold Torch Award | B29: =IF('Age-Level'!D8="C","E","") | D29: =IF('Age-Level'!E8="C","E","") | F29: =IF('Age-Level'!F8="C","E","") | H29: =IF('Age-Level'!G8="C","E","") | J29: =IF('Age-Level'!H8="C","E","") | L29: =IF('Age-Level'!I8="C","E","") | N29: =IF('Age-Level'!J8="C","E","") | P29: =IF('Age-Level'!K8="C","E","") | R29: =IF('Age-Level'!L8="C","E","") | T29: =IF('Age-Level'!M8="C","E","") | V29: =IF('Age-Level'!N8="C","E","") | X29: =IF('Age-Level'!O8="C","E","") | Z29: =IF('Age-Level'!P8="C","E","") | AB29: =IF('Age-Level'!Q8="C","E","") | AD29: =IF('Age-Level'!R8="C","E","")
