Workbook

Sheet Instructions
A1: Instructions, Setup, & Data Entry FAQs (Frequently Asked Questions):
A3: First, please enter your Service Unit in the box:
A5: Next, please enter your Troop number in the box:
A6: Immediately after you download:
B7: You must save your spreadsheet to your hard drive. If you don't, it won't let you propogate the names throughout the spreadsheet, and it will act as though the spreadsheet is read-only.
A8: How to enter Daisy Names in the spreadsheet:
B9: Double-Click on the Tabs at the bottom of the page that read "Daisy 1", "Daisy 2", etc. That will hightlight the text. Simply type the girl's first name on the tab. That will cause her name to proliferate thoughout the spreadsheet.
A10: The Parent Contact Info page:
B11: The Parent Contact Info page is simply there to give you a place to collect parent info for your Daisies. Use it or not. It will have no effect on the rest of the sheet. This is just there as a tool for you.
A12: The Registration page:
B13: The Registration page is there to give you some help in remembering who has given you their registration papers, health history, paid their money to your council and your service unit. This will not spread anywhere else on the sheet. For the leader names, simply click on the names to change your leaders' names.
A14: The Attendance page:
B15: Enter activites, outings, and dates on this page. Use this page to record attendance. It may help you with your recordkeeping. This page has no bearing elsewhere on this worksheet.
A16: The Dues page:
B17: Enter dues as you receive them. The sheet is set up for you to record money. Simply type in what they were able to contribute. This page also has no bearing elsewhere in this worksheet.
A18: How to enter credit on the Petals, Journey Awards, Age-Level Awards and Bridging pages:
B19: To enter credit on the Achievement page, enter an A as a Daisy completes each requirement. Make sure you enter an A. If you enter anything else, it won't register. The spreadsheet is only set up to count A's.
A20: The Summary page:
B21: The summary page is for keeping track, at a glance, of where you are patches-wise. You can quickly see, at a glance, what you have already awarded to the girls, and what you still owe them. As you enter completion information in other parts of the spreadsheet, as soon as a girl is complete for an award, it will automatically pop up an E (and highlight it) on the Summary page. When you present the award to the girl, enter an Y beside that award for that girl (and the highlight goes away).
A22: The Order page:
B23: You will never enter any information on the Order page. It is a completely automated page that gleens information from the Summary page. When it is time for you to order, simply go to the Order page for that information. Every time a girl earns a patch, the numbers on this page increase. When you award the patch to the girl (and place the Y's on the Summary page), the numbers decrease.
A24: What's the purpose of the individual Daisy pages?
B25: You will never enter any information on the individual Daisy pages. Those pages are for you to occasionally print out and hand to the parents. You can use them to let a parent know what their daughter has and has not completed. You can also use that page to make homework assignments to help girls catch up.
A26: Troubleshooting & Frequently Asked Questions
B27: First, most issues can be solved by carefully reading these instructions. I encourage you to re-read this entire page before you do anything else. If that doesn't help, then the home site has a troubleshooting and FAQ page:
C28: http://trax.boy-scouts.net/faq.htm
B29: If neither of these has helped, then please e-mail me and ask. However, I ask that you please exhaust the above resources before you e-mail me. I get several e-mails per day asking for help, and to be honest, if they ask a question which I've already covered in these instructions and/or the FAQ page, I'm very likely to ignore the e-mail. Please read before you e-mail me.
A30: What's the password?
B31: First, I wouldn't recommend unprotecting the spreadsheet. It has been locked for your protection. Basically, it has been locked to keep you from messing up the formulas. It's designed as such that if you are getting a message telling you that a cell is protected, then you are trying to type in the wrong box. But if you must know, the password is: daisy
A32: What about sharing and editing this sheet?
B33: 1. You have my permission to share this spreadsheet, absolutely free of charge, to any scouter anywhere.
B34: 2. You have my permission to post this spreadsheet on any server willing to host it. I will, however, ask that if you DO post this spreadsheet on a server somewhere, that you occasionally check back to the main site that will host this sheet to check for updates (to make sure you have the latest version available. The site is:
B35: The Girl Scout Trax | D35: http://trax.boy-scouts.net/gstrax.htm
B36: 3. You have my permission to modify this sheet in any way to suit your own needs, however, if you do, please don't post your modified version anywhere on the internet.
B37: 4. You have my permission to e-mail me with suggestions for improvements you'd like to see, but please don't be offended if I don't use your suggestions.
A38: How can you contact me?
B39: aedmunds@bellsouth.net
A40: Version History
B41: DaisyTrax 1.0 | C41: 39713 | D41: - Initial release of the software package.
B42: DaisyTrax 1.1 | C42: 39764 | D42: - Addition of dues page and miscellaneous Awards
...

Sheet Parent Contact
A1: ='Daisy 1'!A1 -> Daisy 1 | B1: <<Last Name>> | C1: Date of Birth: | E1: EMERGENCY CONTACT
A2: Primary Adult | C2: Secondary Adult | F2: Name:
A3: Relationship: | C3: Relationship:
A4: Name: | C4: Name: | F4: email:
A5: Address: | C5: Address:
A6: City, State ZIP: | C6: City, State ZIP: | F6: Home Phone:
A7: Home Phone: | C7: Home Phone:
A8: Work Phone: | C8: Work Phone: | F8: Work Phone:
A9: Cell Phone: | C9: Cell Phone:
A10: Home e-mail: | C10: Home e-mail: | F10: Cell Phone:
A11: Work e-mail: | C11: Work e-mail:
A12: ='Daisy 2'!A1 -> Daisy 2 | B12: <<Last Name>> | C12: Date of Birth: | E12: EMERGENCY CONTACT
A13: Primary Adult | C13: Secondary Adult | F13: Name:
A14: Relationship: | C14: Relationship:
A15: Name: | C15: Name: | F15: email:
A16: Address: | C16: Address:
A17: City, State ZIP: | C17: City, State ZIP: | F17: Home Phone:
A18: Home Phone: | C18: Home Phone:
A19: Work Phone: | C19: Work Phone: | F19: Work Phone:
A20: Cell Phone: | C20: Cell Phone:
A21: Home e-mail: | C21: Home e-mail: | F21: Cell Phone:
A22: Work e-mail: | C22: Work e-mail:
A23: ='Daisy 3'!A1 -> Daisy 3 | B23: <<Last Name>> | C23: Date of Birth: | E23: EMERGENCY CONTACT
A24: Primary Adult | C24: Secondary Adult | F24: Name:
A25: Relationship: | C25: Relationship:
A26: Name: | C26: Name: | F26: email:
A27: Address: | C27: Address:
A28: City, State ZIP: | C28: City, State ZIP: | F28: Home Phone:
A29: Home Phone: | C29: Home Phone:
A30: Work Phone: | C30: Work Phone: | F30: Work Phone:
A31: Cell Phone: | C31: Cell Phone:
A32: Home e-mail: | C32: Home e-mail: | F32: Cell Phone:
A33: Work e-mail: | C33: Work e-mail:
A34: ='Daisy 4'!A1 -> Daisy 4 | B34: <<Last Name>> | C34: Date of Birth: | E34: EMERGENCY CONTACT
A35: Primary Adult | C35: Secondary Adult | F35: Name:
A36: Relationship: | C36: Relationship:
A37: Name: | C37: Name: | F37: email:
A38: Address: | C38: Address:
A39: City, State ZIP: | C39: City, State ZIP: | F39: Home Phone:
A40: Home Phone: | C40: Home Phone:
...

Sheet Registration
B1: Service Unit | C1: =Instructions!E3 -> 0 | D1: ='Daisy 1'!$A1 -> Daisy 1 | E1: ='Daisy 2'!$A1 -> Daisy 2 | F1: ='Daisy 3'!$A1 -> Daisy 3 | G1: ='Daisy 4'!$A1 -> Daisy 4 | H1: ='Daisy 5'!$A1 -> Daisy 5 | I1: ='Daisy 6'!$A1 -> Daisy 6 | J1: ='Daisy 7'!$A1 -> Daisy 7 | K1: ='Daisy 8'!$A1 -> Daisy 8 | L1: ='Daisy 9'!$A1 -> Daisy 9 | M1: ='Daisy 10'!$A1 -> Daisy 10 | N1: ='Daisy 11'!$A1 -> Daisy 11 | O1: ='Daisy 12'!$A1 -> Daisy 12 | P1: ='Daisy 13'!$A1 -> Daisy 13 | Q1: ='Daisy 14'!$A1 -> Daisy 14 | R1: ='Daisy 15'!$A1 -> Daisy 15 | S1: ='Daisy 16'!$A1 -> Daisy 16 | T1: ='Daisy 17'!$A1 -> Daisy 17 | U1: ='Daisy 18'!$A1 -> Daisy 18 | V1: ='Daisy 19'!$A1 -> Daisy 19 | W1: ='Daisy 20'!$A1 -> Daisy 20 | X1: ='Daisy 21'!$A1 -> Daisy 21 | Y1: ='Daisy 22'!$A1 -> Daisy 22 | Z1: ='Daisy 23'!$A1 -> Daisy 23 | AA1: ='Daisy 24'!$A1 -> Daisy 24 | AB1: ='Daisy 25'!$A1 -> Daisy 25 | AC1: ='Daisy 26'!$A1 -> Daisy 26 | AD1: ='Daisy 27'!$A1 -> Daisy 27 | AE1: ='Daisy 28'!$A1 -> Daisy 28 | AF1: ='Daisy 29'!$A1 -> Daisy 29 | AG1: ='Daisy 30'!$A1 -> Daisy 30 | AH1: Leader 1 | AI1: Leader 2 | AJ1: Leader 3 | AK1: Leader 4 | AL1: Leader 5 | AM1: Leader 6 | AN1: Leader 7 | AO1: Leader 8 | AP1: Leader 9 | AQ1: Leader 10
B2: Troop | C2: =Instructions!E5 -> 0
A4: Enter A for credit
A6: 1 | B6: Registration Papers
A7: 2 | B7: Check to GSUSA (Registration)
A8: 3 | B8: Service Unit Dues
A9: 4 | B9: Annual Fund Dues
A10: 5 | B10: Health History
B11: Status: (P)artial or (C)omplete | D11: =IF(COUNTIF(D6:D10,"A")=5,"C",IF(COUNTIF(D6:D10,"A")>0,"P"," ")) | E11: =IF(COUNTIF(E6:E10,"A")=5,"C",IF(COUNTIF(E6:E10,"A")>0,"P"," ")) | F11: =IF(COUNTIF(F6:F10,"A")=5,"C",IF(COUNTIF(F6:F10,"A")>0,"P"," ")) | G11: =IF(COUNTIF(G6:G10,"A")=5,"C",IF(COUNTIF(G6:G10,"A")>0,"P"," ")) | H11: =IF(COUNTIF(H6:H10,"A")=5,"C",IF(COUNTIF(H6:H10,"A")>0,"P"," ")) | I11: =IF(COUNTIF(I6:I10,"A")=5,"C",IF(COUNTIF(I6:I10,"A")>0,"P"," ")) | J11: =IF(COUNTIF(J6:J10,"A")=5,"C",IF(COUNTIF(J6:J10,"A")>0,"P"," ")) | K11: =IF(COUNTIF(K6:K10,"A")=5,"C",IF(COUNTIF(K6:K10,"A")>0,"P"," ")) | ... AG11: =IF(COUNTIF(AG6:AG10,"A")=5,"C",IF(COUNTIF(AG6:AG10,"A")>0,"P"," ")) | AH11: =IF(COUNTIF(AH6:AH10,"A")=3,"C",IF(COUNTIF(AH6:AH10,"A")>0,"P"," ")) | AI11: =IF(COUNTIF(AI6:AI10,"A")=3,"C",IF(COUNTIF(AI6:AI10,"A")>0,"P"," ")) | AJ11: =IF(COUNTIF(AJ6:AJ10,"A")=3,"C",IF(COUNTIF(AJ6:AJ10,"A")>0,"P"," ")) | AK11: =IF(COUNTIF(AK6:AK10,"A")=3,"C",IF(COUNTIF(AK6:AK10,"A")>0,"P"," ")) | AL11: =IF(COUNTIF(AL6:AL10,"A")=3,"C",IF(COUNTIF(AL6:AL10,"A")>0,"P"," ")) | AM11: =IF(COUNTIF(AM6:AM10,"A")=3,"C",IF(COUNTIF(AM6:AM10,"A")>0,"P"," ")) | AN11: =IF(COUNTIF(AN6:AN10,"A")=3,"C",IF(COUNTIF(AN6:AN10,"A")>0,"P"," ")) | AO11: =IF(COUNTIF(AO6:AO10,"A")=3,"C",IF(COUNTIF(AO6:AO10,"A")>0,"P"," ")) | ... AQ11: =IF(COUNTIF(AQ6:AQ10,"A")=3,"C",IF(COUNTIF(AQ6:AQ10,"A")>0,"P"," "))
A13: 1 | B13: Registration Papers
A14: 2 | B14: Check to GSUSA (Registration)
A15: 3 | B15: Service Unit Dues
A16: 4 | B16: Annual Fund Dues
A17: 5 | B17: Health History
B18: Status: (P)artial or (C)omplete | D18: =IF(COUNTIF(D13:D17,"A")=5,"C",IF(COUNTIF(D13:D17,"A")>0,"P"," ")) | E18: =IF(COUNTIF(E13:E17,"A")=5,"C",IF(COUNTIF(E13:E17,"A")>0,"P"," ")) | F18: =IF(COUNTIF(F13:F17,"A")=5,"C",IF(COUNTIF(F13:F17,"A")>0,"P"," ")) | G18: =IF(COUNTIF(G13:G17,"A")=5,"C",IF(COUNTIF(G13:G17,"A")>0,"P"," ")) | H18: =IF(COUNTIF(H13:H17,"A")=5,"C",IF(COUNTIF(H13:H17,"A")>0,"P"," ")) | I18: =IF(COUNTIF(I13:I17,"A")=5,"C",IF(COUNTIF(I13:I17,"A")>0,"P"," ")) | J18: =IF(COUNTIF(J13:J17,"A")=5,"C",IF(COUNTIF(J13:J17,"A")>0,"P"," ")) | K18: =IF(COUNTIF(K13:K17,"A")=5,"C",IF(COUNTIF(K13:K17,"A")>0,"P"," ")) | ... AG18: =IF(COUNTIF(AG13:AG17,"A")=5,"C",IF(COUNTIF(AG13:AG17,"A")>0,"P"," ")) | AH18: =IF(COUNTIF(AH13:AH17,"A")=3,"C",IF(COUNTIF(AH13:AH17,"A")>0,"P"," ")) | AI18: =IF(COUNTIF(AI13:AI17,"A")=3,"C",IF(COUNTIF(AI13:AI17,"A")>0,"P"," ")) | AJ18: =IF(COUNTIF(AJ13:AJ17,"A")=3,"C",IF(COUNTIF(AJ13:AJ17,"A")>0,"P"," ")) | AK18: =IF(COUNTIF(AK13:AK17,"A")=3,"C",IF(COUNTIF(AK13:AK17,"A")>0,"P"," ")) | AL18: =IF(COUNTIF(AL13:AL17,"A")=3,"C",IF(COUNTIF(AL13:AL17,"A")>0,"P"," ")) | AM18: =IF(COUNTIF(AM13:AM17,"A")=3,"C",IF(COUNTIF(AM13:AM17,"A")>0,"P"," ")) | AN18: =IF(COUNTIF(AN13:AN17,"A")=3,"C",IF(COUNTIF(AN13:AN17,"A")>0,"P"," ")) | AO18: =IF(COUNTIF(AO13:AO17,"A")=3,"C",IF(COUNTIF(AO13:AO17,"A")>0,"P"," ")) | ... AQ18: =IF(COUNTIF(AQ13:AQ17,"A")=3,"C",IF(COUNTIF(AQ13:AQ17,"A")>0,"P"," "))

Sheet Dues
A1: Enter amount received | B1: ='Daisy 1'!$A1 -> Daisy 1 | C1: ='Daisy 2'!$A1 -> Daisy 2 | D1: ='Daisy 3'!$A1 -> Daisy 3 | E1: ='Daisy 4'!$A1 -> Daisy 4 | F1: ='Daisy 5'!$A1 -> Daisy 5 | G1: ='Daisy 6'!$A1 -> Daisy 6 | H1: ='Daisy 7'!$A1 -> Daisy 7 | I1: ='Daisy 8'!$A1 -> Daisy 8 | J1: ='Daisy 9'!$A1 -> Daisy 9 | K1: ='Daisy 10'!$A1 -> Daisy 10 | L1: ='Daisy 11'!$A1 -> Daisy 11 | M1: ='Daisy 12'!$A1 -> Daisy 12 | N1: ='Daisy 13'!$A1 -> Daisy 13 | O1: ='Daisy 14'!$A1 -> Daisy 14 | P1: ='Daisy 15'!$A1 -> Daisy 15 | Q1: ='Daisy 16'!$A1 -> Daisy 16 | R1: ='Daisy 17'!$A1 -> Daisy 17 | S1: ='Daisy 18'!$A1 -> Daisy 18 | T1: ='Daisy 19'!$A1 -> Daisy 19 | U1: ='Daisy 20'!$A1 -> Daisy 20 | V1: ='Daisy 21'!$A1 -> Daisy 21 | W1: ='Daisy 22'!$A1 -> Daisy 22 | X1: ='Daisy 23'!$A1 -> Daisy 23 | Y1: ='Daisy 24'!$A1 -> Daisy 24 | Z1: ='Daisy 25'!$A1 -> Daisy 25 | AA1: ='Daisy 26'!$A1 -> Daisy 26 | AB1: ='Daisy 27'!$A1 -> Daisy 27 | AC1: ='Daisy 28'!$A1 -> Daisy 28 | AD1: ='Daisy 29'!$A1 -> Daisy 29 | AE1: ='Daisy 30'!$A1 -> Daisy 30 | AF1: meeting totals
A4: Date
AF5: =SUM(B5:P5) -> 0
AF6: =SUM(B6:P6) -> 0
AF7: =SUM(B7:P7) -> 0
AF8: =SUM(B8:P8) -> 0
AF9: =SUM(B9:P9) -> 0
AF10: =SUM(B10:P10) -> 0
AF11: =SUM(B11:P11) -> 0
AF12: =SUM(B12:P12) -> 0
AF13: =SUM(B13:P13) -> 0
AF14: =SUM(B14:P14) -> 0
AF15: =SUM(B15:P15) -> 0
AF16: =SUM(B16:P16) -> 0
... AF19: =SUM(B19:P19) -> 0
A20: yearly total (per girl) | B20: =SUM(B5:B19) -> 0 | C20: =SUM(C5:C19) -> 0 | D20: =SUM(D5:D19) -> 0 | E20: =SUM(E5:E19) -> 0 | F20: =SUM(F5:F19) -> 0 | G20: =SUM(G5:G19) -> 0 | H20: =SUM(H5:H19) -> 0 | I20: =SUM(I5:I19) -> 0 | ... AF20: =SUM(AF5:AF19) -> 0
AF22: =SUM(B22:P22) -> 0
AF23: =SUM(B23:P23) -> 0
AF24: =SUM(B24:P24) -> 0
AF25: =SUM(B25:P25) -> 0
AF26: =SUM(B26:P26) -> 0
AF27: =SUM(B27:P27) -> 0
AF28: =SUM(B28:P28) -> 0
AF29: =SUM(B29:P29) -> 0
AF30: =SUM(B30:P30) -> 0
AF31: =SUM(B31:P31) -> 0
AF32: =SUM(B32:P32) -> 0
AF33: =SUM(B33:P33) -> 0
... AF36: =SUM(B36:P36) -> 0
A37: yearly total (per girl) | B37: =SUM(B22:B36) -> 0 | C37: =SUM(C5:C36) -> 0 | D37: =SUM(D5:D36) -> 0 | E37: =SUM(E5:E36) -> 0 | F37: =SUM(F5:F36) -> 0 | G37: =SUM(G5:G36) -> 0 | H37: =SUM(H5:H36) -> 0 | I37: =SUM(I5:I36) -> 0 | J37: =SUM(J5:J36) -> 0 | ... P37: =SUM(P5:P36) -> 0 | Q37: =SUM(Q22:Q36) -> 0 | R37: =SUM(R5:R36) -> 0 | S37: =SUM(S5:S36) -> 0 | T37: =SUM(T5:T36) -> 0 | U37: =SUM(U5:U36) -> 0 | V37: =SUM(V5:V36) -> 0 | W37: =SUM(W5:W36) -> 0 | X37: =SUM(X5:X36) -> 0 | Y37: =SUM(Y5:Y36) -> 0 | ... AE37: =SUM(AE5:AE36) -> 0 | AF37: =SUM(AF22:AF36) -> 0

Sheet Attendance
A1: Attendance | C1: ='Daisy 1'!$A1 -> Daisy 1 | D1: ='Daisy 2'!$A1 -> Daisy 2 | E1: ='Daisy 3'!$A1 -> Daisy 3 | F1: ='Daisy 4'!$A1 -> Daisy 4 | G1: ='Daisy 5'!$A1 -> Daisy 5 | H1: ='Daisy 6'!$A1 -> Daisy 6 | I1: ='Daisy 7'!$A1 -> Daisy 7 | J1: ='Daisy 8'!$A1 -> Daisy 8 | K1: ='Daisy 9'!$A1 -> Daisy 9 | L1: ='Daisy 10'!$A1 -> Daisy 10 | M1: ='Daisy 11'!$A1 -> Daisy 11 | N1: ='Daisy 12'!$A1 -> Daisy 12 | O1: ='Daisy 13'!$A1 -> Daisy 13 | P1: ='Daisy 14'!$A1 -> Daisy 14 | Q1: ='Daisy 15'!$A1 -> Daisy 15 | R1: ='Daisy 16'!$A1 -> Daisy 16 | S1: ='Daisy 17'!$A1 -> Daisy 17 | T1: ='Daisy 18'!$A1 -> Daisy 18 | U1: ='Daisy 19'!$A1 -> Daisy 19 | V1: ='Daisy 20'!$A1 -> Daisy 20 | W1: ='Daisy 21'!$A1 -> Daisy 21 | X1: ='Daisy 22'!$A1 -> Daisy 22 | Y1: ='Daisy 23'!$A1 -> Daisy 23 | Z1: ='Daisy 24'!$A1 -> Daisy 24 | AA1: ='Daisy 25'!$A1 -> Daisy 25 | AB1: ='Daisy 26'!$A1 -> Daisy 26 | AC1: ='Daisy 27'!$A1 -> Daisy 27 | AD1: ='Daisy 28'!$A1 -> Daisy 28 | AE1: ='Daisy 29'!$A1 -> Daisy 29 | AF1: ='Daisy 30'!$A1 -> Daisy 30
A2: Enter A indicate Attendance at the event
A4: Date | B4: Event Attended (Meeting, Camping, Outing,etc.)

Sheet Petals
B1: Service Unit | C1: =Instructions!E3 -> 0 | D1: ='Daisy 1'!$A1 -> Daisy 1 | E1: ='Daisy 2'!$A1 -> Daisy 2 | F1: ='Daisy 3'!$A1 -> Daisy 3 | G1: ='Daisy 4'!$A1 -> Daisy 4 | H1: ='Daisy 5'!$A1 -> Daisy 5 | I1: ='Daisy 6'!$A1 -> Daisy 6 | J1: ='Daisy 7'!$A1 -> Daisy 7 | K1: ='Daisy 8'!$A1 -> Daisy 8 | L1: ='Daisy 9'!$A1 -> Daisy 9 | M1: ='Daisy 10'!$A1 -> Daisy 10 | N1: ='Daisy 11'!$A1 -> Daisy 11 | O1: ='Daisy 12'!$A1 -> Daisy 12 | P1: ='Daisy 13'!$A1 -> Daisy 13 | Q1: ='Daisy 14'!$A1 -> Daisy 14 | R1: ='Daisy 15'!$A1 -> Daisy 15 | S1: ='Daisy 16'!$A1 -> Daisy 16 | T1: ='Daisy 17'!$A1 -> Daisy 17 | U1: ='Daisy 18'!$A1 -> Daisy 18 | V1: ='Daisy 19'!$A1 -> Daisy 19 | W1: ='Daisy 20'!$A1 -> Daisy 20 | X1: ='Daisy 21'!$A1 -> Daisy 21 | Y1: ='Daisy 22'!$A1 -> Daisy 22 | Z1: ='Daisy 23'!$A1 -> Daisy 23 | AA1: ='Daisy 24'!$A1 -> Daisy 24 | AB1: ='Daisy 25'!$A1 -> Daisy 25 | AC1: ='Daisy 26'!$A1 -> Daisy 26 | AD1: ='Daisy 27'!$A1 -> Daisy 27 | AE1: ='Daisy 28'!$A1 -> Daisy 28 | AF1: ='Daisy 29'!$A1 -> Daisy 29 | AG1: ='Daisy 30'!$A1 -> Daisy 30
B2: Troop | C2: =Instructions!E5 -> 0
A4: Enter A for credit
A5: Center Petal
B6: Center | C6: Promise Center
A7: Petals
B8: Lupe | C8: Honest and fair
B9: Sunny | C9: Friendly and helpful
B10: Zinni | C10: Considerate and caring
B11: Tula | C11: Courageous and strong
B12: Mari | C12: Responsible for what I say and do
B13: Gloria | C13: Respect for myself & others
B14: Gerri | C14: Respect authority
B15: Clover | C15: Use resources wisely
B16: Rosie | C16: Make the world a better place
B17: Vi | C17: Be a sister to every Girl Scout
B18: Status: (P)artial or (C)omplete | D18: =IF(COUNTIF(D6:D17,"A")=11,"C",IF(COUNTIF(D6:D17,"A")>0,"P"," ")) | E18: =IF(COUNTIF(E6:E17,"A")=11,"C",IF(COUNTIF(E6:E17,"A")>0,"P"," ")) | F18: =IF(COUNTIF(F6:F17,"A")=11,"C",IF(COUNTIF(F6:F17,"A")>0,"P"," ")) | G18: =IF(COUNTIF(G6:G17,"A")=11,"C",IF(COUNTIF(G6:G17,"A")>0,"P"," ")) | H18: =IF(COUNTIF(H6:H17,"A")=11,"C",IF(COUNTIF(H6:H17,"A")>0,"P"," ")) | I18: =IF(COUNTIF(I6:I17,"A")=11,"C",IF(COUNTIF(I6:I17,"A")>0,"P"," ")) | J18: =IF(COUNTIF(J6:J17,"A")=11,"C",IF(COUNTIF(J6:J17,"A")>0,"P"," ")) | K18: =IF(COUNTIF(K6:K17,"A")=11,"C",IF(COUNTIF(K6:K17,"A")>0,"P"," ")) | ... AG18: =IF(COUNTIF(AG6:AG17,"A")=11,"C",IF(COUNTIF(AG6:AG17,"A")>0,"P"," "))
A19: Leaves | C19: (you can earn only one finance leaf per year)
B20: Money Counts | C20: Understand the different kinds of coins
C21: Know more about paper money
B22: Finance | C22: Find out the cost of fun
B23: Status: (P)artial or (C)omplete | D23: =IF(COUNTIF(D20:D22,"A")=3,"C",IF(COUNTIF(D20:D22,"A")>0,"P"," ")) | E23: =IF(COUNTIF(E20:E22,"A")=3,"C",IF(COUNTIF(E20:E22,"A")>0,"P"," ")) | F23: =IF(COUNTIF(F20:F22,"A")=3,"C",IF(COUNTIF(F20:F22,"A")>0,"P"," ")) | G23: =IF(COUNTIF(G20:G22,"A")=3,"C",IF(COUNTIF(G20:G22,"A")>0,"P"," ")) | H23: =IF(COUNTIF(H20:H22,"A")=3,"C",IF(COUNTIF(H20:H22,"A")>0,"P"," ")) | I23: =IF(COUNTIF(I20:I22,"A")=3,"C",IF(COUNTIF(I20:I22,"A")>0,"P"," ")) | J23: =IF(COUNTIF(J20:J22,"A")=3,"C",IF(COUNTIF(J20:J22,"A")>0,"P"," ")) | K23: =IF(COUNTIF(K20:K22,"A")=3,"C",IF(COUNTIF(K20:K22,"A")>0,"P"," ")) | ... AG23: =IF(COUNTIF(AG20:AG22,"A")=3,"C",IF(COUNTIF(AG20:AG22,"A")>0,"P"," "))
B25: Making Choices | C25: Find out the difference between needs
C26: Try setting a goal to save for what you want
B27: Finance | C27: Help others with what they need and want
B28: Status: (P)artial or (C)omplete | D28: =IF(COUNTIF(D25:D27,"A")=3,"C",IF(COUNTIF(D25:D27,"A")>0,"P"," ")) | E28: =IF(COUNTIF(E25:E27,"A")=3,"C",IF(COUNTIF(E25:E27,"A")>0,"P"," ")) | F28: =IF(COUNTIF(F25:F27,"A")=3,"C",IF(COUNTIF(F25:F27,"A")>0,"P"," ")) | G28: =IF(COUNTIF(G25:G27,"A")=3,"C",IF(COUNTIF(G25:G27,"A")>0,"P"," ")) | H28: =IF(COUNTIF(H25:H27,"A")=3,"C",IF(COUNTIF(H25:H27,"A")>0,"P"," ")) | I28: =IF(COUNTIF(I25:I27,"A")=3,"C",IF(COUNTIF(I25:I27,"A")>0,"P"," ")) | J28: =IF(COUNTIF(J25:J27,"A")=3,"C",IF(COUNTIF(J25:J27,"A")>0,"P"," ")) | K28: =IF(COUNTIF(K25:K27,"A")=3,"C",IF(COUNTIF(K25:K27,"A")>0,"P"," ")) | ... AG28: =IF(COUNTIF(AG25:AG27,"A")=3,"C",IF(COUNTIF(AG25:AG27,"A")>0,"P"," "))
B30: Count It Up | C30: Find out what cookies cost
C31: Learn about different kinds of cookies
B32: Cookie | C32: Set a sales goal
B33: Status: (P)artial or (C)omplete | D33: =IF(COUNTIF(D30:D32,"A")=3,"C",IF(COUNTIF(D30:D32,"A")>0,"P"," ")) | E33: =IF(COUNTIF(E30:E32,"A")=3,"C",IF(COUNTIF(E30:E32,"A")>0,"P"," ")) | F33: =IF(COUNTIF(F30:F32,"A")=3,"C",IF(COUNTIF(F30:F32,"A")>0,"P"," ")) | G33: =IF(COUNTIF(G30:G32,"A")=3,"C",IF(COUNTIF(G30:G32,"A")>0,"P"," ")) | H33: =IF(COUNTIF(H30:H32,"A")=3,"C",IF(COUNTIF(H30:H32,"A")>0,"P"," ")) | I33: =IF(COUNTIF(I30:I32,"A")=3,"C",IF(COUNTIF(I30:I32,"A")>0,"P"," ")) | J33: =IF(COUNTIF(J30:J32,"A")=3,"C",IF(COUNTIF(J30:J32,"A")>0,"P"," ")) | K33: =IF(COUNTIF(K30:K32,"A")=3,"C",IF(COUNTIF(K30:K32,"A")>0,"P"," ")) | ... AG33: =IF(COUNTIF(AG30:AG32,"A")=3,"C",IF(COUNTIF(AG30:AG32,"A")>0,"P"," "))
B35: Talk It Up | C35: Deicde how to use your cookie money
C36: Talk about how to use cookie money to
B37: Cookie | C37: Inspire your customers
B38: Status: (P)artial or (C)omplete | D38: =IF(COUNTIF(D35:D37,"A")=3,"C",IF(COUNTIF(D35:D37,"A")>0,"P"," ")) | E38: =IF(COUNTIF(E35:E37,"A")=3,"C",IF(COUNTIF(E35:E37,"A")>0,"P"," ")) | F38: =IF(COUNTIF(F35:F37,"A")=3,"C",IF(COUNTIF(F35:F37,"A")>0,"P"," ")) | G38: =IF(COUNTIF(G35:G37,"A")=3,"C",IF(COUNTIF(G35:G37,"A")>0,"P"," ")) | H38: =IF(COUNTIF(H35:H37,"A")=3,"C",IF(COUNTIF(H35:H37,"A")>0,"P"," ")) | I38: =IF(COUNTIF(I35:I37,"A")=3,"C",IF(COUNTIF(I35:I37,"A")>0,"P"," ")) | J38: =IF(COUNTIF(J35:J37,"A")=3,"C",IF(COUNTIF(J35:J37,"A")>0,"P"," ")) | K38: =IF(COUNTIF(K35:K37,"A")=3,"C",IF(COUNTIF(K35:K37,"A")>0,"P"," ")) | ... AG38: =IF(COUNTIF(AG35:AG37,"A")=3,"C",IF(COUNTIF(AG35:AG37,"A")>0,"P"," "))

Sheet Journey Awards
B1: Service Unit | C1: =Instructions!E3 -> 0 | D1: ='Daisy 1'!$A1 -> Daisy 1 | E1: ='Daisy 2'!$A1 -> Daisy 2 | F1: ='Daisy 3'!$A1 -> Daisy 3 | G1: ='Daisy 4'!$A1 -> Daisy 4 | H1: ='Daisy 5'!$A1 -> Daisy 5 | I1: ='Daisy 6'!$A1 -> Daisy 6 | J1: ='Daisy 7'!$A1 -> Daisy 7 | K1: ='Daisy 8'!$A1 -> Daisy 8 | L1: ='Daisy 9'!$A1 -> Daisy 9 | M1: ='Daisy 10'!$A1 -> Daisy 10 | N1: ='Daisy 11'!$A1 -> Daisy 11 | O1: ='Daisy 12'!$A1 -> Daisy 12 | P1: ='Daisy 13'!$A1 -> Daisy 13 | Q1: ='Daisy 14'!$A1 -> Daisy 14 | R1: ='Daisy 15'!$A1 -> Daisy 15 | S1: ='Daisy 16'!$A1 -> Daisy 16 | T1: ='Daisy 17'!$A1 -> Daisy 17 | U1: ='Daisy 18'!$A1 -> Daisy 18 | V1: ='Daisy 19'!$A1 -> Daisy 19 | W1: ='Daisy 20'!$A1 -> Daisy 20 | X1: ='Daisy 21'!$A1 -> Daisy 21 | Y1: ='Daisy 22'!$A1 -> Daisy 22 | Z1: ='Daisy 23'!$A1 -> Daisy 23 | AA1: ='Daisy 24'!$A1 -> Daisy 24 | AB1: ='Daisy 25'!$A1 -> Daisy 25 | AC1: ='Daisy 26'!$A1 -> Daisy 26 | AD1: ='Daisy 27'!$A1 -> Daisy 27 | AE1: ='Daisy 28'!$A1 -> Daisy 28 | AF1: ='Daisy 29'!$A1 -> Daisy 29 | AG1: ='Daisy 30'!$A1 -> Daisy 30
B2: Troop | C2: =Instructions!E5 -> 0
B4: Enter A for credit
A5: It's Your World -- Change It!
A6: Welcome to the Daisy Flower Garden
C8: The Watering Can Award
C9: The Golden Honey Bee
C10: The Amazing Daisy Award
C11: Status: (P)artial or (C)omplete | D11: =IF(COUNTIF(D8:D10,"A")>2,"C",IF(COUNTIF(D8:D10,"A")>0,"P"," ")) | E11: =IF(COUNTIF(E8:E10,"A")>2,"C",IF(COUNTIF(E8:E10,"A")>0,"P"," ")) | F11: =IF(COUNTIF(F8:F10,"A")>2,"C",IF(COUNTIF(F8:F10,"A")>0,"P"," ")) | G11: =IF(COUNTIF(G8:G10,"A")>2,"C",IF(COUNTIF(G8:G10,"A")>0,"P"," ")) | H11: =IF(COUNTIF(H8:H10,"A")>2,"C",IF(COUNTIF(H8:H10,"A")>0,"P"," ")) | I11: =IF(COUNTIF(I8:I10,"A")>2,"C",IF(COUNTIF(I8:I10,"A")>0,"P"," ")) | J11: =IF(COUNTIF(J8:J10,"A")>2,"C",IF(COUNTIF(J8:J10,"A")>0,"P"," ")) | K11: =IF(COUNTIF(K8:K10,"A")>2,"C",IF(COUNTIF(K8:K10,"A")>0,"P"," ")) | ... AG11: =IF(COUNTIF(AG8:AG10,"A")>2,"C",IF(COUNTIF(AG8:AG10,"A")>0,"P"," "))
A13: It's Your Planet -- Love It!
A14: Between Earth and Sky
C16: The Blue Bucket Award
C17: The Firefly Award
C18: The Clover Award
C19: Status: (P)artial or (C)omplete | D19: =IF(COUNTIF(D16:D18,"A")>2,"C",IF(COUNTIF(D16:D18,"A")>0,"P"," ")) | E19: =IF(COUNTIF(E16:E18,"A")>2,"C",IF(COUNTIF(E16:E18,"A")>0,"P"," ")) | F19: =IF(COUNTIF(F16:F18,"A")>2,"C",IF(COUNTIF(F16:F18,"A")>0,"P"," ")) | G19: =IF(COUNTIF(G16:G18,"A")>2,"C",IF(COUNTIF(G16:G18,"A")>0,"P"," ")) | H19: =IF(COUNTIF(H16:H18,"A")>2,"C",IF(COUNTIF(H16:H18,"A")>0,"P"," ")) | I19: =IF(COUNTIF(I16:I18,"A")>2,"C",IF(COUNTIF(I16:I18,"A")>0,"P"," ")) | J19: =IF(COUNTIF(J16:J18,"A")>2,"C",IF(COUNTIF(J16:J18,"A")>0,"P"," ")) | K19: =IF(COUNTIF(K16:K18,"A")>2,"C",IF(COUNTIF(K16:K18,"A")>0,"P"," ")) | ... AG19: =IF(COUNTIF(AG16:AG18,"A")>2,"C",IF(COUNTIF(AG16:AG18,"A")>0,"P"," "))
A21: It's Your Story -- Tell It!
A22: 5 Flowers, 4 Stories, 3 Cheers for Animals!
C24: Birdbath Award
C25: Red Robin Award
C26: Tula Award
C27: Status: (P)artial or (C)omplete | D27: =IF(COUNTIF(D24:D26,"A")>2,"C",IF(COUNTIF(D24:D26,"A")>0,"P"," ")) | E27: =IF(COUNTIF(E24:E26,"A")>2,"C",IF(COUNTIF(E24:E26,"A")>0,"P"," ")) | F27: =IF(COUNTIF(F24:F26,"A")>2,"C",IF(COUNTIF(F24:F26,"A")>0,"P"," ")) | G27: =IF(COUNTIF(G24:G26,"A")>2,"C",IF(COUNTIF(G24:G26,"A")>0,"P"," ")) | H27: =IF(COUNTIF(H24:H26,"A")>2,"C",IF(COUNTIF(H24:H26,"A")>0,"P"," ")) | I27: =IF(COUNTIF(I24:I26,"A")>2,"C",IF(COUNTIF(I24:I26,"A")>0,"P"," ")) | J27: =IF(COUNTIF(J24:J26,"A")>2,"C",IF(COUNTIF(J24:J26,"A")>0,"P"," ")) | K27: =IF(COUNTIF(K24:K26,"A")>2,"C",IF(COUNTIF(K24:K26,"A")>0,"P"," ")) | ... AG27: =IF(COUNTIF(AG24:AG26,"A")>2,"C",IF(COUNTIF(AG24:AG26,"A")>0,"P"," "))

Sheet Bridging
B1: Service Unit | C1: =Instructions!E3 -> 0 | D1: ='Daisy 1'!$A1 -> Daisy 1 | E1: ='Daisy 2'!$A1 -> Daisy 2 | F1: ='Daisy 3'!$A1 -> Daisy 3 | G1: ='Daisy 4'!$A1 -> Daisy 4 | H1: ='Daisy 5'!$A1 -> Daisy 5 | I1: ='Daisy 6'!$A1 -> Daisy 6 | J1: ='Daisy 7'!$A1 -> Daisy 7 | K1: ='Daisy 8'!$A1 -> Daisy 8 | L1: ='Daisy 9'!$A1 -> Daisy 9 | M1: ='Daisy 10'!$A1 -> Daisy 10 | N1: ='Daisy 11'!$A1 -> Daisy 11 | O1: ='Daisy 12'!$A1 -> Daisy 12 | P1: ='Daisy 13'!$A1 -> Daisy 13 | Q1: ='Daisy 14'!$A1 -> Daisy 14 | R1: ='Daisy 15'!$A1 -> Daisy 15 | S1: ='Daisy 16'!$A1 -> Daisy 16 | T1: ='Daisy 17'!$A1 -> Daisy 17 | U1: ='Daisy 18'!$A1 -> Daisy 18 | V1: ='Daisy 19'!$A1 -> Daisy 19 | W1: ='Daisy 20'!$A1 -> Daisy 20 | X1: ='Daisy 21'!$A1 -> Daisy 21 | Y1: ='Daisy 22'!$A1 -> Daisy 22 | Z1: ='Daisy 23'!$A1 -> Daisy 23 | AA1: ='Daisy 24'!$A1 -> Daisy 24 | AB1: ='Daisy 25'!$A1 -> Daisy 25 | AC1: ='Daisy 26'!$A1 -> Daisy 26 | AD1: ='Daisy 27'!$A1 -> Daisy 27 | AE1: ='Daisy 28'!$A1 -> Daisy 28 | AF1: ='Daisy 29'!$A1 -> Daisy 29 | AG1: ='Daisy 30'!$A1 -> Daisy 30
B2: Troop | C2: =Instructions!E5 -> 0
A4: Enter A for credit
B6: Pass It On
B7: 1 | C7: Teach younger girls the GS Promise
B8: 2 | C8: Tell younger girls about the Flower
B9: 3 | C9: Play a game together!
D10: =IF(COUNTIF(D7:D9,"A")>=1,"C",IF(COUNTIF(D7:D9,"A")>0,"P"," ")) | E10: =IF(COUNTIF(E7:E9,"A")>=1,"C",IF(COUNTIF(E7:E9,"A")>0,"P"," ")) | F10: =IF(COUNTIF(F7:F9,"A")>=1,"C",IF(COUNTIF(F7:F9,"A")>0,"P"," ")) | G10: =IF(COUNTIF(G7:G9,"A")>=1,"C",IF(COUNTIF(G7:G9,"A")>0,"P"," ")) | H10: =IF(COUNTIF(H7:H9,"A")>=1,"C",IF(COUNTIF(H7:H9,"A")>0,"P"," ")) | I10: =IF(COUNTIF(I7:I9,"A")>=1,"C",IF(COUNTIF(I7:I9,"A")>0,"P"," ")) | J10: =IF(COUNTIF(J7:J9,"A")>=1,"C",IF(COUNTIF(J7:J9,"A")>0,"P"," ")) | K10: =IF(COUNTIF(K7:K9,"A")>=1,"C",IF(COUNTIF(K7:K9,"A")>0,"P"," ")) | ... AG10: =IF(COUNTIF(AG7:AG9,"A")>=1,"C",IF(COUNTIF(AG7:AG9,"A")>0,"P"," "))
B11: Look Ahead
B12: 1 | C12: Say the Girl Scout Promise together.
B13: 2 | C13: Ask the Brownies to teach you
B14: 3 | C14: Ask the Brownies to show you
D15: =IF(COUNTIF(D12:D14,"A")>=1,"C",IF(COUNTIF(D12:D14,"A")>0,"P"," ")) | E15: =IF(COUNTIF(E12:E14,"A")>=1,"C",IF(COUNTIF(E12:E14,"A")>0,"P"," ")) | F15: =IF(COUNTIF(F12:F14,"A")>=1,"C",IF(COUNTIF(F12:F14,"A")>0,"P"," ")) | G15: =IF(COUNTIF(G12:G14,"A")>=1,"C",IF(COUNTIF(G12:G14,"A")>0,"P"," ")) | H15: =IF(COUNTIF(H12:H14,"A")>=1,"C",IF(COUNTIF(H12:H14,"A")>0,"P"," ")) | I15: =IF(COUNTIF(I12:I14,"A")>=1,"C",IF(COUNTIF(I12:I14,"A")>0,"P"," ")) | J15: =IF(COUNTIF(J12:J14,"A")>=1,"C",IF(COUNTIF(J12:J14,"A")>0,"P"," ")) | K15: =IF(COUNTIF(K12:K14,"A")>=1,"C",IF(COUNTIF(K12:K14,"A")>0,"P"," ")) | ... AG15: =IF(COUNTIF(AG12:AG14,"A")>=1,"C",IF(COUNTIF(AG12:AG14,"A")>0,"P"," "))
C16: Plan a Ceremony
D17: =IF(COUNTIF(D16:D16,"A")=1,"C",IF(COUNTIF(D16:D16,"A")>0,"P"," ")) | E17: =IF(COUNTIF(E16:E16,"A")=1,"C",IF(COUNTIF(E16:E16,"A")>0,"P"," ")) | F17: =IF(COUNTIF(F16:F16,"A")=1,"C",IF(COUNTIF(F16:F16,"A")>0,"P"," ")) | G17: =IF(COUNTIF(G16:G16,"A")=1,"C",IF(COUNTIF(G16:G16,"A")>0,"P"," ")) | H17: =IF(COUNTIF(H16:H16,"A")=1,"C",IF(COUNTIF(H16:H16,"A")>0,"P"," ")) | I17: =IF(COUNTIF(I16:I16,"A")=1,"C",IF(COUNTIF(I16:I16,"A")>0,"P"," ")) | J17: =IF(COUNTIF(J16:J16,"A")=1,"C",IF(COUNTIF(J16:J16,"A")>0,"P"," ")) | K17: =IF(COUNTIF(K16:K16,"A")=1,"C",IF(COUNTIF(K16:K16,"A")>0,"P"," ")) | ... AG17: =IF(COUNTIF(AG16:AG16,"A")=1,"C",IF(COUNTIF(AG16:AG16,"A")>0,"P"," "))
C18: Status: (P)artial or (C)omplete | D18: =IF(COUNTIF(D7:D17,"C")=3,"C",IF(COUNTIF(D7:D17,"C")>0,"P"," ")) | E18: =IF(COUNTIF(E7:E17,"C")=3,"C",IF(COUNTIF(E7:E17,"C")>0,"P"," ")) | F18: =IF(COUNTIF(F7:F17,"C")=3,"C",IF(COUNTIF(F7:F17,"C")>0,"P"," ")) | G18: =IF(COUNTIF(G7:G17,"C")=3,"C",IF(COUNTIF(G7:G17,"C")>0,"P"," ")) | H18: =IF(COUNTIF(H7:H17,"C")=3,"C",IF(COUNTIF(H7:H17,"C")>0,"P"," ")) | I18: =IF(COUNTIF(I7:I17,"C")=3,"C",IF(COUNTIF(I7:I17,"C")>0,"P"," ")) | J18: =IF(COUNTIF(J7:J17,"C")=3,"C",IF(COUNTIF(J7:J17,"C")>0,"P"," ")) | K18: =IF(COUNTIF(K7:K17,"C")=3,"C",IF(COUNTIF(K7:K17,"C")>0,"P"," ")) | ... AG18: =IF(COUNTIF(AG7:AG17,"C")=3,"C",IF(COUNTIF(AG7:AG17,"C")>0,"P"," "))

Sheet Age-Level
B1: Service Unit | C1: =Instructions!E3 -> 0 | D1: ='Daisy 1'!$A1 -> Daisy 1 | E1: ='Daisy 2'!$A1 -> Daisy 2 | F1: ='Daisy 3'!$A1 -> Daisy 3 | G1: ='Daisy 4'!$A1 -> Daisy 4 | H1: ='Daisy 5'!$A1 -> Daisy 5 | I1: ='Daisy 6'!$A1 -> Daisy 6 | J1: ='Daisy 7'!$A1 -> Daisy 7 | K1: ='Daisy 8'!$A1 -> Daisy 8 | L1: ='Daisy 9'!$A1 -> Daisy 9 | M1: ='Daisy 10'!$A1 -> Daisy 10 | N1: ='Daisy 11'!$A1 -> Daisy 11 | O1: ='Daisy 12'!$A1 -> Daisy 12 | P1: ='Daisy 13'!$A1 -> Daisy 13 | Q1: ='Daisy 14'!$A1 -> Daisy 14 | R1: ='Daisy 15'!$A1 -> Daisy 15 | S1: ='Daisy 16'!$A1 -> Daisy 16 | T1: ='Daisy 17'!$A1 -> Daisy 17 | U1: ='Daisy 18'!$A1 -> Daisy 18 | V1: ='Daisy 19'!$A1 -> Daisy 19 | W1: ='Daisy 20'!$A1 -> Daisy 20 | X1: ='Daisy 21'!$A1 -> Daisy 21 | Y1: ='Daisy 22'!$A1 -> Daisy 22 | Z1: ='Daisy 23'!$A1 -> Daisy 23 | AA1: ='Daisy 24'!$A1 -> Daisy 24 | AB1: ='Daisy 25'!$A1 -> Daisy 25 | AC1: ='Daisy 26'!$A1 -> Daisy 26 | AD1: ='Daisy 27'!$A1 -> Daisy 27 | AE1: ='Daisy 28'!$A1 -> Daisy 28 | AF1: ='Daisy 29'!$A1 -> Daisy 29 | AG1: ='Daisy 30'!$A1 -> Daisy 30
B2: Troop | C2: =Instructions!E5 -> 0
B4: Enter A for credit
B5: Cookies | D5: www.girlscouts.org/cookies
C6: Cookie Rally (Year 1)
C7: Cookie Sales (Year 1)
C8: Cookie Pin (Year 1)
C9: Cookie Rally (Year 2)
C10: Cookie Sales (Year 2)
C11: Cookie Pin (Year 2)
B12: Fall Sales
C13: Fall Sales (Year 1)
C14: Fall Sales (Year 2)
B15: Thinking Day | D15: www.girlscouts.org/world_thinking_day
C16: Thinking Day (Year 1)
C17: Thinking Day (Year 2)
B18: Investiture and Rededication
C19: Investiture
C20: Rededication (1st year)
B21: My Promise, My Faith (Year 1)
B22: 1 | C22: Choose one line from the Law
B23: 2 | C23: Find a woman in your community
B24: 3 | C24: Gather three inspirational quotes
B25: 4 | C25: Make something to remind you
B26: 5 | C26: Keep the connection strong.
C27: Status: (P)artial or (C)omplete | D27: =IF(COUNTIF(D22:D26,"A")>4,"C",IF(COUNTIF(D22:D26,"A")>0,"P"," ")) | E27: =IF(COUNTIF(E22:E26,"A")>4,"C",IF(COUNTIF(E22:E26,"A")>0,"P"," ")) | F27: =IF(COUNTIF(F22:F26,"A")>4,"C",IF(COUNTIF(F22:F26,"A")>0,"P"," ")) | G27: =IF(COUNTIF(G22:G26,"A")>4,"C",IF(COUNTIF(G22:G26,"A")>0,"P"," ")) | H27: =IF(COUNTIF(H22:H26,"A")>4,"C",IF(COUNTIF(H22:H26,"A")>0,"P"," ")) | I27: =IF(COUNTIF(I22:I26,"A")>4,"C",IF(COUNTIF(I22:I26,"A")>0,"P"," ")) | J27: =IF(COUNTIF(J22:J26,"A")>4,"C",IF(COUNTIF(J22:J26,"A")>0,"P"," ")) | K27: =IF(COUNTIF(K22:K26,"A")>4,"C",IF(COUNTIF(K22:K26,"A")>0,"P"," ")) | ... AG27: =IF(COUNTIF(AG22:AG26,"A")>4,"C",IF(COUNTIF(AG22:AG26,"A")>0,"P"," "))
B28: My Promise, My Faith (Year 2)
B29: 1 | C29: Choose one line from the Law
B30: 2 | C30: Find a woman in your community
B31: 3 | C31: Gather three inspirational quotes
B32: 4 | C32: Make something to remind you
B33: 5 | C33: Keep the connection strong.
C34: Status: (P)artial or (C)omplete | D34: =IF(COUNTIF(D29:D33,"A")>4,"C",IF(COUNTIF(D29:D33,"A")>0,"P"," ")) | E34: =IF(COUNTIF(E29:E33,"A")>4,"C",IF(COUNTIF(E29:E33,"A")>0,"P"," ")) | F34: =IF(COUNTIF(F29:F33,"A")>4,"C",IF(COUNTIF(F29:F33,"A")>0,"P"," ")) | G34: =IF(COUNTIF(G29:G33,"A")>4,"C",IF(COUNTIF(G29:G33,"A")>0,"P"," ")) | H34: =IF(COUNTIF(H29:H33,"A")>4,"C",IF(COUNTIF(H29:H33,"A")>0,"P"," ")) | I34: =IF(COUNTIF(I29:I33,"A")>4,"C",IF(COUNTIF(I29:I33,"A")>0,"P"," ")) | J34: =IF(COUNTIF(J29:J33,"A")>4,"C",IF(COUNTIF(J29:J33,"A")>0,"P"," ")) | K34: =IF(COUNTIF(K29:K33,"A")>4,"C",IF(COUNTIF(K29:K33,"A")>0,"P"," ")) | ... AG34: =IF(COUNTIF(AG29:AG33,"A")>4,"C",IF(COUNTIF(AG29:AG33,"A")>0,"P"," "))
B35: Global Action Award | D35: www.girlscouts.org/global_action_award
C36: Global Action Award
B37: Journey Summit Pin
C38: Journey Summit Pin | D38: =IF(COUNTIF('Journey Awards'!D11:'Journey Awards'!D27,"C")=3,"C",IF(COUNTIF('Journey Awards'!D11:'Journey Awards'!D27,"C")>0,"P"," ")) | E38: =IF(COUNTIF('Journey Awards'!E11:'Journey Awards'!E27,"C")=3,"C",IF(COUNTIF('Journey Awards'!E11:'Journey Awards'!E27,"C")>0,"P"," ")) | F38: =IF(COUNTIF('Journey Awards'!F11:'Journey Awards'!F27,"C")=3,"C",IF(COUNTIF('Journey Awards'!F11:'Journey Awards'!F27,"C")>0,"P"," ")) | G38: =IF(COUNTIF('Journey Awards'!G11:'Journey Awards'!G27,"C")=3,"C",IF(COUNTIF('Journey Awards'!G11:'Journey Awards'!G27,"C")>0,"P"," ")) | H38: =IF(COUNTIF('Journey Awards'!H11:'Journey Awards'!H27,"C")=3,"C",IF(COUNTIF('Journey Awards'!H11:'Journey Awards'!H27,"C")>0,"P"," ")) | I38: =IF(COUNTIF('Journey Awards'!I11:'Journey Awards'!I27,"C")=3,"C",IF(COUNTIF('Journey Awards'!I11:'Journey Awards'!I27,"C")>0,"P"," ")) | J38: =IF(COUNTIF('Journey Awards'!J11:'Journey Awards'!J27,"C")=3,"C",IF(COUNTIF('Journey Awards'!J11:'Journey Awards'!J27,"C")>0,"P"," ")) | K38: =IF(COUNTIF('Journey Awards'!K11:'Journey Awards'!K27,"C")=3,"C",IF(COUNTIF('Journey Awards'!K11:'Journey Awards'!K27,"C")>0,"P"," ")) | ... AG38: =IF(COUNTIF('Journey Awards'!AG11:'Journey Awards'!AG27,"C")=3,"C",IF(COUNTIF('Journey Awards'!AG11:'Journey Awards'!AG27,"C")>0,"P"," "))
B39: Safety Award
B40: 1 | C40: Understand what to do
B41: 2 | C41: Find out what you should do
...

Sheet Fun Patches
B1: Service Unit | C1: =Instructions!E3 -> 0 | D1: ='Daisy 1'!$A1 -> Daisy 1 | E1: ='Daisy 2'!$A1 -> Daisy 2 | F1: ='Daisy 3'!$A1 -> Daisy 3 | G1: ='Daisy 4'!$A1 -> Daisy 4 | H1: ='Daisy 5'!$A1 -> Daisy 5 | I1: ='Daisy 6'!$A1 -> Daisy 6 | J1: ='Daisy 7'!$A1 -> Daisy 7 | K1: ='Daisy 8'!$A1 -> Daisy 8 | L1: ='Daisy 9'!$A1 -> Daisy 9 | M1: ='Daisy 10'!$A1 -> Daisy 10 | N1: ='Daisy 11'!$A1 -> Daisy 11 | O1: ='Daisy 12'!$A1 -> Daisy 12 | P1: ='Daisy 13'!$A1 -> Daisy 13 | Q1: ='Daisy 14'!$A1 -> Daisy 14 | R1: ='Daisy 15'!$A1 -> Daisy 15 | S1: ='Daisy 16'!$A1 -> Daisy 16 | T1: ='Daisy 17'!$A1 -> Daisy 17 | U1: ='Daisy 18'!$A1 -> Daisy 18 | V1: ='Daisy 19'!$A1 -> Daisy 19 | W1: ='Daisy 20'!$A1 -> Daisy 20 | X1: ='Daisy 21'!$A1 -> Daisy 21 | Y1: ='Daisy 22'!$A1 -> Daisy 22 | Z1: ='Daisy 23'!$A1 -> Daisy 23 | AA1: ='Daisy 24'!$A1 -> Daisy 24 | AB1: ='Daisy 25'!$A1 -> Daisy 25 | AC1: ='Daisy 26'!$A1 -> Daisy 26 | AD1: ='Daisy 27'!$A1 -> Daisy 27 | AE1: ='Daisy 28'!$A1 -> Daisy 28 | AF1: ='Daisy 29'!$A1 -> Daisy 29 | AG1: ='Daisy 30'!$A1 -> Daisy 30
B2: Troop | C2: =Instructions!E5 -> 0
B4: Enter A for credit
C5: <List Patch Here>
C6: <List Patch Here>
C7: <List Patch Here>
C8: <List Patch Here>
C9: <List Patch Here>
C10: <List Patch Here>
C11: <List Patch Here>
C12: <List Patch Here>
C13: <List Patch Here>
C14: <List Patch Here>
C15: <List Patch Here>
C16: <List Patch Here>
... C44: <List Patch Here>

Sheet Summary
A1: Summary Page | B1: ='Daisy 1'!$A$1 -> Daisy 1 | D1: ='Daisy 2'!$A$1 -> Daisy 2 | F1: ='Daisy 3'!$A$1 -> Daisy 3 | H1: ='Daisy 4'!$A$1 -> Daisy 4 | J1: ='Daisy 5'!$A$1 -> Daisy 5 | L1: ='Daisy 6'!$A$1 -> Daisy 6 | N1: ='Daisy 7'!$A$1 -> Daisy 7 | P1: ='Daisy 8'!$A$1 -> Daisy 8 | R1: ='Daisy 9'!$A$1 -> Daisy 9 | T1: ='Daisy 10'!$A$1 -> Daisy 10 | V1: ='Daisy 11'!$A$1 -> Daisy 11 | X1: ='Daisy 12'!$A$1 -> Daisy 12 | Z1: ='Daisy 13'!$A$1 -> Daisy 13 | AB1: ='Daisy 14'!$A$1 -> Daisy 14 | AD1: ='Daisy 15'!$A$1 -> Daisy 15 | AF1: ='Daisy 16'!$A$1 -> Daisy 16 | AH1: ='Daisy 17'!$A$1 -> Daisy 17 | AJ1: ='Daisy 18'!$A$1 -> Daisy 18 | AL1: ='Daisy 19'!$A$1 -> Daisy 19 | AN1: ='Daisy 20'!$A$1 -> Daisy 20 | AP1: ='Daisy 21'!$A$1 -> Daisy 21 | AR1: ='Daisy 22'!$A$1 -> Daisy 22 | AT1: ='Daisy 23'!$A$1 -> Daisy 23 | AV1: ='Daisy 24'!$A$1 -> Daisy 24 | AX1: ='Daisy 25'!$A$1 -> Daisy 25 | AZ1: ='Daisy 26'!$A$1 -> Daisy 26 | BB1: ='Daisy 27'!$A$1 -> Daisy 27 | BD1: ='Daisy 28'!$A$1 -> Daisy 28 | BF1: ='Daisy 29'!$A$1 -> Daisy 29 | BH1: ='Daisy 30'!$A$1 -> Daisy 30
A2: Enter Y for yes when you have presented the award | B2: Earned | C2: Awarded | D2: Earned | E2: Awarded | F2: Earned | G2: Awarded | H2: Earned | I2: Awarded | J2: Earned | K2: Awarded | L2: Earned | M2: Awarded | N2: Earned | O2: Awarded | P2: Earned | Q2: Awarded | R2: Earned | S2: Awarded | T2: Earned | U2: Awarded | V2: Earned | W2: Awarded | X2: Earned | Y2: Awarded | Z2: Earned | AA2: Awarded | AB2: Earned | AC2: Awarded | AD2: Earned | AE2: Awarded | AF2: Earned | AG2: Awarded | AH2: Earned | AI2: Awarded | AJ2: Earned | AK2: Awarded | AL2: Earned | AM2: Awarded | AN2: Earned | AO2: Awarded | AP2: Earned | AQ2: Awarded | AR2: Earned | AS2: Awarded | AT2: Earned | AU2: Awarded | AV2: Earned | AW2: Awarded | AX2: Earned | AY2: Awarded | AZ2: Earned | BA2: Awarded | BB2: Earned | BC2: Awarded | BD2: Earned | BE2: Awarded | BF2: Earned | BG2: Awarded | BH2: Earned | BI2: Awarded
A3: =Petals!A5 -> Center Petal
A4: =Petals!B6 -> Center | B4: =IF(Petals!D6="A","E","") | D4: =IF(Petals!E6="A","E","") | F4: =IF(Petals!F6="A","E","") | H4: =IF(Petals!G6="A","E","") | J4: =IF(Petals!H6="A","E","") | L4: =IF(Petals!I6="A","E","") | N4: =IF(Petals!J6="A","E","") | P4: =IF(Petals!K6="A","E","") | R4: =IF(Petals!L6="A","E","") | T4: =IF(Petals!M6="A","E","") | V4: =IF(Petals!N6="A","E","") | X4: =IF(Petals!O6="A","E","") | Z4: =IF(Petals!P6="A","E","") | AB4: =IF(Petals!Q6="A","E","") | AD4: =IF(Petals!R6="A","E","") | AF4: =IF(Petals!S6="A","E","") | AH4: =IF(Petals!T6="A","E","") | AJ4: =IF(Petals!U6="A","E","") | AL4: =IF(Petals!V6="A","E","") | AN4: =IF(Petals!W6="A","E","") | AP4: =IF(Petals!X6="A","E","") | AR4: =IF(Petals!Y6="A","E","") | AT4: =IF(Petals!Z6="A","E","") | AV4: =IF(Petals!AA6="A","E","") | AX4: =IF(Petals!AB6="A","E","") | AZ4: =IF(Petals!AC6="A","E","") | BB4: =IF(Petals!AD6="A","E","") | BD4: =IF(Petals!AE6="A","E","") | BF4: =IF(Petals!AF6="A","E","") | BH4: =IF(Petals!AG6="A","E","")
A5: =Petals!A7 -> Petals
A6: =Petals!B8 -> Lupe | B6: =IF(Petals!D8="A","E","") | D6: =IF(Petals!E8="A","E","") | F6: =IF(Petals!F8="A","E","") | H6: =IF(Petals!G8="A","E","") | J6: =IF(Petals!H8="A","E","") | L6: =IF(Petals!I8="A","E","") | N6: =IF(Petals!J8="A","E","") | P6: =IF(Petals!K8="A","E","") | R6: =IF(Petals!L8="A","E","") | T6: =IF(Petals!M8="A","E","") | V6: =IF(Petals!N8="A","E","") | X6: =IF(Petals!O8="A","E","") | Z6: =IF(Petals!P8="A","E","") | AB6: =IF(Petals!Q8="A","E","") | AD6: =IF(Petals!R8="A","E","") | AF6: =IF(Petals!S8="A","E","") | AH6: =IF(Petals!T8="A","E","") | AJ6: =IF(Petals!U8="A","E","") | AL6: =IF(Petals!V8="A","E","") | AN6: =IF(Petals!W8="A","E","") | AP6: =IF(Petals!X8="A","E","") | AR6: =IF(Petals!Y8="A","E","") | AT6: =IF(Petals!Z8="A","E","") | AV6: =IF(Petals!AA8="A","E","") | AX6: =IF(Petals!AB8="A","E","") | AZ6: =IF(Petals!AC8="A","E","") | BB6: =IF(Petals!AD8="A","E","") | BD6: =IF(Petals!AE8="A","E","") | BF6: =IF(Petals!AF8="A","E","") | BH6: =IF(Petals!AG8="A","E","")
A7: =Petals!B9 -> Sunny | B7: =IF(Petals!D9="A","E","") | D7: =IF(Petals!E9="A","E","") | F7: =IF(Petals!F9="A","E","") | H7: =IF(Petals!G9="A","E","") | J7: =IF(Petals!H9="A","E","") | L7: =IF(Petals!I9="A","E","") | N7: =IF(Petals!J9="A","E","") | P7: =IF(Petals!K9="A","E","") | R7: =IF(Petals!L9="A","E","") | T7: =IF(Petals!M9="A","E","") | V7: =IF(Petals!N9="A","E","") | X7: =IF(Petals!O9="A","E","") | Z7: =IF(Petals!P9="A","E","") | AB7: =IF(Petals!Q9="A","E","") | AD7: =IF(Petals!R9="A","E","") | AF7: =IF(Petals!S9="A","E","") | AH7: =IF(Petals!T9="A","E","") | AJ7: =IF(Petals!U9="A","E","") | AL7: =IF(Petals!V9="A","E","") | AN7: =IF(Petals!W9="A","E","") | AP7: =IF(Petals!X9="A","E","") | AR7: =IF(Petals!Y9="A","E","") | AT7: =IF(Petals!Z9="A","E","") | AV7: =IF(Petals!AA9="A","E","") | AX7: =IF(Petals!AB9="A","E","") | AZ7: =IF(Petals!AC9="A","E","") | BB7: =IF(Petals!AD9="A","E","") | BD7: =IF(Petals!AE9="A","E","") | BF7: =IF(Petals!AF9="A","E","") | BH7: =IF(Petals!AG9="A","E","")
A8: =Petals!B10 -> Zinni | B8: =IF(Petals!D10="A","E","") | D8: =IF(Petals!E10="A","E","") | F8: =IF(Petals!F10="A","E","") | H8: =IF(Petals!G10="A","E","") | J8: =IF(Petals!H10="A","E","") | L8: =IF(Petals!I10="A","E","") | N8: =IF(Petals!J10="A","E","") | P8: =IF(Petals!K10="A","E","") | R8: =IF(Petals!L10="A","E","") | T8: =IF(Petals!M10="A","E","") | V8: =IF(Petals!N10="A","E","") | X8: =IF(Petals!O10="A","E","") | Z8: =IF(Petals!P10="A","E","") | AB8: =IF(Petals!Q10="A","E","") | AD8: =IF(Petals!R10="A","E","") | AF8: =IF(Petals!S10="A","E","") | AH8: =IF(Petals!T10="A","E","") | AJ8: =IF(Petals!U10="A","E","") | AL8: =IF(Petals!V10="A","E","") | AN8: =IF(Petals!W10="A","E","") | AP8: =IF(Petals!X10="A","E","") | AR8: =IF(Petals!Y10="A","E","") | AT8: =IF(Petals!Z10="A","E","") | AV8: =IF(Petals!AA10="A","E","") | AX8: =IF(Petals!AB10="A","E","") | AZ8: =IF(Petals!AC10="A","E","") | BB8: =IF(Petals!AD10="A","E","") | BD8: =IF(Petals!AE10="A","E","") | BF8: =IF(Petals!AF10="A","E","") | BH8: =IF(Petals!AG10="A","E","")
A9: =Petals!B11 -> Tula | B9: =IF(Petals!D11="A","E","") | D9: =IF(Petals!E11="A","E","") | F9: =IF(Petals!F11="A","E","") | H9: =IF(Petals!G11="A","E","") | J9: =IF(Petals!H11="A","E","") | L9: =IF(Petals!I11="A","E","") | N9: =IF(Petals!J11="A","E","") | P9: =IF(Petals!K11="A","E","") | R9: =IF(Petals!L11="A","E","") | T9: =IF(Petals!M11="A","E","") | V9: =IF(Petals!N11="A","E","") | X9: =IF(Petals!O11="A","E","") | Z9: =IF(Petals!P11="A","E","") | AB9: =IF(Petals!Q11="A","E","") | AD9: =IF(Petals!R11="A","E","") | AF9: =IF(Petals!S11="A","E","") | AH9: =IF(Petals!T11="A","E","") | AJ9: =IF(Petals!U11="A","E","") | AL9: =IF(Petals!V11="A","E","") | AN9: =IF(Petals!W11="A","E","") | AP9: =IF(Petals!X11="A","E","") | AR9: =IF(Petals!Y11="A","E","") | AT9: =IF(Petals!Z11="A","E","") | AV9: =IF(Petals!AA11="A","E","") | AX9: =IF(Petals!AB11="A","E","") | AZ9: =IF(Petals!AC11="A","E","") | BB9: =IF(Petals!AD11="A","E","") | BD9: =IF(Petals!AE11="A","E","") | BF9: =IF(Petals!AF11="A","E","") | BH9: =IF(Petals!AG11="A","E","")
A10: =Petals!B12 -> Mari | B10: =IF(Petals!D12="A","E","") | D10: =IF(Petals!E12="A","E","") | F10: =IF(Petals!F12="A","E","") | H10: =IF(Petals!G12="A","E","") | J10: =IF(Petals!H12="A","E","") | L10: =IF(Petals!I12="A","E","") | N10: =IF(Petals!J12="A","E","") | P10: =IF(Petals!K12="A","E","") | R10: =IF(Petals!L12="A","E","") | T10: =IF(Petals!M12="A","E","") | V10: =IF(Petals!N12="A","E","") | X10: =IF(Petals!O12="A","E","") | Z10: =IF(Petals!P12="A","E","") | AB10: =IF(Petals!Q12="A","E","") | AD10: =IF(Petals!R12="A","E","") | AF10: =IF(Petals!S12="A","E","") | AH10: =IF(Petals!T12="A","E","") | AJ10: =IF(Petals!U12="A","E","") | AL10: =IF(Petals!V12="A","E","") | AN10: =IF(Petals!W12="A","E","") | AP10: =IF(Petals!X12="A","E","") | AR10: =IF(Petals!Y12="A","E","") | AT10: =IF(Petals!Z12="A","E","") | AV10: =IF(Petals!AA12="A","E","") | AX10: =IF(Petals!AB12="A","E","") | AZ10: =IF(Petals!AC12="A","E","") | BB10: =IF(Petals!AD12="A","E","") | BD10: =IF(Petals!AE12="A","E","") | BF10: =IF(Petals!AF12="A","E","") | BH10: =IF(Petals!AG12="A","E","")
A11: =Petals!B13 -> Gloria | B11: =IF(Petals!D13="A","E","") | D11: =IF(Petals!E13="A","E","") | F11: =IF(Petals!F13="A","E","") | H11: =IF(Petals!G13="A","E","") | J11: =IF(Petals!H13="A","E","") | L11: =IF(Petals!I13="A","E","") | N11: =IF(Petals!J13="A","E","") | P11: =IF(Petals!K13="A","E","") | R11: =IF(Petals!L13="A","E","") | T11: =IF(Petals!M13="A","E","") | V11: =IF(Petals!N13="A","E","") | X11: =IF(Petals!O13="A","E","") | Z11: =IF(Petals!P13="A","E","") | AB11: =IF(Petals!Q13="A","E","") | AD11: =IF(Petals!R13="A","E","") | AF11: =IF(Petals!S13="A","E","") | AH11: =IF(Petals!T13="A","E","") | AJ11: =IF(Petals!U13="A","E","") | AL11: =IF(Petals!V13="A","E","") | AN11: =IF(Petals!W13="A","E","") | AP11: =IF(Petals!X13="A","E","") | AR11: =IF(Petals!Y13="A","E","") | AT11: =IF(Petals!Z13="A","E","") | AV11: =IF(Petals!AA13="A","E","") | AX11: =IF(Petals!AB13="A","E","") | AZ11: =IF(Petals!AC13="A","E","") | BB11: =IF(Petals!AD13="A","E","") | BD11: =IF(Petals!AE13="A","E","") | BF11: =IF(Petals!AF13="A","E","") | BH11: =IF(Petals!AG13="A","E","")
A12: =Petals!B14 -> Gerri | B12: =IF(Petals!D14="A","E","") | D12: =IF(Petals!E14="A","E","") | F12: =IF(Petals!F14="A","E","") | H12: =IF(Petals!G14="A","E","") | J12: =IF(Petals!H14="A","E","") | L12: =IF(Petals!I14="A","E","") | N12: =IF(Petals!J14="A","E","") | P12: =IF(Petals!K14="A","E","") | R12: =IF(Petals!L14="A","E","") | T12: =IF(Petals!M14="A","E","") | V12: =IF(Petals!N14="A","E","") | X12: =IF(Petals!O14="A","E","") | Z12: =IF(Petals!P14="A","E","") | AB12: =IF(Petals!Q14="A","E","") | AD12: =IF(Petals!R14="A","E","") | AF12: =IF(Petals!S14="A","E","") | AH12: =IF(Petals!T14="A","E","") | AJ12: =IF(Petals!U14="A","E","") | AL12: =IF(Petals!V14="A","E","") | AN12: =IF(Petals!W14="A","E","") | AP12: =IF(Petals!X14="A","E","") | AR12: =IF(Petals!Y14="A","E","") | AT12: =IF(Petals!Z14="A","E","") | AV12: =IF(Petals!AA14="A","E","") | AX12: =IF(Petals!AB14="A","E","") | AZ12: =IF(Petals!AC14="A","E","") | BB12: =IF(Petals!AD14="A","E","") | BD12: =IF(Petals!AE14="A","E","") | BF12: =IF(Petals!AF14="A","E","") | BH12: =IF(Petals!AG14="A","E","")
A13: =Petals!B15 -> Clover | B13: =IF(Petals!D15="A","E","") | D13: =IF(Petals!E15="A","E","") | F13: =IF(Petals!F15="A","E","") | H13: =IF(Petals!G15="A","E","") | J13: =IF(Petals!H15="A","E","") | L13: =IF(Petals!I15="A","E","") | N13: =IF(Petals!J15="A","E","") | P13: =IF(Petals!K15="A","E","") | R13: =IF(Petals!L15="A","E","") | T13: =IF(Petals!M15="A","E","") | V13: =IF(Petals!N15="A","E","") | X13: =IF(Petals!O15="A","E","") | Z13: =IF(Petals!P15="A","E","") | AB13: =IF(Petals!Q15="A","E","") | AD13: =IF(Petals!R15="A","E","") | AF13: =IF(Petals!S15="A","E","") | AH13: =IF(Petals!T15="A","E","") | AJ13: =IF(Petals!U15="A","E","") | AL13: =IF(Petals!V15="A","E","") | AN13: =IF(Petals!W15="A","E","") | AP13: =IF(Petals!X15="A","E","") | AR13: =IF(Petals!Y15="A","E","") | AT13: =IF(Petals!Z15="A","E","") | AV13: =IF(Petals!AA15="A","E","") | AX13: =IF(Petals!AB15="A","E","") | AZ13: =IF(Petals!AC15="A","E","") | BB13: =IF(Petals!AD15="A","E","") | BD13: =IF(Petals!AE15="A","E","") | BF13: =IF(Petals!AF15="A","E","") | BH13: =IF(Petals!AG15="A","E","")
A14: =Petals!B16 -> Rosie | B14: =IF(Petals!D16="A","E","") | D14: =IF(Petals!E16="A","E","") | F14: =IF(Petals!F16="A","E","") | H14: =IF(Petals!G16="A","E","") | J14: =IF(Petals!H16="A","E","") | L14: =IF(Petals!I16="A","E","") | N14: =IF(Petals!J16="A","E","") | P14: =IF(Petals!K16="A","E","") | R14: =IF(Petals!L16="A","E","") | T14: =IF(Petals!M16="A","E","") | V14: =IF(Petals!N16="A","E","") | X14: =IF(Petals!O16="A","E","") | Z14: =IF(Petals!P16="A","E","") | AB14: =IF(Petals!Q16="A","E","") | AD14: =IF(Petals!R16="A","E","") | AF14: =IF(Petals!S16="A","E","") | AH14: =IF(Petals!T16="A","E","") | AJ14: =IF(Petals!U16="A","E","") | AL14: =IF(Petals!V16="A","E","") | AN14: =IF(Petals!W16="A","E","") | AP14: =IF(Petals!X16="A","E","") | AR14: =IF(Petals!Y16="A","E","") | AT14: =IF(Petals!Z16="A","E","") | AV14: =IF(Petals!AA16="A","E","") | AX14: =IF(Petals!AB16="A","E","") | AZ14: =IF(Petals!AC16="A","E","") | BB14: =IF(Petals!AD16="A","E","") | BD14: =IF(Petals!AE16="A","E","") | BF14: =IF(Petals!AF16="A","E","") | BH14: =IF(Petals!AG16="A","E","")
A15: =Petals!B17 -> Vi | B15: =IF(Petals!D17="A","E","") | D15: =IF(Petals!E17="A","E","") | F15: =IF(Petals!F17="A","E","") | H15: =IF(Petals!G17="A","E","") | J15: =IF(Petals!H17="A","E","") | L15: =IF(Petals!I17="A","E","") | N15: =IF(Petals!J17="A","E","") | P15: =IF(Petals!K17="A","E","") | R15: =IF(Petals!L17="A","E","") | T15: =IF(Petals!M17="A","E","") | V15: =IF(Petals!N17="A","E","") | X15: =IF(Petals!O17="A","E","") | Z15: =IF(Petals!P17="A","E","") | AB15: =IF(Petals!Q17="A","E","") | AD15: =IF(Petals!R17="A","E","") | AF15: =IF(Petals!S17="A","E","") | AH15: =IF(Petals!T17="A","E","") | AJ15: =IF(Petals!U17="A","E","") | AL15: =IF(Petals!V17="A","E","") | AN15: =IF(Petals!W17="A","E","") | AP15: =IF(Petals!X17="A","E","") | AR15: =IF(Petals!Y17="A","E","") | AT15: =IF(Petals!Z17="A","E","") | AV15: =IF(Petals!AA17="A","E","") | AX15: =IF(Petals!AB17="A","E","") | AZ15: =IF(Petals!AC17="A","E","") | BB15: =IF(Petals!AD17="A","E","") | BD15: =IF(Petals!AE17="A","E","") | BF15: =IF(Petals!AF17="A","E","") | BH15: =IF(Petals!AG17="A","E","")
A16: =Petals!A19 -> Leaves
A17: =Petals!B20 -> Money Counts | B17: =IF(Petals!D23="C","E","") | D17: =IF(Petals!E23="C","E","") | F17: =IF(Petals!F23="C","E","") | H17: =IF(Petals!G23="C","E","") | J17: =IF(Petals!H23="C","E","") | L17: =IF(Petals!I23="C","E","") | N17: =IF(Petals!J23="C","E","") | P17: =IF(Petals!K23="C","E","") | R17: =IF(Petals!L23="C","E","") | T17: =IF(Petals!M23="C","E","") | V17: =IF(Petals!N23="C","E","") | X17: =IF(Petals!O23="C","E","") | Z17: =IF(Petals!P23="C","E","") | AB17: =IF(Petals!Q23="C","E","") | AD17: =IF(Petals!R23="C","E","") | AF17: =IF(Petals!S23="C","E","") | AH17: =IF(Petals!T23="C","E","") | AJ17: =IF(Petals!U23="C","E","") | AL17: =IF(Petals!V23="C","E","") | AN17: =IF(Petals!W23="C","E","") | AP17: =IF(Petals!X23="C","E","") | AR17: =IF(Petals!Y23="C","E","") | AT17: =IF(Petals!Z23="C","E","") | AV17: =IF(Petals!AA23="C","E","") | AX17: =IF(Petals!AB23="C","E","") | AZ17: =IF(Petals!AC23="C","E","") | BB17: =IF(Petals!AD23="C","E","") | BD17: =IF(Petals!AE23="C","E","") | BF17: =IF(Petals!AF23="C","E","") | BH17: =IF(Petals!AG23="C","E","")
A18: =Petals!B25 -> Making Choices | B18: =IF(Petals!D28="C","E","") | D18: =IF(Petals!E28="C","E","") | F18: =IF(Petals!F28="C","E","") | H18: =IF(Petals!G28="C","E","") | J18: =IF(Petals!H28="C","E","") | L18: =IF(Petals!I28="C","E","") | N18: =IF(Petals!J28="C","E","") | P18: =IF(Petals!K28="C","E","") | R18: =IF(Petals!L28="C","E","") | T18: =IF(Petals!M28="C","E","") | V18: =IF(Petals!N28="C","E","") | X18: =IF(Petals!O28="C","E","") | Z18: =IF(Petals!P28="C","E","") | AB18: =IF(Petals!Q28="C","E","") | AD18: =IF(Petals!R28="C","E","") | AF18: =IF(Petals!S28="C","E","") | AH18: =IF(Petals!T28="C","E","") | AJ18: =IF(Petals!U28="C","E","") | AL18: =IF(Petals!V28="C","E","") | AN18: =IF(Petals!W28="C","E","") | AP18: =IF(Petals!X28="C","E","") | AR18: =IF(Petals!Y28="C","E","") | AT18: =IF(Petals!Z28="C","E","") | AV18: =IF(Petals!AA28="C","E","") | AX18: =IF(Petals!AB28="C","E","") | AZ18: =IF(Petals!AC28="C","E","") | BB18: =IF(Petals!AD28="C","E","") | BD18: =IF(Petals!AE28="C","E","") | BF18: =IF(Petals!AF28="C","E","") | BH18: =IF(Petals!AG28="C","E","")
A19: =Petals!B30 -> Count It Up | B19: =IF(Petals!D33="C","E","") | D19: =IF(Petals!E33="C","E","") | F19: =IF(Petals!F33="C","E","") | H19: =IF(Petals!G33="C","E","") | J19: =IF(Petals!H33="C","E","") | L19: =IF(Petals!I33="C","E","") | N19: =IF(Petals!J33="C","E","") | P19: =IF(Petals!K33="C","E","") | R19: =IF(Petals!L33="C","E","") | T19: =IF(Petals!M33="C","E","") | V19: =IF(Petals!N33="C","E","") | X19: =IF(Petals!O33="C","E","") | Z19: =IF(Petals!P33="C","E","") | AB19: =IF(Petals!Q33="C","E","") | AD19: =IF(Petals!R33="C","E","") | AF19: =IF(Petals!S33="C","E","") | AH19: =IF(Petals!T33="C","E","") | AJ19: =IF(Petals!U33="C","E","") | AL19: =IF(Petals!V33="C","E","") | AN19: =IF(Petals!W33="C","E","") | AP19: =IF(Petals!X33="C","E","") | AR19: =IF(Petals!Y33="C","E","") | AT19: =IF(Petals!Z33="C","E","") | AV19: =IF(Petals!AA33="C","E","") | AX19: =IF(Petals!AB33="C","E","") | AZ19: =IF(Petals!AC33="C","E","") | BB19: =IF(Petals!AD33="C","E","") | BD19: =IF(Petals!AE33="C","E","") | BF19: =IF(Petals!AF33="C","E","") | BH19: =IF(Petals!AG33="C","E","")
A20: =Petals!B35 -> Talk It Up | B20: =IF(Petals!D38="C","E","") | D20: =IF(Petals!E38="C","E","") | F20: =IF(Petals!F38="C","E","") | H20: =IF(Petals!G38="C","E","") | J20: =IF(Petals!H38="C","E","") | L20: =IF(Petals!I38="C","E","") | N20: =IF(Petals!J38="C","E","") | P20: =IF(Petals!K38="C","E","") | R20: =IF(Petals!L38="C","E","") | T20: =IF(Petals!M38="C","E","") | V20: =IF(Petals!N38="C","E","") | X20: =IF(Petals!O38="C","E","") | Z20: =IF(Petals!P38="C","E","") | AB20: =IF(Petals!Q38="C","E","") | AD20: =IF(Petals!R38="C","E","") | AF20: =IF(Petals!S38="C","E","") | AH20: =IF(Petals!T38="C","E","") | AJ20: =IF(Petals!U38="C","E","") | AL20: =IF(Petals!V38="C","E","") | AN20: =IF(Petals!W38="C","E","") | AP20: =IF(Petals!X38="C","E","") | AR20: =IF(Petals!Y38="C","E","") | AT20: =IF(Petals!Z38="C","E","") | AV20: =IF(Petals!AA38="C","E","") | AX20: =IF(Petals!AB38="C","E","") | AZ20: =IF(Petals!AC38="C","E","") | BB20: =IF(Petals!AD38="C","E","") | BD20: =IF(Petals!AE38="C","E","") | BF20: =IF(Petals!AF38="C","E","") | BH20: =IF(Petals!AG38="C","E","")
A21: Journey Awards
A22: ='Journey Awards'!A6 -> Welcome to the Daisy Flower Garden
A23: ='Journey Awards'!C8 -> The Watering Can Award | B23: =IF('Journey Awards'!D8="A","E","") | D23: =IF('Journey Awards'!E8="A","E","") | F23: =IF('Journey Awards'!F8="A","E","") | H23: =IF('Journey Awards'!G8="A","E","") | J23: =IF('Journey Awards'!H8="A","E","") | L23: =IF('Journey Awards'!I8="A","E","") | N23: =IF('Journey Awards'!J8="A","E","") | P23: =IF('Journey Awards'!K8="A","E","") | R23: =IF('Journey Awards'!L8="A","E","") | T23: =IF('Journey Awards'!M8="A","E","") | V23: =IF('Journey Awards'!N8="A","E","") | X23: =IF('Journey Awards'!O8="A","E","") | Z23: =IF('Journey Awards'!P8="A","E","") | AB23: =IF('Journey Awards'!Q8="A","E","") | AD23: =IF('Journey Awards'!R8="A","E","") | AF23: =IF('Journey Awards'!S8="A","E","") | AH23: =IF('Journey Awards'!T8="A","E","") | AJ23: =IF('Journey Awards'!U8="A","E","") | AL23: =IF('Journey Awards'!V8="A","E","") | AN23: =IF('Journey Awards'!W8="A","E","") | AP23: =IF('Journey Awards'!X8="A","E","") | AR23: =IF('Journey Awards'!Y8="A","E","") | AT23: =IF('Journey Awards'!Z8="A","E","") | AV23: =IF('Journey Awards'!AA8="A","E","") | AX23: =IF('Journey Awards'!AB8="A","E","") | AZ23: =IF('Journey Awards'!AC8="A","E","") | BB23: =IF('Journey Awards'!AD8="A","E","") | BD23: =IF('Journey Awards'!AE8="A","E","") | BF23: =IF('Journey Awards'!AF8="A","E","") | BH23: =IF('Journey Awards'!AG8="A","E","")
A24: ='Journey Awards'!C9 -> The Golden Honey Bee | B24: =IF('Journey Awards'!D9="A","E","") | D24: =IF('Journey Awards'!E9="A","E","") | F24: =IF('Journey Awards'!F9="A","E","") | H24: =IF('Journey Awards'!G9="A","E","") | J24: =IF('Journey Awards'!H9="A","E","") | L24: =IF('Journey Awards'!I9="A","E","") | N24: =IF('Journey Awards'!J9="A","E","") | P24: =IF('Journey Awards'!K9="A","E","") | R24: =IF('Journey Awards'!L9="A","E","") | T24: =IF('Journey Awards'!M9="A","E","") | V24: =IF('Journey Awards'!N9="A","E","") | X24: =IF('Journey Awards'!O9="A","E","") | Z24: =IF('Journey Awards'!P9="A","E","") | AB24: =IF('Journey Awards'!Q9="A","E","") | AD24: =IF('Journey Awards'!R9="A","E","") | AF24: =IF('Journey Awards'!S9="A","E","") | AH24: =IF('Journey Awards'!T9="A","E","") | AJ24: =IF('Journey Awards'!U9="A","E","") | AL24: =IF('Journey Awards'!V9="A","E","") | AN24: =IF('Journey Awards'!W9="A","E","") | AP24: =IF('Journey Awards'!X9="A","E","") | AR24: =IF('Journey Awards'!Y9="A","E","") | AT24: =IF('Journey Awards'!Z9="A","E","") | AV24: =IF('Journey Awards'!AA9="A","E","") | AX24: =IF('Journey Awards'!AB9="A","E","") | AZ24: =IF('Journey Awards'!AC9="A","E","") | BB24: =IF('Journey Awards'!AD9="A","E","") | BD24: =IF('Journey Awards'!AE9="A","E","") | BF24: =IF('Journey Awards'!AF9="A","E","") | BH24: =IF('Journey Awards'!AG9="A","E","")
A25: ='Journey Awards'!C10 -> The Amazing Daisy Award | B25: =IF('Journey Awards'!D10="A","E","") | D25: =IF('Journey Awards'!E10="A","E","") | F25: =IF('Journey Awards'!F10="A","E","") | H25: =IF('Journey Awards'!G10="A","E","") | J25: =IF('Journey Awards'!H10="A","E","") | L25: =IF('Journey Awards'!I10="A","E","") | N25: =IF('Journey Awards'!J10="A","E","") | P25: =IF('Journey Awards'!K10="A","E","") | R25: =IF('Journey Awards'!L10="A","E","") | T25: =IF('Journey Awards'!M10="A","E","") | V25: =IF('Journey Awards'!N10="A","E","") | X25: =IF('Journey Awards'!O10="A","E","") | Z25: =IF('Journey Awards'!P10="A","E","") | AB25: =IF('Journey Awards'!Q10="A","E","") | AD25: =IF('Journey Awards'!R10="A","E","") | AF25: =IF('Journey Awards'!S10="A","E","") | AH25: =IF('Journey Awards'!T10="A","E","") | AJ25: =IF('Journey Awards'!U10="A","E","") | AL25: =IF('Journey Awards'!V10="A","E","") | AN25: =IF('Journey Awards'!W10="A","E","") | AP25: =IF('Journey Awards'!X10="A","E","") | AR25: =IF('Journey Awards'!Y10="A","E","") | AT25: =IF('Journey Awards'!Z10="A","E","") | AV25: =IF('Journey Awards'!AA10="A","E","") | AX25: =IF('Journey Awards'!AB10="A","E","") | AZ25: =IF('Journey Awards'!AC10="A","E","") | BB25: =IF('Journey Awards'!AD10="A","E","") | BD25: =IF('Journey Awards'!AE10="A","E","") | BF25: =IF('Journey Awards'!AF10="A","E","") | BH25: =IF('Journey Awards'!AG10="A","E","")
A26: ='Journey Awards'!A14 -> Between Earth and Sky
A27: ='Journey Awards'!C16 -> The Blue Bucket Award | B27: =IF('Journey Awards'!D16="A","E","") | D27: =IF('Journey Awards'!E16="A","E","") | F27: =IF('Journey Awards'!F16="A","E","") | H27: =IF('Journey Awards'!G16="A","E","") | J27: =IF('Journey Awards'!H16="A","E","") | L27: =IF('Journey Awards'!I16="A","E","") | N27: =IF('Journey Awards'!J16="A","E","") | P27: =IF('Journey Awards'!K16="A","E","") | R27: =IF('Journey Awards'!L16="A","E","") | T27: =IF('Journey Awards'!M16="A","E","") | V27: =IF('Journey Awards'!N16="A","E","") | X27: =IF('Journey Awards'!O16="A","E","") | Z27: =IF('Journey Awards'!P16="A","E","") | AB27: =IF('Journey Awards'!Q16="A","E","") | AD27: =IF('Journey Awards'!R16="A","E","") | AF27: =IF('Journey Awards'!S16="A","E","") | AH27: =IF('Journey Awards'!T16="A","E","") | AJ27: =IF('Journey Awards'!U16="A","E","") | AL27: =IF('Journey Awards'!V16="A","E","") | AN27: =IF('Journey Awards'!W16="A","E","") | AP27: =IF('Journey Awards'!X16="A","E","") | AR27: =IF('Journey Awards'!Y16="A","E","") | AT27: =IF('Journey Awards'!Z16="A","E","") | AV27: =IF('Journey Awards'!AA16="A","E","") | AX27: =IF('Journey Awards'!AB16="A","E","") | AZ27: =IF('Journey Awards'!AC16="A","E","") | BB27: =IF('Journey Awards'!AD16="A","E","") | BD27: =IF('Journey Awards'!AE16="A","E","") | BF27: =IF('Journey Awards'!AF16="A","E","") | BH27: =IF('Journey Awards'!AG16="A","E","")
