Workbook

Sheet Instructions
A1: Instructions, Setup, & Data Entry FAQs (Frequently Asked Questions):
A3: First, please enter your Service Unit in the box:
A5: Next, please enter your Troop number in the box:
A6: Immediately after you download:
B7: You must save your spreadsheet to your hard drive. If you don't, it won't let you propogate the names throughout the spreadsheet, and it will act as though the spreadsheet is read-only.
A8: How to enter Daisy Names in the spreadsheet:
B9: Double-Click on the Tabs at the bottom of the page that read "Daisy 1", "Daisy 2", etc. That will hightlight the text. Simply type the girl's first name on the tab. That will cause her name to proliferate thoughout the spreadsheet.
A10: The Parent Contact Info page:
B11: The Parent Contact Info page is simply there to give you a place to collect parent info for your Daisies. Use it or not. It will have no effect on the rest of the sheet. This is just there as a tool for you.
A12: The Registration page:
B13: The Registration page is there to give you some help in remembering who has given you their registration papers, health history, paid their money to your council and your service unit. This will not spread anywhere else on the sheet. For the leader names, simply click on the names to change your leaders' names.
A14: The Attendance page:
B15: Enter activites, outings, and dates on this page. Use this page to record attendance. It may help you with your recordkeeping. This page has no bearing elsewhere on this worksheet.
A16: The Dues page:
B17: Enter dues as you receive them. The sheet is set up for you to record money. Simply type in what they were able to contribute. This page also has no bearing elsewhere in this worksheet.
A18: How to enter credit on the Petals, Journey Awards, Age-Level Awards and Bridging pages:
B19: To enter credit on the Achievement page, enter an A as a Daisy completes each requirement. Make sure you enter an A. If you enter anything else, it won't register. The spreadsheet is only set up to count A's.
A20: The Summary page:
B21: The summary page is for keeping track, at a glance, of where you are patches-wise. You can quickly see, at a glance, what you have already awarded to the girls, and what you still owe them. As you enter completion information in other parts of the spreadsheet, as soon as a girl is complete for an award, it will automatically pop up an E (and highlight it) on the Summary page. When you present the award to the girl, enter an Y beside that award for that girl (and the highlight goes away).
A22: The Order page:
B23: You will never enter any information on the Order page. It is a completely automated page that gleens information from the Summary page. When it is time for you to order, simply go to the Order page for that information. Every time a girl earns a patch, the numbers on this page increase. When you award the patch to the girl (and place the Y's on the Summary page), the numbers decrease.
A24: What's the purpose of the individual Daisy pages?
B25: You will never enter any information on the individual Daisy pages. Those pages are for you to occasionally print out and hand to the parents. You can use them to let a parent know what their daughter has and has not completed. You can also use that page to make homework assignments to help girls catch up.
A26: Troubleshooting & Frequently Asked Questions
B27: First, most issues can be solved by carefully reading these instructions. I encourage you to re-read this entire page before you do anything else. If that doesn't help, then the home site has a troubleshooting and FAQ page:
C28: http://trax.boy-scouts.net/faq.htm
B29: If neither of these has helped, then please e-mail me and ask. However, I ask that you please exhaust the above resources before you e-mail me. I get several e-mails per day asking for help, and to be honest, if they ask a question which I've already covered in these instructions and/or the FAQ page, I'm very likely to ignore the e-mail. Please read before you e-mail me.
A30: What's the password?
B31: First, I wouldn't recommend unprotecting the spreadsheet. It has been locked for your protection. Basically, it has been locked to keep you from messing up the formulas. It's designed as such that if you are getting a message telling you that a cell is protected, then you are trying to type in the wrong box. But if you must know, the password is: daisy
A32: What about sharing and editing this sheet?
B33: 1. You have my permission to share this spreadsheet, absolutely free of charge, to any scouter anywhere.
B34: 2. You have my permission to post this spreadsheet on any server willing to host it. I will, however, ask that if you DO post this spreadsheet on a server somewhere, that you occasionally check back to the main site that will host this sheet to check for updates (to make sure you have the latest version available. The site is:
B35: The Girl Scout Trax | D35: http://trax.boy-scouts.net/gstrax.htm
B36: 3. You have my permission to modify this sheet in any way to suit your own needs, however, if you do, please don't post your modified version anywhere on the internet.
B37: 4. You have my permission to e-mail me with suggestions for improvements you'd like to see, but please don't be offended if I don't use your suggestions.
A38: How can you contact me?
B39: aedmunds@bellsouth.net
A40: Version History
B41: DaisyTrax 1.0 | C41: 39713 | D41: - Initial release of the software package.
B42: DaisyTrax 1.1 | C42: 39764 | D42: - Addition of dues page and miscellaneous Awards
B43: DaisyTrax 1.2 | C43: 39797 | D43: - Fixed minor items and reworked the awards
B44: DaisyTrax 1.3 | C44: 39922 | D44: - Modified formulas to make spreadsheet work on both Microsoft Excel and OpenOffice Calc.
B45: DaisyTrax 1.4 | C45: 40035 | D45: -added new Journey
B46: DaisyTrax 1.5 | C46: 40112 | D46: -just fixing minor issues still…
B47: DaisyTrax 1.6 | C47: 40562 | D47: -added journeys, fixed bridging flaw, changed highlighted color on summary page, changed language on petals page
B49: DaisyTrax 2.0 | C49: 40779 | D49: -added leaves to the Petals page. Updated bridging requirements. Added awards to Age-Level as written in new books.
B51: DaisyTrax 2.1 | C51: 40874 | D51: -fixed Summary page errors and on individual pages. Fixed addition error on Age-Level page
B53: DaisyTrax 2.2 | C53: 40924 | D53: -fixed formula for summit pin
B54: DaisyTrax 2.3 | C54: 40981 | D54: -fixed petals not showing on individual pages

Sheet Parent Contact
A1: ='Daisy 1'!A1 -> Daisy 1 | B1: <<Last Name>> | C1: Date of Birth: | E1: EMERGENCY CONTACT
A2: Primary Adult | C2: Secondary Adult | F2: Name:
A3: Relationship: | C3: Relationship:
A4: Name: | C4: Name: | F4: email:
A5: Address: | C5: Address:
A6: City, State ZIP: | C6: City, State ZIP: | F6: Home Phone:
A7: Home Phone: | C7: Home Phone:
A8: Work Phone: | C8: Work Phone: | F8: Work Phone:
A9: Cell Phone: | C9: Cell Phone:
A10: Home e-mail: | C10: Home e-mail: | F10: Cell Phone:
A11: Work e-mail: | C11: Work e-mail:
A12: ='Daisy 2'!A1 -> Daisy 2 | B12: <<Last Name>> | C12: Date of Birth: | E12: EMERGENCY CONTACT
A13: Primary Adult | C13: Secondary Adult | F13: Name:
A14: Relationship: | C14: Relationship:
A15: Name: | C15: Name: | F15: email:
A16: Address: | C16: Address:
A17: City, State ZIP: | C17: City, State ZIP: | F17: Home Phone:
A18: Home Phone: | C18: Home Phone:
A19: Work Phone: | C19: Work Phone: | F19: Work Phone:
A20: Cell Phone: | C20: Cell Phone:
A21: Home e-mail: | C21: Home e-mail: | F21: Cell Phone:
A22: Work e-mail: | C22: Work e-mail:
A23: ='Daisy 3'!A1 -> Daisy 3 | B23: <<Last Name>> | C23: Date of Birth: | E23: EMERGENCY CONTACT
A24: Primary Adult | C24: Secondary Adult | F24: Name:
A25: Relationship: | C25: Relationship:
A26: Name: | C26: Name: | F26: email:
A27: Address: | C27: Address:
A28: City, State ZIP: | C28: City, State ZIP: | F28: Home Phone:
A29: Home Phone: | C29: Home Phone:
A30: Work Phone: | C30: Work Phone: | F30: Work Phone:
A31: Cell Phone: | C31: Cell Phone:
A32: Home e-mail: | C32: Home e-mail: | F32: Cell Phone:
A33: Work e-mail: | C33: Work e-mail:
A34: ='Daisy 4'!A1 -> Daisy 4 | B34: <<Last Name>> | C34: Date of Birth: | E34: EMERGENCY CONTACT
A35: Primary Adult | C35: Secondary Adult | F35: Name:
A36: Relationship: | C36: Relationship:
A37: Name: | C37: Name: | F37: email:
A38: Address: | C38: Address:
A39: City, State ZIP: | C39: City, State ZIP: | F39: Home Phone:
A40: Home Phone: | C40: Home Phone:
A41: Work Phone: | C41: Work Phone: | F41: Work Phone:
A42: Cell Phone: | C42: Cell Phone:
A43: Home e-mail: | C43: Home e-mail: | F43: Cell Phone:
A44: Work e-mail: | C44: Work e-mail:
A45: ='Daisy 5'!A1 -> Daisy 5 | B45: <<Last Name>> | C45: Date of Birth: | E45: EMERGENCY CONTACT
A46: Primary Adult | C46: Secondary Adult | F46: Name:
A47: Relationship: | C47: Relationship:
A48: Name: | C48: Name: | F48: email:
A49: Address: | C49: Address:
A50: City, State ZIP: | C50: City, State ZIP: | F50: Home Phone:
A51: Home Phone: | C51: Home Phone:
A52: Work Phone: | C52: Work Phone: | F52: Work Phone:
A53: Cell Phone: | C53: Cell Phone:
A54: Home e-mail: | C54: Home e-mail: | F54: Cell Phone:
A55: Work e-mail: | C55: Work e-mail:
A56: ='Daisy 6'!A1 -> Daisy 6 | B56: <<Last Name>> | C56: Date of Birth: | E56: EMERGENCY CONTACT
A57: Primary Adult | C57: Secondary Adult | F57: Name:
A58: Relationship: | C58: Relationship:
A59: Name: | C59: Name: | F59: email:
A60: Address: | C60: Address:
A61: City, State ZIP: | C61: City, State ZIP: | F61: Home Phone:
A62: Home Phone: | C62: Home Phone:
A63: Work Phone: | C63: Work Phone: | F63: Work Phone:
A64: Cell Phone: | C64: Cell Phone:
A65: Home e-mail: | C65: Home e-mail: | F65: Cell Phone:
A66: Work e-mail: | C66: Work e-mail:
A67: ='Daisy 7'!A1 -> Daisy 7 | B67: <<Last Name>> | C67: Date of Birth: | E67: EMERGENCY CONTACT
A68: Primary Adult | C68: Secondary Adult | F68: Name:
A69: Relationship: | C69: Relationship:
A70: Name: | C70: Name: | F70: email:
A71: Address: | C71: Address:
A72: City, State ZIP: | C72: City, State ZIP: | F72: Home Phone:
A73: Home Phone: | C73: Home Phone:
A74: Work Phone: | C74: Work Phone: | F74: Work Phone:
A75: Cell Phone: | C75: Cell Phone:
A76: Home e-mail: | C76: Home e-mail: | F76: Cell Phone:
A77: Work e-mail: | C77: Work e-mail:
A78: ='Daisy 8'!A1 -> Daisy 8 | B78: <<Last Name>> | C78: Date of Birth: | E78: EMERGENCY CONTACT
A79: Primary Adult | C79: Secondary Adult | F79: Name:
A80: Relationship: | C80: Relationship:
A81: Name: | C81: Name: | F81: email:
A82: Address: | C82: Address:
A83: City, State ZIP: | C83: City, State ZIP: | F83: Home Phone:
A84: Home Phone: | C84: Home Phone:
A85: Work Phone: | C85: Work Phone: | F85: Work Phone:
A86: Cell Phone: | C86: Cell Phone:
A87: Home e-mail: | C87: Home e-mail: | F87: Cell Phone:
A88: Work e-mail: | C88: Work e-mail:
A89: ='Daisy 9'!A1 -> Daisy 9 | B89: <<Last Name>> | C89: Date of Birth: | E89: EMERGENCY CONTACT
A90: Primary Adult | C90: Secondary Adult | F90: Name:
A91: Relationship: | C91: Relationship:
A92: Name: | C92: Name: | F92: email:
A93: Address: | C93: Address:
A94: City, State ZIP: | C94: City, State ZIP: | F94: Home Phone:
A95: Home Phone: | C95: Home Phone:
A96: Work Phone: | C96: Work Phone: | F96: Work Phone:
A97: Cell Phone: | C97: Cell Phone:
A98: Home e-mail: | C98: Home e-mail: | F98: Cell Phone:
A99: Work e-mail: | C99: Work e-mail:
A100: ='Daisy 10'!A1 -> Daisy 10 | B100: <<Last Name>> | C100: Date of Birth: | E100: EMERGENCY CONTACT
...

Sheet Registration
B1: Service Unit | C1: =Instructions!E3 -> 0 | D1: ='Daisy 1'!$A1 -> Daisy 1 | E1: ='Daisy 2'!$A1 -> Daisy 2 | F1: ='Daisy 3'!$A1 -> Daisy 3 | G1: ='Daisy 4'!$A1 -> Daisy 4 | H1: ='Daisy 5'!$A1 -> Daisy 5 | I1: ='Daisy 6'!$A1 -> Daisy 6 | J1: ='Daisy 7'!$A1 -> Daisy 7 | K1: ='Daisy 8'!$A1 -> Daisy 8 | L1: ='Daisy 9'!$A1 -> Daisy 9 | M1: ='Daisy 10'!$A1 -> Daisy 10 | N1: ='Daisy 11'!$A1 -> Daisy 11 | O1: ='Daisy 12'!$A1 -> Daisy 12 | P1: ='Daisy 13'!$A1 -> Daisy 13 | Q1: ='Daisy 14'!$A1 -> Daisy 14 | R1: ='Daisy 15'!$A1 -> Daisy 15 | S1: ='Daisy 16'!$A1 -> Daisy 16 | T1: ='Daisy 17'!$A1 -> Daisy 17 | U1: ='Daisy 18'!$A1 -> Daisy 18 | V1: ='Daisy 19'!$A1 -> Daisy 19 | W1: ='Daisy 20'!$A1 -> Daisy 20 | X1: ='Daisy 21'!$A1 -> Daisy 21 | Y1: ='Daisy 22'!$A1 -> Daisy 22 | Z1: ='Daisy 23'!$A1 -> Daisy 23 | AA1: ='Daisy 24'!$A1 -> Daisy 24 | AB1: ='Daisy 25'!$A1 -> Daisy 25 | AC1: ='Daisy 26'!$A1 -> Daisy 26 | AD1: ='Daisy 27'!$A1 -> Daisy 27 | AE1: ='Daisy 28'!$A1 -> Daisy 28 | AF1: ='Daisy 29'!$A1 -> Daisy 29 | AG1: ='Daisy 30'!$A1 -> Daisy 30 | AH1: Leader 1 | AI1: Leader 2 | AJ1: Leader 3 | AK1: Leader 4 | AL1: Leader 5 | AM1: Leader 6 | AN1: Leader 7 | AO1: Leader 8 | AP1: Leader 9 | AQ1: Leader 10
B2: Troop | C2: =Instructions!E5 -> 0
A4: Enter A for credit
A6: 1 | B6: Registration Papers
A7: 2 | B7: Check to GSUSA (Registration)
A8: 3 | B8: Service Unit Dues
A9: 4 | B9: Annual Fund Dues
A10: 5 | B10: Health History
B11: Status: (P)artial or (C)omplete | D11: =IF(COUNTIF(D6:D10,"A")=5,"C",IF(COUNTIF(D6:D10,"A")>0,"P"," ")) | E11: =IF(COUNTIF(E6:E10,"A")=5,"C",IF(COUNTIF(E6:E10,"A")>0,"P"," ")) | F11: =IF(COUNTIF(F6:F10,"A")=5,"C",IF(COUNTIF(F6:F10,"A")>0,"P"," ")) | G11: =IF(COUNTIF(G6:G10,"A")=5,"C",IF(COUNTIF(G6:G10,"A")>0,"P"," ")) | H11: =IF(COUNTIF(H6:H10,"A")=5,"C",IF(COUNTIF(H6:H10,"A")>0,"P"," ")) | I11: =IF(COUNTIF(I6:I10,"A")=5,"C",IF(COUNTIF(I6:I10,"A")>0,"P"," ")) | J11: =IF(COUNTIF(J6:J10,"A")=5,"C",IF(COUNTIF(J6:J10,"A")>0,"P"," ")) | K11: =IF(COUNTIF(K6:K10,"A")=5,"C",IF(COUNTIF(K6:K10,"A")>0,"P"," ")) | ... AG11: =IF(COUNTIF(AG6:AG10,"A")=5,"C",IF(COUNTIF(AG6:AG10,"A")>0,"P"," ")) | AH11: =IF(COUNTIF(AH6:AH10,"A")=3,"C",IF(COUNTIF(AH6:AH10,"A")>0,"P"," ")) | AI11: =IF(COUNTIF(AI6:AI10,"A")=3,"C",IF(COUNTIF(AI6:AI10,"A")>0,"P"," ")) | AJ11: =IF(COUNTIF(AJ6:AJ10,"A")=3,"C",IF(COUNTIF(AJ6:AJ10,"A")>0,"P"," ")) | AK11: =IF(COUNTIF(AK6:AK10,"A")=3,"C",IF(COUNTIF(AK6:AK10,"A")>0,"P"," ")) | AL11: =IF(COUNTIF(AL6:AL10,"A")=3,"C",IF(COUNTIF(AL6:AL10,"A")>0,"P"," ")) | AM11: =IF(COUNTIF(AM6:AM10,"A")=3,"C",IF(COUNTIF(AM6:AM10,"A")>0,"P"," ")) | AN11: =IF(COUNTIF(AN6:AN10,"A")=3,"C",IF(COUNTIF(AN6:AN10,"A")>0,"P"," ")) | AO11: =IF(COUNTIF(AO6:AO10,"A")=3,"C",IF(COUNTIF(AO6:AO10,"A")>0,"P"," ")) | ... AQ11: =IF(COUNTIF(AQ6:AQ10,"A")=3,"C",IF(COUNTIF(AQ6:AQ10,"A")>0,"P"," "))
A13: 1 | B13: Registration Papers
A14: 2 | B14: Check to GSUSA (Registration)
A15: 3 | B15: Service Unit Dues
A16: 4 | B16: Annual Fund Dues
A17: 5 | B17: Health History
B18: Status: (P)artial or (C)omplete | D18: =IF(COUNTIF(D13:D17,"A")=5,"C",IF(COUNTIF(D13:D17,"A")>0,"P"," ")) | E18: =IF(COUNTIF(E13:E17,"A")=5,"C",IF(COUNTIF(E13:E17,"A")>0,"P"," ")) | F18: =IF(COUNTIF(F13:F17,"A")=5,"C",IF(COUNTIF(F13:F17,"A")>0,"P"," ")) | G18: =IF(COUNTIF(G13:G17,"A")=5,"C",IF(COUNTIF(G13:G17,"A")>0,"P"," ")) | H18: =IF(COUNTIF(H13:H17,"A")=5,"C",IF(COUNTIF(H13:H17,"A")>0,"P"," ")) | I18: =IF(COUNTIF(I13:I17,"A")=5,"C",IF(COUNTIF(I13:I17,"A")>0,"P"," ")) | J18: =IF(COUNTIF(J13:J17,"A")=5,"C",IF(COUNTIF(J13:J17,"A")>0,"P"," ")) | K18: =IF(COUNTIF(K13:K17,"A")=5,"C",IF(COUNTIF(K13:K17,"A")>0,"P"," ")) | ... AG18: =IF(COUNTIF(AG13:AG17,"A")=5,"C",IF(COUNTIF(AG13:AG17,"A")>0,"P"," ")) | AH18: =IF(COUNTIF(AH13:AH17,"A")=3,"C",IF(COUNTIF(AH13:AH17,"A")>0,"P"," ")) | AI18: =IF(COUNTIF(AI13:AI17,"A")=3,"C",IF(COUNTIF(AI13:AI17,"A")>0,"P"," ")) | AJ18: =IF(COUNTIF(AJ13:AJ17,"A")=3,"C",IF(COUNTIF(AJ13:AJ17,"A")>0,"P"," ")) | AK18: =IF(COUNTIF(AK13:AK17,"A")=3,"C",IF(COUNTIF(AK13:AK17,"A")>0,"P"," ")) | AL18: =IF(COUNTIF(AL13:AL17,"A")=3,"C",IF(COUNTIF(AL13:AL17,"A")>0,"P"," ")) | AM18: =IF(COUNTIF(AM13:AM17,"A")=3,"C",IF(COUNTIF(AM13:AM17,"A")>0,"P"," ")) | AN18: =IF(COUNTIF(AN13:AN17,"A")=3,"C",IF(COUNTIF(AN13:AN17,"A")>0,"P"," ")) | AO18: =IF(COUNTIF(AO13:AO17,"A")=3,"C",IF(COUNTIF(AO13:AO17,"A")>0,"P"," ")) | ... AQ18: =IF(COUNTIF(AQ13:AQ17,"A")=3,"C",IF(COUNTIF(AQ13:AQ17,"A")>0,"P"," "))

Sheet Dues
A1: Enter amount received | B1: ='Daisy 1'!$A1 -> Daisy 1 | C1: ='Daisy 2'!$A1 -> Daisy 2 | D1: ='Daisy 3'!$A1 -> Daisy 3 | E1: ='Daisy 4'!$A1 -> Daisy 4 | F1: ='Daisy 5'!$A1 -> Daisy 5 | G1: ='Daisy 6'!$A1 -> Daisy 6 | H1: ='Daisy 7'!$A1 -> Daisy 7 | I1: ='Daisy 8'!$A1 -> Daisy 8 | J1: ='Daisy 9'!$A1 -> Daisy 9 | K1: ='Daisy 10'!$A1 -> Daisy 10 | L1: ='Daisy 11'!$A1 -> Daisy 11 | M1: ='Daisy 12'!$A1 -> Daisy 12 | N1: ='Daisy 13'!$A1 -> Daisy 13 | O1: ='Daisy 14'!$A1 -> Daisy 14 | P1: ='Daisy 15'!$A1 -> Daisy 15 | Q1: ='Daisy 16'!$A1 -> Daisy 16 | R1: ='Daisy 17'!$A1 -> Daisy 17 | S1: ='Daisy 18'!$A1 -> Daisy 18 | T1: ='Daisy 19'!$A1 -> Daisy 19 | U1: ='Daisy 20'!$A1 -> Daisy 20 | V1: ='Daisy 21'!$A1 -> Daisy 21 | W1: ='Daisy 22'!$A1 -> Daisy 22 | X1: ='Daisy 23'!$A1 -> Daisy 23 | Y1: ='Daisy 24'!$A1 -> Daisy 24 | Z1: ='Daisy 25'!$A1 -> Daisy 25 | AA1: ='Daisy 26'!$A1 -> Daisy 26 | AB1: ='Daisy 27'!$A1 -> Daisy 27 | AC1: ='Daisy 28'!$A1 -> Daisy 28 | AD1: ='Daisy 29'!$A1 -> Daisy 29 | AE1: ='Daisy 30'!$A1 -> Daisy 30 | AF1: meeting totals
A4: Date
AF5: =SUM(B5:P5) -> 0
AF6: =SUM(B6:P6) -> 0
AF7: =SUM(B7:P7) -> 0
AF8: =SUM(B8:P8) -> 0
AF9: =SUM(B9:P9) -> 0
AF10: =SUM(B10:P10) -> 0
AF11: =SUM(B11:P11) -> 0
AF12: =SUM(B12:P12) -> 0
AF13: =SUM(B13:P13) -> 0
AF14: =SUM(B14:P14) -> 0
AF15: =SUM(B15:P15) -> 0
AF16: =SUM(B16:P16) -> 0
... AF19: =SUM(B19:P19) -> 0
A20: yearly total (per girl) | B20: =SUM(B5:B19) -> 0 | C20: =SUM(C5:C19) -> 0 | D20: =SUM(D5:D19) -> 0 | E20: =SUM(E5:E19) -> 0 | F20: =SUM(F5:F19) -> 0 | G20: =SUM(G5:G19) -> 0 | H20: =SUM(H5:H19) -> 0 | I20: =SUM(I5:I19) -> 0 | ... AF20: =SUM(AF5:AF19) -> 0
AF22: =SUM(B22:P22) -> 0
AF23: =SUM(B23:P23) -> 0
AF24: =SUM(B24:P24) -> 0
AF25: =SUM(B25:P25) -> 0
AF26: =SUM(B26:P26) -> 0
AF27: =SUM(B27:P27) -> 0
AF28: =SUM(B28:P28) -> 0
AF29: =SUM(B29:P29) -> 0
AF30: =SUM(B30:P30) -> 0
AF31: =SUM(B31:P31) -> 0
AF32: =SUM(B32:P32) -> 0
AF33: =SUM(B33:P33) -> 0
... AF36: =SUM(B36:P36) -> 0
A37: yearly total (per girl) | B37: =SUM(B22:B36) -> 0 | C37: =SUM(C5:C36) -> 0 | D37: =SUM(D5:D36) -> 0 | E37: =SUM(E5:E36) -> 0 | F37: =SUM(F5:F36) -> 0 | G37: =SUM(G5:G36) -> 0 | H37: =SUM(H5:H36) -> 0 | I37: =SUM(I5:I36) -> 0 | J37: =SUM(J5:J36) -> 0 | ... P37: =SUM(P5:P36) -> 0 | Q37: =SUM(Q22:Q36) -> 0 | R37: =SUM(R5:R36) -> 0 | S37: =SUM(S5:S36) -> 0 | T37: =SUM(T5:T36) -> 0 | U37: =SUM(U5:U36) -> 0 | V37: =SUM(V5:V36) -> 0 | W37: =SUM(W5:W36) -> 0 | X37: =SUM(X5:X36) -> 0 | Y37: =SUM(Y5:Y36) -> 0 | ... AE37: =SUM(AE5:AE36) -> 0 | AF37: =SUM(AF22:AF36) -> 0

Sheet Attendance
A1: Attendance | C1: ='Daisy 1'!$A1 -> Daisy 1 | D1: ='Daisy 2'!$A1 -> Daisy 2 | E1: ='Daisy 3'!$A1 -> Daisy 3 | F1: ='Daisy 4'!$A1 -> Daisy 4 | G1: ='Daisy 5'!$A1 -> Daisy 5 | H1: ='Daisy 6'!$A1 -> Daisy 6 | I1: ='Daisy 7'!$A1 -> Daisy 7 | J1: ='Daisy 8'!$A1 -> Daisy 8 | K1: ='Daisy 9'!$A1 -> Daisy 9 | L1: ='Daisy 10'!$A1 -> Daisy 10 | M1: ='Daisy 11'!$A1 -> Daisy 11 | N1: ='Daisy 12'!$A1 -> Daisy 12 | O1: ='Daisy 13'!$A1 -> Daisy 13 | P1: ='Daisy 14'!$A1 -> Daisy 14 | Q1: ='Daisy 15'!$A1 -> Daisy 15 | R1: ='Daisy 16'!$A1 -> Daisy 16 | S1: ='Daisy 17'!$A1 -> Daisy 17 | T1: ='Daisy 18'!$A1 -> Daisy 18 | U1: ='Daisy 19'!$A1 -> Daisy 19 | V1: ='Daisy 20'!$A1 -> Daisy 20 | W1: ='Daisy 21'!$A1 -> Daisy 21 | X1: ='Daisy 22'!$A1 -> Daisy 22 | Y1: ='Daisy 23'!$A1 -> Daisy 23 | Z1: ='Daisy 24'!$A1 -> Daisy 24 | AA1: ='Daisy 25'!$A1 -> Daisy 25 | AB1: ='Daisy 26'!$A1 -> Daisy 26 | AC1: ='Daisy 27'!$A1 -> Daisy 27 | AD1: ='Daisy 28'!$A1 -> Daisy 28 | AE1: ='Daisy 29'!$A1 -> Daisy 29 | AF1: ='Daisy 30'!$A1 -> Daisy 30
A2: Enter A indicate Attendance at the event
A4: Date | B4: Event Attended (Meeting, Camping, Outing,etc.)

Sheet Petals
B1: Service Unit | C1: =Instructions!E3 -> 0 | D1: ='Daisy 1'!$A1 -> Daisy 1 | E1: ='Daisy 2'!$A1 -> Daisy 2 | F1: ='Daisy 3'!$A1 -> Daisy 3 | G1: ='Daisy 4'!$A1 -> Daisy 4 | H1: ='Daisy 5'!$A1 -> Daisy 5 | I1: ='Daisy 6'!$A1 -> Daisy 6 | J1: ='Daisy 7'!$A1 -> Daisy 7 | K1: ='Daisy 8'!$A1 -> Daisy 8 | L1: ='Daisy 9'!$A1 -> Daisy 9 | M1: ='Daisy 10'!$A1 -> Daisy 10 | N1: ='Daisy 11'!$A1 -> Daisy 11 | O1: ='Daisy 12'!$A1 -> Daisy 12 | P1: ='Daisy 13'!$A1 -> Daisy 13 | Q1: ='Daisy 14'!$A1 -> Daisy 14 | R1: ='Daisy 15'!$A1 -> Daisy 15 | S1: ='Daisy 16'!$A1 -> Daisy 16 | T1: ='Daisy 17'!$A1 -> Daisy 17 | U1: ='Daisy 18'!$A1 -> Daisy 18 | V1: ='Daisy 19'!$A1 -> Daisy 19 | W1: ='Daisy 20'!$A1 -> Daisy 20 | X1: ='Daisy 21'!$A1 -> Daisy 21 | Y1: ='Daisy 22'!$A1 -> Daisy 22 | Z1: ='Daisy 23'!$A1 -> Daisy 23 | AA1: ='Daisy 24'!$A1 -> Daisy 24 | AB1: ='Daisy 25'!$A1 -> Daisy 25 | AC1: ='Daisy 26'!$A1 -> Daisy 26 | AD1: ='Daisy 27'!$A1 -> Daisy 27 | AE1: ='Daisy 28'!$A1 -> Daisy 28 | AF1: ='Daisy 29'!$A1 -> Daisy 29 | AG1: ='Daisy 30'!$A1 -> Daisy 30
B2: Troop | C2: =Instructions!E5 -> 0
A4: Enter A for credit
A5: Center Petal
B6: Center | C6: Promise Center
A7: Petals
B8: Lupe | C8: Honest and fair
B9: Sunny | C9: Friendly and helpful
B10: Zinni | C10: Considerate and caring
B11: Tula | C11: Courageous and strong
B12: Mari | C12: Responsible for what I say and do
B13: Gloria | C13: Respect for myself & others
B14: Gerri | C14: Respect authority
B15: Clover | C15: Use resources wisely
B16: Rosie | C16: Make the world a better place
B17: Vi | C17: Be a sister to every Girl Scout
B18: Status: (P)artial or (C)omplete | D18: =IF(COUNTIF(D6:D17,"A")=11,"C",IF(COUNTIF(D6:D17,"A")>0,"P"," ")) | E18: =IF(COUNTIF(E6:E17,"A")=11,"C",IF(COUNTIF(E6:E17,"A")>0,"P"," ")) | F18: =IF(COUNTIF(F6:F17,"A")=11,"C",IF(COUNTIF(F6:F17,"A")>0,"P"," ")) | G18: =IF(COUNTIF(G6:G17,"A")=11,"C",IF(COUNTIF(G6:G17,"A")>0,"P"," ")) | H18: =IF(COUNTIF(H6:H17,"A")=11,"C",IF(COUNTIF(H6:H17,"A")>0,"P"," ")) | I18: =IF(COUNTIF(I6:I17,"A")=11,"C",IF(COUNTIF(I6:I17,"A")>0,"P"," ")) | J18: =IF(COUNTIF(J6:J17,"A")=11,"C",IF(COUNTIF(J6:J17,"A")>0,"P"," ")) | K18: =IF(COUNTIF(K6:K17,"A")=11,"C",IF(COUNTIF(K6:K17,"A")>0,"P"," ")) | ... AG18: =IF(COUNTIF(AG6:AG17,"A")=11,"C",IF(COUNTIF(AG6:AG17,"A")>0,"P"," "))
A19: Leaves | C19: (you can earn only one finance leaf per year)
B20: Money Counts | C20: Understand the different kinds of coins
C21: Know more about paper money
B22: Finance | C22: Find out the cost of fun
B23: Status: (P)artial or (C)omplete | D23: =IF(COUNTIF(D20:D22,"A")=3,"C",IF(COUNTIF(D20:D22,"A")>0,"P"," ")) | E23: =IF(COUNTIF(E20:E22,"A")=3,"C",IF(COUNTIF(E20:E22,"A")>0,"P"," ")) | F23: =IF(COUNTIF(F20:F22,"A")=3,"C",IF(COUNTIF(F20:F22,"A")>0,"P"," ")) | G23: =IF(COUNTIF(G20:G22,"A")=3,"C",IF(COUNTIF(G20:G22,"A")>0,"P"," ")) | H23: =IF(COUNTIF(H20:H22,"A")=3,"C",IF(COUNTIF(H20:H22,"A")>0,"P"," ")) | I23: =IF(COUNTIF(I20:I22,"A")=3,"C",IF(COUNTIF(I20:I22,"A")>0,"P"," ")) | J23: =IF(COUNTIF(J20:J22,"A")=3,"C",IF(COUNTIF(J20:J22,"A")>0,"P"," ")) | K23: =IF(COUNTIF(K20:K22,"A")=3,"C",IF(COUNTIF(K20:K22,"A")>0,"P"," ")) | ... AG23: =IF(COUNTIF(AG20:AG22,"A")=3,"C",IF(COUNTIF(AG20:AG22,"A")>0,"P"," "))
B25: Making Choices | C25: Find out the difference between needs
C26: Try setting a goal to save for what you want
B27: Finance | C27: Help others with what they need and want
B28: Status: (P)artial or (C)omplete | D28: =IF(COUNTIF(D25:D27,"A")=3,"C",IF(COUNTIF(D25:D27,"A")>0,"P"," ")) | E28: =IF(COUNTIF(E25:E27,"A")=3,"C",IF(COUNTIF(E25:E27,"A")>0,"P"," ")) | F28: =IF(COUNTIF(F25:F27,"A")=3,"C",IF(COUNTIF(F25:F27,"A")>0,"P"," ")) | G28: =IF(COUNTIF(G25:G27,"A")=3,"C",IF(COUNTIF(G25:G27,"A")>0,"P"," ")) | H28: =IF(COUNTIF(H25:H27,"A")=3,"C",IF(COUNTIF(H25:H27,"A")>0,"P"," ")) | I28: =IF(COUNTIF(I25:I27,"A")=3,"C",IF(COUNTIF(I25:I27,"A")>0,"P"," ")) | J28: =IF(COUNTIF(J25:J27,"A")=3,"C",IF(COUNTIF(J25:J27,"A")>0,"P"," ")) | K28: =IF(COUNTIF(K25:K27,"A")=3,"C",IF(COUNTIF(K25:K27,"A")>0,"P"," ")) | ... AG28: =IF(COUNTIF(AG25:AG27,"A")=3,"C",IF(COUNTIF(AG25:AG27,"A")>0,"P"," "))
B30: Count It Up | C30: Find out what cookies cost
C31: Learn about different kinds of cookies
B32: Cookie | C32: Set a sales goal
B33: Status: (P)artial or (C)omplete | D33: =IF(COUNTIF(D30:D32,"A")=3,"C",IF(COUNTIF(D30:D32,"A")>0,"P"," ")) | E33: =IF(COUNTIF(E30:E32,"A")=3,"C",IF(COUNTIF(E30:E32,"A")>0,"P"," ")) | F33: =IF(COUNTIF(F30:F32,"A")=3,"C",IF(COUNTIF(F30:F32,"A")>0,"P"," ")) | G33: =IF(COUNTIF(G30:G32,"A")=3,"C",IF(COUNTIF(G30:G32,"A")>0,"P"," ")) | H33: =IF(COUNTIF(H30:H32,"A")=3,"C",IF(COUNTIF(H30:H32,"A")>0,"P"," ")) | I33: =IF(COUNTIF(I30:I32,"A")=3,"C",IF(COUNTIF(I30:I32,"A")>0,"P"," ")) | J33: =IF(COUNTIF(J30:J32,"A")=3,"C",IF(COUNTIF(J30:J32,"A")>0,"P"," ")) | K33: =IF(COUNTIF(K30:K32,"A")=3,"C",IF(COUNTIF(K30:K32,"A")>0,"P"," ")) | ... AG33: =IF(COUNTIF(AG30:AG32,"A")=3,"C",IF(COUNTIF(AG30:AG32,"A")>0,"P"," "))
B35: Talk It Up | C35: Deicde how to use your cookie money
C36: Talk about how to use cookie money to
B37: Cookie | C37: Inspire your customers
B38: Status: (P)artial or (C)omplete | D38: =IF(COUNTIF(D35:D37,"A")=3,"C",IF(COUNTIF(D35:D37,"A")>0,"P"," ")) | E38: =IF(COUNTIF(E35:E37,"A")=3,"C",IF(COUNTIF(E35:E37,"A")>0,"P"," ")) | F38: =IF(COUNTIF(F35:F37,"A")=3,"C",IF(COUNTIF(F35:F37,"A")>0,"P"," ")) | G38: =IF(COUNTIF(G35:G37,"A")=3,"C",IF(COUNTIF(G35:G37,"A")>0,"P"," ")) | H38: =IF(COUNTIF(H35:H37,"A")=3,"C",IF(COUNTIF(H35:H37,"A")>0,"P"," ")) | I38: =IF(COUNTIF(I35:I37,"A")=3,"C",IF(COUNTIF(I35:I37,"A")>0,"P"," ")) | J38: =IF(COUNTIF(J35:J37,"A")=3,"C",IF(COUNTIF(J35:J37,"A")>0,"P"," ")) | K38: =IF(COUNTIF(K35:K37,"A")=3,"C",IF(COUNTIF(K35:K37,"A")>0,"P"," ")) | ... AG38: =IF(COUNTIF(AG35:AG37,"A")=3,"C",IF(COUNTIF(AG35:AG37,"A")>0,"P"," "))

Sheet Journey Awards
B1: Service Unit | C1: =Instructions!E3 -> 0 | D1: ='Daisy 1'!$A1 -> Daisy 1 | E1: ='Daisy 2'!$A1 -> Daisy 2 | F1: ='Daisy 3'!$A1 -> Daisy 3 | G1: ='Daisy 4'!$A1 -> Daisy 4 | H1: ='Daisy 5'!$A1 -> Daisy 5 | I1: ='Daisy 6'!$A1 -> Daisy 6 | J1: ='Daisy 7'!$A1 -> Daisy 7 | K1: ='Daisy 8'!$A1 -> Daisy 8 | L1: ='Daisy 9'!$A1 -> Daisy 9 | M1: ='Daisy 10'!$A1 -> Daisy 10 | N1: ='Daisy 11'!$A1 -> Daisy 11 | O1: ='Daisy 12'!$A1 -> Daisy 12 | P1: ='Daisy 13'!$A1 -> Daisy 13 | Q1: ='Daisy 14'!$A1 -> Daisy 14 | R1: ='Daisy 15'!$A1 -> Daisy 15 | S1: ='Daisy 16'!$A1 -> Daisy 16 | T1: ='Daisy 17'!$A1 -> Daisy 17 | U1: ='Daisy 18'!$A1 -> Daisy 18 | V1: ='Daisy 19'!$A1 -> Daisy 19 | W1: ='Daisy 20'!$A1 -> Daisy 20 | X1: ='Daisy 21'!$A1 -> Daisy 21 | Y1: ='Daisy 22'!$A1 -> Daisy 22 | Z1: ='Daisy 23'!$A1 -> Daisy 23 | AA1: ='Daisy 24'!$A1 -> Daisy 24 | AB1: ='Daisy 25'!$A1 -> Daisy 25 | AC1: ='Daisy 26'!$A1 -> Daisy 26 | AD1: ='Daisy 27'!$A1 -> Daisy 27 | AE1: ='Daisy 28'!$A1 -> Daisy 28 | AF1: ='Daisy 29'!$A1 -> Daisy 29 | AG1: ='Daisy 30'!$A1 -> Daisy 30
B2: Troop | C2: =Instructions!E5 -> 0
B4: Enter A for credit
A5: It's Your World -- Change It!
A6: Welcome to the Daisy Flower Garden
C8: The Watering Can Award
C9: The Golden Honey Bee
C10: The Amazing Daisy Award
C11: Status: (P)artial or (C)omplete | D11: =IF(COUNTIF(D8:D10,"A")>2,"C",IF(COUNTIF(D8:D10,"A")>0,"P"," ")) | E11: =IF(COUNTIF(E8:E10,"A")>2,"C",IF(COUNTIF(E8:E10,"A")>0,"P"," ")) | F11: =IF(COUNTIF(F8:F10,"A")>2,"C",IF(COUNTIF(F8:F10,"A")>0,"P"," ")) | G11: =IF(COUNTIF(G8:G10,"A")>2,"C",IF(COUNTIF(G8:G10,"A")>0,"P"," ")) | H11: =IF(COUNTIF(H8:H10,"A")>2,"C",IF(COUNTIF(H8:H10,"A")>0,"P"," ")) | I11: =IF(COUNTIF(I8:I10,"A")>2,"C",IF(COUNTIF(I8:I10,"A")>0,"P"," ")) | J11: =IF(COUNTIF(J8:J10,"A")>2,"C",IF(COUNTIF(J8:J10,"A")>0,"P"," ")) | K11: =IF(COUNTIF(K8:K10,"A")>2,"C",IF(COUNTIF(K8:K10,"A")>0,"P"," ")) | ... AG11: =IF(COUNTIF(AG8:AG10,"A")>2,"C",IF(COUNTIF(AG8:AG10,"A")>0,"P"," "))
A13: It's Your Planet -- Love It!
A14: Between Earth and Sky
C16: The Blue Bucket Award
C17: The Firefly Award
C18: The Clover Award
C19: Status: (P)artial or (C)omplete | D19: =IF(COUNTIF(D16:D18,"A")>2,"C",IF(COUNTIF(D16:D18,"A")>0,"P"," ")) | E19: =IF(COUNTIF(E16:E18,"A")>2,"C",IF(COUNTIF(E16:E18,"A")>0,"P"," ")) | F19: =IF(COUNTIF(F16:F18,"A")>2,"C",IF(COUNTIF(F16:F18,"A")>0,"P"," ")) | G19: =IF(COUNTIF(G16:G18,"A")>2,"C",IF(COUNTIF(G16:G18,"A")>0,"P"," ")) | H19: =IF(COUNTIF(H16:H18,"A")>2,"C",IF(COUNTIF(H16:H18,"A")>0,"P"," ")) | I19: =IF(COUNTIF(I16:I18,"A")>2,"C",IF(COUNTIF(I16:I18,"A")>0,"P"," ")) | J19: =IF(COUNTIF(J16:J18,"A")>2,"C",IF(COUNTIF(J16:J18,"A")>0,"P"," ")) | K19: =IF(COUNTIF(K16:K18,"A")>2,"C",IF(COUNTIF(K16:K18,"A")>0,"P"," ")) | ... AG19: =IF(COUNTIF(AG16:AG18,"A")>2,"C",IF(COUNTIF(AG16:AG18,"A")>0,"P"," "))
A21: It's Your Story -- Tell It!
A22: 5 Flowers, 4 Stories, 3 Cheers for Animals!
C24: Birdbath Award
C25: Red Robin Award
C26: Tula Award
C27: Status: (P)artial or (C)omplete | D27: =IF(COUNTIF(D24:D26,"A")>2,"C",IF(COUNTIF(D24:D26,"A")>0,"P"," ")) | E27: =IF(COUNTIF(E24:E26,"A")>2,"C",IF(COUNTIF(E24:E26,"A")>0,"P"," ")) | F27: =IF(COUNTIF(F24:F26,"A")>2,"C",IF(COUNTIF(F24:F26,"A")>0,"P"," ")) | G27: =IF(COUNTIF(G24:G26,"A")>2,"C",IF(COUNTIF(G24:G26,"A")>0,"P"," ")) | H27: =IF(COUNTIF(H24:H26,"A")>2,"C",IF(COUNTIF(H24:H26,"A")>0,"P"," ")) | I27: =IF(COUNTIF(I24:I26,"A")>2,"C",IF(COUNTIF(I24:I26,"A")>0,"P"," ")) | J27: =IF(COUNTIF(J24:J26,"A")>2,"C",IF(COUNTIF(J24:J26,"A")>0,"P"," ")) | K27: =IF(COUNTIF(K24:K26,"A")>2,"C",IF(COUNTIF(K24:K26,"A")>0,"P"," ")) | ... AG27: =IF(COUNTIF(AG24:AG26,"A")>2,"C",IF(COUNTIF(AG24:AG26,"A")>0,"P"," "))

Sheet Bridging
B1: Service Unit | C1: =Instructions!E3 -> 0 | D1: ='Daisy 1'!$A1 -> Daisy 1 | E1: ='Daisy 2'!$A1 -> Daisy 2 | F1: ='Daisy 3'!$A1 -> Daisy 3 | G1: ='Daisy 4'!$A1 -> Daisy 4 | H1: ='Daisy 5'!$A1 -> Daisy 5 | I1: ='Daisy 6'!$A1 -> Daisy 6 | J1: ='Daisy 7'!$A1 -> Daisy 7 | K1: ='Daisy 8'!$A1 -> Daisy 8 | L1: ='Daisy 9'!$A1 -> Daisy 9 | M1: ='Daisy 10'!$A1 -> Daisy 10 | N1: ='Daisy 11'!$A1 -> Daisy 11 | O1: ='Daisy 12'!$A1 -> Daisy 12 | P1: ='Daisy 13'!$A1 -> Daisy 13 | Q1: ='Daisy 14'!$A1 -> Daisy 14 | R1: ='Daisy 15'!$A1 -> Daisy 15 | S1: ='Daisy 16'!$A1 -> Daisy 16 | T1: ='Daisy 17'!$A1 -> Daisy 17 | U1: ='Daisy 18'!$A1 -> Daisy 18 | V1: ='Daisy 19'!$A1 -> Daisy 19 | W1: ='Daisy 20'!$A1 -> Daisy 20 | X1: ='Daisy 21'!$A1 -> Daisy 21 | Y1: ='Daisy 22'!$A1 -> Daisy 22 | Z1: ='Daisy 23'!$A1 -> Daisy 23 | AA1: ='Daisy 24'!$A1 -> Daisy 24 | AB1: ='Daisy 25'!$A1 -> Daisy 25 | AC1: ='Daisy 26'!$A1 -> Daisy 26 | AD1: ='Daisy 27'!$A1 -> Daisy 27 | AE1: ='Daisy 28'!$A1 -> Daisy 28 | AF1: ='Daisy 29'!$A1 -> Daisy 29 | AG1: ='Daisy 30'!$A1 -> Daisy 30
B2: Troop | C2: =Instructions!E5 -> 0
A4: Enter A for credit
B6: Pass It On
B7: 1 | C7: Teach younger girls the GS Promise
B8: 2 | C8: Tell younger girls about the Flower
B9: 3 | C9: Play a game together!
D10: =IF(COUNTIF(D7:D9,"A")>=1,"C",IF(COUNTIF(D7:D9,"A")>0,"P"," ")) | E10: =IF(COUNTIF(E7:E9,"A")>=1,"C",IF(COUNTIF(E7:E9,"A")>0,"P"," ")) | F10: =IF(COUNTIF(F7:F9,"A")>=1,"C",IF(COUNTIF(F7:F9,"A")>0,"P"," ")) | G10: =IF(COUNTIF(G7:G9,"A")>=1,"C",IF(COUNTIF(G7:G9,"A")>0,"P"," ")) | H10: =IF(COUNTIF(H7:H9,"A")>=1,"C",IF(COUNTIF(H7:H9,"A")>0,"P"," ")) | I10: =IF(COUNTIF(I7:I9,"A")>=1,"C",IF(COUNTIF(I7:I9,"A")>0,"P"," ")) | J10: =IF(COUNTIF(J7:J9,"A")>=1,"C",IF(COUNTIF(J7:J9,"A")>0,"P"," ")) | K10: =IF(COUNTIF(K7:K9,"A")>=1,"C",IF(COUNTIF(K7:K9,"A")>0,"P"," ")) | ... AG10: =IF(COUNTIF(AG7:AG9,"A")>=1,"C",IF(COUNTIF(AG7:AG9,"A")>0,"P"," "))
B11: Look Ahead
B12: 1 | C12: Say the Girl Scout Promise together.
B13: 2 | C13: Ask the Brownies to teach you
B14: 3 | C14: Ask the Brownies to show you
D15: =IF(COUNTIF(D12:D14,"A")>=1,"C",IF(COUNTIF(D12:D14,"A")>0,"P"," ")) | E15: =IF(COUNTIF(E12:E14,"A")>=1,"C",IF(COUNTIF(E12:E14,"A")>0,"P"," ")) | F15: =IF(COUNTIF(F12:F14,"A")>=1,"C",IF(COUNTIF(F12:F14,"A")>0,"P"," ")) | G15: =IF(COUNTIF(G12:G14,"A")>=1,"C",IF(COUNTIF(G12:G14,"A")>0,"P"," ")) | H15: =IF(COUNTIF(H12:H14,"A")>=1,"C",IF(COUNTIF(H12:H14,"A")>0,"P"," ")) | I15: =IF(COUNTIF(I12:I14,"A")>=1,"C",IF(COUNTIF(I12:I14,"A")>0,"P"," ")) | J15: =IF(COUNTIF(J12:J14,"A")>=1,"C",IF(COUNTIF(J12:J14,"A")>0,"P"," ")) | K15: =IF(COUNTIF(K12:K14,"A")>=1,"C",IF(COUNTIF(K12:K14,"A")>0,"P"," ")) | ... AG15: =IF(COUNTIF(AG12:AG14,"A")>=1,"C",IF(COUNTIF(AG12:AG14,"A")>0,"P"," "))
C16: Plan a Ceremony
D17: =IF(COUNTIF(D16:D16,"A")=1,"C",IF(COUNTIF(D16:D16,"A")>0,"P"," ")) | E17: =IF(COUNTIF(E16:E16,"A")=1,"C",IF(COUNTIF(E16:E16,"A")>0,"P"," ")) | F17: =IF(COUNTIF(F16:F16,"A")=1,"C",IF(COUNTIF(F16:F16,"A")>0,"P"," ")) | G17: =IF(COUNTIF(G16:G16,"A")=1,"C",IF(COUNTIF(G16:G16,"A")>0,"P"," ")) | H17: =IF(COUNTIF(H16:H16,"A")=1,"C",IF(COUNTIF(H16:H16,"A")>0,"P"," ")) | I17: =IF(COUNTIF(I16:I16,"A")=1,"C",IF(COUNTIF(I16:I16,"A")>0,"P"," ")) | J17: =IF(COUNTIF(J16:J16,"A")=1,"C",IF(COUNTIF(J16:J16,"A")>0,"P"," ")) | K17: =IF(COUNTIF(K16:K16,"A")=1,"C",IF(COUNTIF(K16:K16,"A")>0,"P"," ")) | ... AG17: =IF(COUNTIF(AG16:AG16,"A")=1,"C",IF(COUNTIF(AG16:AG16,"A")>0,"P"," "))
C18: Status: (P)artial or (C)omplete | D18: =IF(COUNTIF(D7:D17,"C")=3,"C",IF(COUNTIF(D7:D17,"C")>0,"P"," ")) | E18: =IF(COUNTIF(E7:E17,"C")=3,"C",IF(COUNTIF(E7:E17,"C")>0,"P"," ")) | F18: =IF(COUNTIF(F7:F17,"C")=3,"C",IF(COUNTIF(F7:F17,"C")>0,"P"," ")) | G18: =IF(COUNTIF(G7:G17,"C")=3,"C",IF(COUNTIF(G7:G17,"C")>0,"P"," ")) | H18: =IF(COUNTIF(H7:H17,"C")=3,"C",IF(COUNTIF(H7:H17,"C")>0,"P"," ")) | I18: =IF(COUNTIF(I7:I17,"C")=3,"C",IF(COUNTIF(I7:I17,"C")>0,"P"," ")) | J18: =IF(COUNTIF(J7:J17,"C")=3,"C",IF(COUNTIF(J7:J17,"C")>0,"P"," ")) | K18: =IF(COUNTIF(K7:K17,"C")=3,"C",IF(COUNTIF(K7:K17,"C")>0,"P"," ")) | ... AG18: =IF(COUNTIF(AG7:AG17,"C")=3,"C",IF(COUNTIF(AG7:AG17,"C")>0,"P"," "))

Sheet Age-Level
B1: Service Unit | C1: =Instructions!E3 -> 0 | D1: ='Daisy 1'!$A1 -> Daisy 1 | E1: ='Daisy 2'!$A1 -> Daisy 2 | F1: ='Daisy 3'!$A1 -> Daisy 3 | G1: ='Daisy 4'!$A1 -> Daisy 4 | H1: ='Daisy 5'!$A1 -> Daisy 5 | I1: ='Daisy 6'!$A1 -> Daisy 6 | J1: ='Daisy 7'!$A1 -> Daisy 7 | K1: ='Daisy 8'!$A1 -> Daisy 8 | L1: ='Daisy 9'!$A1 -> Daisy 9 | M1: ='Daisy 10'!$A1 -> Daisy 10 | N1: ='Daisy 11'!$A1 -> Daisy 11 | O1: ='Daisy 12'!$A1 -> Daisy 12 | P1: ='Daisy 13'!$A1 -> Daisy 13 | Q1: ='Daisy 14'!$A1 -> Daisy 14 | R1: ='Daisy 15'!$A1 -> Daisy 15 | S1: ='Daisy 16'!$A1 -> Daisy 16 | T1: ='Daisy 17'!$A1 -> Daisy 17 | U1: ='Daisy 18'!$A1 -> Daisy 18 | V1: ='Daisy 19'!$A1 -> Daisy 19 | W1: ='Daisy 20'!$A1 -> Daisy 20 | X1: ='Daisy 21'!$A1 -> Daisy 21 | Y1: ='Daisy 22'!$A1 -> Daisy 22 | Z1: ='Daisy 23'!$A1 -> Daisy 23 | AA1: ='Daisy 24'!$A1 -> Daisy 24 | AB1: ='Daisy 25'!$A1 -> Daisy 25 | AC1: ='Daisy 26'!$A1 -> Daisy 26 | AD1: ='Daisy 27'!$A1 -> Daisy 27 | AE1: ='Daisy 28'!$A1 -> Daisy 28 | AF1: ='Daisy 29'!$A1 -> Daisy 29 | AG1: ='Daisy 30'!$A1 -> Daisy 30
B2: Troop | C2: =Instructions!E5 -> 0
B4: Enter A for credit
B5: Cookies | D5: www.girlscouts.org/cookies
C6: Cookie Rally (Year 1)
C7: Cookie Sales (Year 1)
C8: Cookie Pin (Year 1)
C9: Cookie Rally (Year 2)
C10: Cookie Sales (Year 2)
C11: Cookie Pin (Year 2)
B12: Fall Sales
C13: Fall Sales (Year 1)
C14: Fall Sales (Year 2)
B15: Thinking Day | D15: www.girlscouts.org/world_thinking_day
C16: Thinking Day (Year 1)
C17: Thinking Day (Year 2)
B18: Investiture and Rededication
C19: Investiture
C20: Rededication (1st year)
B21: My Promise, My Faith (Year 1)
B22: 1 | C22: Choose one line from the Law
B23: 2 | C23: Find a woman in your community
B24: 3 | C24: Gather three inspirational quotes
B25: 4 | C25: Make something to remind you
B26: 5 | C26: Keep the connection strong.
C27: Status: (P)artial or (C)omplete | D27: =IF(COUNTIF(D22:D26,"A")>4,"C",IF(COUNTIF(D22:D26,"A")>0,"P"," ")) | E27: =IF(COUNTIF(E22:E26,"A")>4,"C",IF(COUNTIF(E22:E26,"A")>0,"P"," ")) | F27: =IF(COUNTIF(F22:F26,"A")>4,"C",IF(COUNTIF(F22:F26,"A")>0,"P"," ")) | G27: =IF(COUNTIF(G22:G26,"A")>4,"C",IF(COUNTIF(G22:G26,"A")>0,"P"," ")) | H27: =IF(COUNTIF(H22:H26,"A")>4,"C",IF(COUNTIF(H22:H26,"A")>0,"P"," ")) | I27: =IF(COUNTIF(I22:I26,"A")>4,"C",IF(COUNTIF(I22:I26,"A")>0,"P"," ")) | J27: =IF(COUNTIF(J22:J26,"A")>4,"C",IF(COUNTIF(J22:J26,"A")>0,"P"," ")) | K27: =IF(COUNTIF(K22:K26,"A")>4,"C",IF(COUNTIF(K22:K26,"A")>0,"P"," ")) | ... AG27: =IF(COUNTIF(AG22:AG26,"A")>4,"C",IF(COUNTIF(AG22:AG26,"A")>0,"P"," "))
B28: My Promise, My Faith (Year 2)
B29: 1 | C29: Choose one line from the Law
B30: 2 | C30: Find a woman in your community
B31: 3 | C31: Gather three inspirational quotes
B32: 4 | C32: Make something to remind you
B33: 5 | C33: Keep the connection strong.
C34: Status: (P)artial or (C)omplete | D34: =IF(COUNTIF(D29:D33,"A")>4,"C",IF(COUNTIF(D29:D33,"A")>0,"P"," ")) | E34: =IF(COUNTIF(E29:E33,"A")>4,"C",IF(COUNTIF(E29:E33,"A")>0,"P"," ")) | F34: =IF(COUNTIF(F29:F33,"A")>4,"C",IF(COUNTIF(F29:F33,"A")>0,"P"," ")) | G34: =IF(COUNTIF(G29:G33,"A")>4,"C",IF(COUNTIF(G29:G33,"A")>0,"P"," ")) | H34: =IF(COUNTIF(H29:H33,"A")>4,"C",IF(COUNTIF(H29:H33,"A")>0,"P"," ")) | I34: =IF(COUNTIF(I29:I33,"A")>4,"C",IF(COUNTIF(I29:I33,"A")>0,"P"," ")) | J34: =IF(COUNTIF(J29:J33,"A")>4,"C",IF(COUNTIF(J29:J33,"A")>0,"P"," ")) | K34: =IF(COUNTIF(K29:K33,"A")>4,"C",IF(COUNTIF(K29:K33,"A")>0,"P"," ")) | ... AG34: =IF(COUNTIF(AG29:AG33,"A")>4,"C",IF(COUNTIF(AG29:AG33,"A")>0,"P"," "))
B35: Global Action Award | D35: www.girlscouts.org/global_action_award
C36: Global Action Award
B37: Journey Summit Pin
C38: Journey Summit Pin | D38: =IF(COUNTIF('Journey Awards'!D11:'Journey Awards'!D27,"C")=3,"C",IF(COUNTIF('Journey Awards'!D11:'Journey Awards'!D27,"C")>0,"P"," ")) | E38: =IF(COUNTIF('Journey Awards'!E11:'Journey Awards'!E27,"C")=3,"C",IF(COUNTIF('Journey Awards'!E11:'Journey Awards'!E27,"C")>0,"P"," ")) | F38: =IF(COUNTIF('Journey Awards'!F11:'Journey Awards'!F27,"C")=3,"C",IF(COUNTIF('Journey Awards'!F11:'Journey Awards'!F27,"C")>0,"P"," ")) | G38: =IF(COUNTIF('Journey Awards'!G11:'Journey Awards'!G27,"C")=3,"C",IF(COUNTIF('Journey Awards'!G11:'Journey Awards'!G27,"C")>0,"P"," ")) | H38: =IF(COUNTIF('Journey Awards'!H11:'Journey Awards'!H27,"C")=3,"C",IF(COUNTIF('Journey Awards'!H11:'Journey Awards'!H27,"C")>0,"P"," ")) | I38: =IF(COUNTIF('Journey Awards'!I11:'Journey Awards'!I27,"C")=3,"C",IF(COUNTIF('Journey Awards'!I11:'Journey Awards'!I27,"C")>0,"P"," ")) | J38: =IF(COUNTIF('Journey Awards'!J11:'Journey Awards'!J27,"C")=3,"C",IF(COUNTIF('Journey Awards'!J11:'Journey Awards'!J27,"C")>0,"P"," ")) | K38: =IF(COUNTIF('Journey Awards'!K11:'Journey Awards'!K27,"C")=3,"C",IF(COUNTIF('Journey Awards'!K11:'Journey Awards'!K27,"C")>0,"P"," ")) | ... AG38: =IF(COUNTIF('Journey Awards'!AG11:'Journey Awards'!AG27,"C")=3,"C",IF(COUNTIF('Journey Awards'!AG11:'Journey Awards'!AG27,"C")>0,"P"," "))
B39: Safety Award
B40: 1 | C40: Understand what to do
B41: 2 | C41: Find out what you should do
B42: 3 | C42: Learn how to do
C43: Status: (P)artial or (C)omplete | D43: =IF(COUNTIF(D40:D42,"A")=3,"C",IF(COUNTIF(D40:D42,"A")>0,"P"," ")) | E43: =IF(COUNTIF(E40:E42,"A")=3,"C",IF(COUNTIF(E40:E42,"A")>0,"P"," ")) | F43: =IF(COUNTIF(F40:F42,"A")=3,"C",IF(COUNTIF(F40:F42,"A")>0,"P"," ")) | G43: =IF(COUNTIF(G40:G42,"A")=3,"C",IF(COUNTIF(G40:G42,"A")>0,"P"," ")) | H43: =IF(COUNTIF(H40:H42,"A")=3,"C",IF(COUNTIF(H40:H42,"A")>0,"P"," ")) | I43: =IF(COUNTIF(I40:I42,"A")=3,"C",IF(COUNTIF(I40:I42,"A")>0,"P"," ")) | J43: =IF(COUNTIF(J40:J42,"A")=3,"C",IF(COUNTIF(J40:J42,"A")>0,"P"," ")) | K43: =IF(COUNTIF(K40:K42,"A")=3,"C",IF(COUNTIF(K40:K42,"A")>0,"P"," ")) | ... AG43: =IF(COUNTIF(AG40:AG42,"A")=3,"C",IF(COUNTIF(AG40:AG42,"A")>0,"P"," "))

Sheet Fun Patches
B1: Service Unit | C1: =Instructions!E3 -> 0 | D1: ='Daisy 1'!$A1 -> Daisy 1 | E1: ='Daisy 2'!$A1 -> Daisy 2 | F1: ='Daisy 3'!$A1 -> Daisy 3 | G1: ='Daisy 4'!$A1 -> Daisy 4 | H1: ='Daisy 5'!$A1 -> Daisy 5 | I1: ='Daisy 6'!$A1 -> Daisy 6 | J1: ='Daisy 7'!$A1 -> Daisy 7 | K1: ='Daisy 8'!$A1 -> Daisy 8 | L1: ='Daisy 9'!$A1 -> Daisy 9 | M1: ='Daisy 10'!$A1 -> Daisy 10 | N1: ='Daisy 11'!$A1 -> Daisy 11 | O1: ='Daisy 12'!$A1 -> Daisy 12 | P1: ='Daisy 13'!$A1 -> Daisy 13 | Q1: ='Daisy 14'!$A1 -> Daisy 14 | R1: ='Daisy 15'!$A1 -> Daisy 15 | S1: ='Daisy 16'!$A1 -> Daisy 16 | T1: ='Daisy 17'!$A1 -> Daisy 17 | U1: ='Daisy 18'!$A1 -> Daisy 18 | V1: ='Daisy 19'!$A1 -> Daisy 19 | W1: ='Daisy 20'!$A1 -> Daisy 20 | X1: ='Daisy 21'!$A1 -> Daisy 21 | Y1: ='Daisy 22'!$A1 -> Daisy 22 | Z1: ='Daisy 23'!$A1 -> Daisy 23 | AA1: ='Daisy 24'!$A1 -> Daisy 24 | AB1: ='Daisy 25'!$A1 -> Daisy 25 | AC1: ='Daisy 26'!$A1 -> Daisy 26 | AD1: ='Daisy 27'!$A1 -> Daisy 27 | AE1: ='Daisy 28'!$A1 -> Daisy 28 | AF1: ='Daisy 29'!$A1 -> Daisy 29 | AG1: ='Daisy 30'!$A1 -> Daisy 30
B2: Troop | C2: =Instructions!E5 -> 0
B4: Enter A for credit
C5: <List Patch Here>
C6: <List Patch Here>
C7: <List Patch Here>
C8: <List Patch Here>
C9: <List Patch Here>
C10: <List Patch Here>
C11: <List Patch Here>
C12: <List Patch Here>
C13: <List Patch Here>
C14: <List Patch Here>
C15: <List Patch Here>
C16: <List Patch Here>
... C44: <List Patch Here>

Sheet Summary
A1: Summary Page | B1: ='Daisy 1'!$A$1 -> Daisy 1 | D1: ='Daisy 2'!$A$1 -> Daisy 2 | F1: ='Daisy 3'!$A$1 -> Daisy 3 | H1: ='Daisy 4'!$A$1 -> Daisy 4 | J1: ='Daisy 5'!$A$1 -> Daisy 5 | L1: ='Daisy 6'!$A$1 -> Daisy 6 | N1: ='Daisy 7'!$A$1 -> Daisy 7 | P1: ='Daisy 8'!$A$1 -> Daisy 8 | R1: ='Daisy 9'!$A$1 -> Daisy 9 | T1: ='Daisy 10'!$A$1 -> Daisy 10 | V1: ='Daisy 11'!$A$1 -> Daisy 11 | X1: ='Daisy 12'!$A$1 -> Daisy 12 | Z1: ='Daisy 13'!$A$1 -> Daisy 13 | AB1: ='Daisy 14'!$A$1 -> Daisy 14 | AD1: ='Daisy 15'!$A$1 -> Daisy 15 | AF1: ='Daisy 16'!$A$1 -> Daisy 16 | AH1: ='Daisy 17'!$A$1 -> Daisy 17 | AJ1: ='Daisy 18'!$A$1 -> Daisy 18 | AL1: ='Daisy 19'!$A$1 -> Daisy 19 | AN1: ='Daisy 20'!$A$1 -> Daisy 20 | AP1: ='Daisy 21'!$A$1 -> Daisy 21 | AR1: ='Daisy 22'!$A$1 -> Daisy 22 | AT1: ='Daisy 23'!$A$1 -> Daisy 23 | AV1: ='Daisy 24'!$A$1 -> Daisy 24 | AX1: ='Daisy 25'!$A$1 -> Daisy 25 | AZ1: ='Daisy 26'!$A$1 -> Daisy 26 | BB1: ='Daisy 27'!$A$1 -> Daisy 27 | BD1: ='Daisy 28'!$A$1 -> Daisy 28 | BF1: ='Daisy 29'!$A$1 -> Daisy 29 | BH1: ='Daisy 30'!$A$1 -> Daisy 30
A2: Enter Y for yes when you have presented the award | B2: Earned | C2: Awarded | D2: Earned | E2: Awarded | F2: Earned | G2: Awarded | H2: Earned | I2: Awarded | J2: Earned | K2: Awarded | L2: Earned | M2: Awarded | N2: Earned | O2: Awarded | P2: Earned | Q2: Awarded | R2: Earned | S2: Awarded | T2: Earned | U2: Awarded | V2: Earned | W2: Awarded | X2: Earned | Y2: Awarded | Z2: Earned | AA2: Awarded | AB2: Earned | AC2: Awarded | AD2: Earned | AE2: Awarded | AF2: Earned | AG2: Awarded | AH2: Earned | AI2: Awarded | AJ2: Earned | AK2: Awarded | AL2: Earned | AM2: Awarded | AN2: Earned | AO2: Awarded | AP2: Earned | AQ2: Awarded | AR2: Earned | AS2: Awarded | AT2: Earned | AU2: Awarded | AV2: Earned | AW2: Awarded | AX2: Earned | AY2: Awarded | AZ2: Earned | BA2: Awarded | BB2: Earned | BC2: Awarded | BD2: Earned | BE2: Awarded | BF2: Earned | BG2: Awarded | BH2: Earned | BI2: Awarded
A3: =Petals!A5 -> Center Petal
A4: =Petals!B6 -> Center | B4: =IF(Petals!D6="A","E","") | D4: =IF(Petals!E6="A","E","") | F4: =IF(Petals!F6="A","E","") | H4: =IF(Petals!G6="A","E","") | J4: =IF(Petals!H6="A","E","") | L4: =IF(Petals!I6="A","E","") | N4: =IF(Petals!J6="A","E","") | P4: =IF(Petals!K6="A","E","") | R4: =IF(Petals!L6="A","E","") | T4: =IF(Petals!M6="A","E","") | V4: =IF(Petals!N6="A","E","") | X4: =IF(Petals!O6="A","E","") | Z4: =IF(Petals!P6="A","E","") | AB4: =IF(Petals!Q6="A","E","") | AD4: =IF(Petals!R6="A","E","") | AF4: =IF(Petals!S6="A","E","") | AH4: =IF(Petals!T6="A","E","") | AJ4: =IF(Petals!U6="A","E","") | AL4: =IF(Petals!V6="A","E","") | AN4: =IF(Petals!W6="A","E","") | AP4: =IF(Petals!X6="A","E","") | AR4: =IF(Petals!Y6="A","E","") | AT4: =IF(Petals!Z6="A","E","") | AV4: =IF(Petals!AA6="A","E","") | AX4: =IF(Petals!AB6="A","E","") | AZ4: =IF(Petals!AC6="A","E","") | BB4: =IF(Petals!AD6="A","E","") | BD4: =IF(Petals!AE6="A","E","") | BF4: =IF(Petals!AF6="A","E","") | BH4: =IF(Petals!AG6="A","E","")
A5: =Petals!A7 -> Petals
A6: =Petals!B8 -> Lupe | B6: =IF(Petals!D8="A","E","") | D6: =IF(Petals!E8="A","E","") | F6: =IF(Petals!F8="A","E","") | H6: =IF(Petals!G8="A","E","") | J6: =IF(Petals!H8="A","E","") | L6: =IF(Petals!I8="A","E","") | N6: =IF(Petals!J8="A","E","") | P6: =IF(Petals!K8="A","E","") | R6: =IF(Petals!L8="A","E","") | T6: =IF(Petals!M8="A","E","") | V6: =IF(Petals!N8="A","E","") | X6: =IF(Petals!O8="A","E","") | Z6: =IF(Petals!P8="A","E","") | AB6: =IF(Petals!Q8="A","E","") | AD6: =IF(Petals!R8="A","E","") | AF6: =IF(Petals!S8="A","E","") | AH6: =IF(Petals!T8="A","E","") | AJ6: =IF(Petals!U8="A","E","") | AL6: =IF(Petals!V8="A","E","") | AN6: =IF(Petals!W8="A","E","") | AP6: =IF(Petals!X8="A","E","") | AR6: =IF(Petals!Y8="A","E","") | AT6: =IF(Petals!Z8="A","E","") | AV6: =IF(Petals!AA8="A","E","") | AX6: =IF(Petals!AB8="A","E","") | AZ6: =IF(Petals!AC8="A","E","") | BB6: =IF(Petals!AD8="A","E","") | BD6: =IF(Petals!AE8="A","E","") | BF6: =IF(Petals!AF8="A","E","") | BH6: =IF(Petals!AG8="A","E","")
A7: =Petals!B9 -> Sunny | B7: =IF(Petals!D9="A","E","") | D7: =IF(Petals!E9="A","E","") | F7: =IF(Petals!F9="A","E","") | H7: =IF(Petals!G9="A","E","") | J7: =IF(Petals!H9="A","E","") | L7: =IF(Petals!I9="A","E","") | N7: =IF(Petals!J9="A","E","") | P7: =IF(Petals!K9="A","E","") | R7: =IF(Petals!L9="A","E","") | T7: =IF(Petals!M9="A","E","") | V7: =IF(Petals!N9="A","E","") | X7: =IF(Petals!O9="A","E","") | Z7: =IF(Petals!P9="A","E","") | AB7: =IF(Petals!Q9="A","E","") | AD7: =IF(Petals!R9="A","E","") | AF7: =IF(Petals!S9="A","E","") | AH7: =IF(Petals!T9="A","E","") | AJ7: =IF(Petals!U9="A","E","") | AL7: =IF(Petals!V9="A","E","") | AN7: =IF(Petals!W9="A","E","") | AP7: =IF(Petals!X9="A","E","") | AR7: =IF(Petals!Y9="A","E","") | AT7: =IF(Petals!Z9="A","E","") | AV7: =IF(Petals!AA9="A","E","") | AX7: =IF(Petals!AB9="A","E","") | AZ7: =IF(Petals!AC9="A","E","") | BB7: =IF(Petals!AD9="A","E","") | BD7: =IF(Petals!AE9="A","E","") | BF7: =IF(Petals!AF9="A","E","") | BH7: =IF(Petals!AG9="A","E","")
A8: =Petals!B10 -> Zinni | B8: =IF(Petals!D10="A","E","") | D8: =IF(Petals!E10="A","E","") | F8: =IF(Petals!F10="A","E","") | H8: =IF(Petals!G10="A","E","") | J8: =IF(Petals!H10="A","E","") | L8: =IF(Petals!I10="A","E","") | N8: =IF(Petals!J10="A","E","") | P8: =IF(Petals!K10="A","E","") | R8: =IF(Petals!L10="A","E","") | T8: =IF(Petals!M10="A","E","") | V8: =IF(Petals!N10="A","E","") | X8: =IF(Petals!O10="A","E","") | Z8: =IF(Petals!P10="A","E","") | AB8: =IF(Petals!Q10="A","E","") | AD8: =IF(Petals!R10="A","E","") | AF8: =IF(Petals!S10="A","E","") | AH8: =IF(Petals!T10="A","E","") | AJ8: =IF(Petals!U10="A","E","") | AL8: =IF(Petals!V10="A","E","") | AN8: =IF(Petals!W10="A","E","") | AP8: =IF(Petals!X10="A","E","") | AR8: =IF(Petals!Y10="A","E","") | AT8: =IF(Petals!Z10="A","E","") | AV8: =IF(Petals!AA10="A","E","") | AX8: =IF(Petals!AB10="A","E","") | AZ8: =IF(Petals!AC10="A","E","") | BB8: =IF(Petals!AD10="A","E","") | BD8: =IF(Petals!AE10="A","E","") | BF8: =IF(Petals!AF10="A","E","") | BH8: =IF(Petals!AG10="A","E","")
A9: =Petals!B11 -> Tula | B9: =IF(Petals!D11="A","E","") | D9: =IF(Petals!E11="A","E","") | F9: =IF(Petals!F11="A","E","") | H9: =IF(Petals!G11="A","E","") | J9: =IF(Petals!H11="A","E","") | L9: =IF(Petals!I11="A","E","") | N9: =IF(Petals!J11="A","E","") | P9: =IF(Petals!K11="A","E","") | R9: =IF(Petals!L11="A","E","") | T9: =IF(Petals!M11="A","E","") | V9: =IF(Petals!N11="A","E","") | X9: =IF(Petals!O11="A","E","") | Z9: =IF(Petals!P11="A","E","") | AB9: =IF(Petals!Q11="A","E","") | AD9: =IF(Petals!R11="A","E","") | AF9: =IF(Petals!S11="A","E","") | AH9: =IF(Petals!T11="A","E","") | AJ9: =IF(Petals!U11="A","E","") | AL9: =IF(Petals!V11="A","E","") | AN9: =IF(Petals!W11="A","E","") | AP9: =IF(Petals!X11="A","E","") | AR9: =IF(Petals!Y11="A","E","") | AT9: =IF(Petals!Z11="A","E","") | AV9: =IF(Petals!AA11="A","E","") | AX9: =IF(Petals!AB11="A","E","") | AZ9: =IF(Petals!AC11="A","E","") | BB9: =IF(Petals!AD11="A","E","") | BD9: =IF(Petals!AE11="A","E","") | BF9: =IF(Petals!AF11="A","E","") | BH9: =IF(Petals!AG11="A","E","")
A10: =Petals!B12 -> Mari | B10: =IF(Petals!D12="A","E","") | D10: =IF(Petals!E12="A","E","") | F10: =IF(Petals!F12="A","E","") | H10: =IF(Petals!G12="A","E","") | J10: =IF(Petals!H12="A","E","") | L10: =IF(Petals!I12="A","E","") | N10: =IF(Petals!J12="A","E","") | P10: =IF(Petals!K12="A","E","") | R10: =IF(Petals!L12="A","E","") | T10: =IF(Petals!M12="A","E","") | V10: =IF(Petals!N12="A","E","") | X10: =IF(Petals!O12="A","E","") | Z10: =IF(Petals!P12="A","E","") | AB10: =IF(Petals!Q12="A","E","") | AD10: =IF(Petals!R12="A","E","") | AF10: =IF(Petals!S12="A","E","") | AH10: =IF(Petals!T12="A","E","") | AJ10: =IF(Petals!U12="A","E","") | AL10: =IF(Petals!V12="A","E","") | AN10: =IF(Petals!W12="A","E","") | AP10: =IF(Petals!X12="A","E","") | AR10: =IF(Petals!Y12="A","E","") | AT10: =IF(Petals!Z12="A","E","") | AV10: =IF(Petals!AA12="A","E","") | AX10: =IF(Petals!AB12="A","E","") | AZ10: =IF(Petals!AC12="A","E","") | BB10: =IF(Petals!AD12="A","E","") | BD10: =IF(Petals!AE12="A","E","") | BF10: =IF(Petals!AF12="A","E","") | BH10: =IF(Petals!AG12="A","E","")
A11: =Petals!B13 -> Gloria | B11: =IF(Petals!D13="A","E","") | D11: =IF(Petals!E13="A","E","") | F11: =IF(Petals!F13="A","E","") | H11: =IF(Petals!G13="A","E","") | J11: =IF(Petals!H13="A","E","") | L11: =IF(Petals!I13="A","E","") | N11: =IF(Petals!J13="A","E","") | P11: =IF(Petals!K13="A","E","") | R11: =IF(Petals!L13="A","E","") | T11: =IF(Petals!M13="A","E","") | V11: =IF(Petals!N13="A","E","") | X11: =IF(Petals!O13="A","E","") | Z11: =IF(Petals!P13="A","E","") | AB11: =IF(Petals!Q13="A","E","") | AD11: =IF(Petals!R13="A","E","") | AF11: =IF(Petals!S13="A","E","") | AH11: =IF(Petals!T13="A","E","") | AJ11: =IF(Petals!U13="A","E","") | AL11: =IF(Petals!V13="A","E","") | AN11: =IF(Petals!W13="A","E","") | AP11: =IF(Petals!X13="A","E","") | AR11: =IF(Petals!Y13="A","E","") | AT11: =IF(Petals!Z13="A","E","") | AV11: =IF(Petals!AA13="A","E","") | AX11: =IF(Petals!AB13="A","E","") | AZ11: =IF(Petals!AC13="A","E","") | BB11: =IF(Petals!AD13="A","E","") | BD11: =IF(Petals!AE13="A","E","") | BF11: =IF(Petals!AF13="A","E","") | BH11: =IF(Petals!AG13="A","E","")
A12: =Petals!B14 -> Gerri | B12: =IF(Petals!D14="A","E","") | D12: =IF(Petals!E14="A","E","") | F12: =IF(Petals!F14="A","E","") | H12: =IF(Petals!G14="A","E","") | J12: =IF(Petals!H14="A","E","") | L12: =IF(Petals!I14="A","E","") | N12: =IF(Petals!J14="A","E","") | P12: =IF(Petals!K14="A","E","") | R12: =IF(Petals!L14="A","E","") | T12: =IF(Petals!M14="A","E","") | V12: =IF(Petals!N14="A","E","") | X12: =IF(Petals!O14="A","E","") | Z12: =IF(Petals!P14="A","E","") | AB12: =IF(Petals!Q14="A","E","") | AD12: =IF(Petals!R14="A","E","") | AF12: =IF(Petals!S14="A","E","") | AH12: =IF(Petals!T14="A","E","") | AJ12: =IF(Petals!U14="A","E","") | AL12: =IF(Petals!V14="A","E","") | AN12: =IF(Petals!W14="A","E","") | AP12: =IF(Petals!X14="A","E","") | AR12: =IF(Petals!Y14="A","E","") | AT12: =IF(Petals!Z14="A","E","") | AV12: =IF(Petals!AA14="A","E","") | AX12: =IF(Petals!AB14="A","E","") | AZ12: =IF(Petals!AC14="A","E","") | BB12: =IF(Petals!AD14="A","E","") | BD12: =IF(Petals!AE14="A","E","") | BF12: =IF(Petals!AF14="A","E","") | BH12: =IF(Petals!AG14="A","E","")
A13: =Petals!B15 -> Clover | B13: =IF(Petals!D15="A","E","") | D13: =IF(Petals!E15="A","E","") | F13: =IF(Petals!F15="A","E","") | H13: =IF(Petals!G15="A","E","") | J13: =IF(Petals!H15="A","E","") | L13: =IF(Petals!I15="A","E","") | N13: =IF(Petals!J15="A","E","") | P13: =IF(Petals!K15="A","E","") | R13: =IF(Petals!L15="A","E","") | T13: =IF(Petals!M15="A","E","") | V13: =IF(Petals!N15="A","E","") | X13: =IF(Petals!O15="A","E","") | Z13: =IF(Petals!P15="A","E","") | AB13: =IF(Petals!Q15="A","E","") | AD13: =IF(Petals!R15="A","E","") | AF13: =IF(Petals!S15="A","E","") | AH13: =IF(Petals!T15="A","E","") | AJ13: =IF(Petals!U15="A","E","") | AL13: =IF(Petals!V15="A","E","") | AN13: =IF(Petals!W15="A","E","") | AP13: =IF(Petals!X15="A","E","") | AR13: =IF(Petals!Y15="A","E","") | AT13: =IF(Petals!Z15="A","E","") | AV13: =IF(Petals!AA15="A","E","") | AX13: =IF(Petals!AB15="A","E","") | AZ13: =IF(Petals!AC15="A","E","") | BB13: =IF(Petals!AD15="A","E","") | BD13: =IF(Petals!AE15="A","E","") | BF13: =IF(Petals!AF15="A","E","") | BH13: =IF(Petals!AG15="A","E","")
A14: =Petals!B16 -> Rosie | B14: =IF(Petals!D16="A","E","") | D14: =IF(Petals!E16="A","E","") | F14: =IF(Petals!F16="A","E","") | H14: =IF(Petals!G16="A","E","") | J14: =IF(Petals!H16="A","E","") | L14: =IF(Petals!I16="A","E","") | N14: =IF(Petals!J16="A","E","") | P14: =IF(Petals!K16="A","E","") | R14: =IF(Petals!L16="A","E","") | T14: =IF(Petals!M16="A","E","") | V14: =IF(Petals!N16="A","E","") | X14: =IF(Petals!O16="A","E","") | Z14: =IF(Petals!P16="A","E","") | AB14: =IF(Petals!Q16="A","E","") | AD14: =IF(Petals!R16="A","E","") | AF14: =IF(Petals!S16="A","E","") | AH14: =IF(Petals!T16="A","E","") | AJ14: =IF(Petals!U16="A","E","") | AL14: =IF(Petals!V16="A","E","") | AN14: =IF(Petals!W16="A","E","") | AP14: =IF(Petals!X16="A","E","") | AR14: =IF(Petals!Y16="A","E","") | AT14: =IF(Petals!Z16="A","E","") | AV14: =IF(Petals!AA16="A","E","") | AX14: =IF(Petals!AB16="A","E","") | AZ14: =IF(Petals!AC16="A","E","") | BB14: =IF(Petals!AD16="A","E","") | BD14: =IF(Petals!AE16="A","E","") | BF14: =IF(Petals!AF16="A","E","") | BH14: =IF(Petals!AG16="A","E","")
A15: =Petals!B17 -> Vi | B15: =IF(Petals!D17="A","E","") | D15: =IF(Petals!E17="A","E","") | F15: =IF(Petals!F17="A","E","") | H15: =IF(Petals!G17="A","E","") | J15: =IF(Petals!H17="A","E","") | L15: =IF(Petals!I17="A","E","") | N15: =IF(Petals!J17="A","E","") | P15: =IF(Petals!K17="A","E","") | R15: =IF(Petals!L17="A","E","") | T15: =IF(Petals!M17="A","E","") | V15: =IF(Petals!N17="A","E","") | X15: =IF(Petals!O17="A","E","") | Z15: =IF(Petals!P17="A","E","") | AB15: =IF(Petals!Q17="A","E","") | AD15: =IF(Petals!R17="A","E","") | AF15: =IF(Petals!S17="A","E","") | AH15: =IF(Petals!T17="A","E","") | AJ15: =IF(Petals!U17="A","E","") | AL15: =IF(Petals!V17="A","E","") | AN15: =IF(Petals!W17="A","E","") | AP15: =IF(Petals!X17="A","E","") | AR15: =IF(Petals!Y17="A","E","") | AT15: =IF(Petals!Z17="A","E","") | AV15: =IF(Petals!AA17="A","E","") | AX15: =IF(Petals!AB17="A","E","") | AZ15: =IF(Petals!AC17="A","E","") | BB15: =IF(Petals!AD17="A","E","") | BD15: =IF(Petals!AE17="A","E","") | BF15: =IF(Petals!AF17="A","E","") | BH15: =IF(Petals!AG17="A","E","")
A16: =Petals!A19 -> Leaves
A17: =Petals!B20 -> Money Counts | B17: =IF(Petals!D23="C","E","") | D17: =IF(Petals!E23="C","E","") | F17: =IF(Petals!F23="C","E","") | H17: =IF(Petals!G23="C","E","") | J17: =IF(Petals!H23="C","E","") | L17: =IF(Petals!I23="C","E","") | N17: =IF(Petals!J23="C","E","") | P17: =IF(Petals!K23="C","E","") | R17: =IF(Petals!L23="C","E","") | T17: =IF(Petals!M23="C","E","") | V17: =IF(Petals!N23="C","E","") | X17: =IF(Petals!O23="C","E","") | Z17: =IF(Petals!P23="C","E","") | AB17: =IF(Petals!Q23="C","E","") | AD17: =IF(Petals!R23="C","E","") | AF17: =IF(Petals!S23="C","E","") | AH17: =IF(Petals!T23="C","E","") | AJ17: =IF(Petals!U23="C","E","") | AL17: =IF(Petals!V23="C","E","") | AN17: =IF(Petals!W23="C","E","") | AP17: =IF(Petals!X23="C","E","") | AR17: =IF(Petals!Y23="C","E","") | AT17: =IF(Petals!Z23="C","E","") | AV17: =IF(Petals!AA23="C","E","") | AX17: =IF(Petals!AB23="C","E","") | AZ17: =IF(Petals!AC23="C","E","") | BB17: =IF(Petals!AD23="C","E","") | BD17: =IF(Petals!AE23="C","E","") | BF17: =IF(Petals!AF23="C","E","") | BH17: =IF(Petals!AG23="C","E","")
A18: =Petals!B25 -> Making Choices | B18: =IF(Petals!D28="C","E","") | D18: =IF(Petals!E28="C","E","") | F18: =IF(Petals!F28="C","E","") | H18: =IF(Petals!G28="C","E","") | J18: =IF(Petals!H28="C","E","") | L18: =IF(Petals!I28="C","E","") | N18: =IF(Petals!J28="C","E","") | P18: =IF(Petals!K28="C","E","") | R18: =IF(Petals!L28="C","E","") | T18: =IF(Petals!M28="C","E","") | V18: =IF(Petals!N28="C","E","") | X18: =IF(Petals!O28="C","E","") | Z18: =IF(Petals!P28="C","E","") | AB18: =IF(Petals!Q28="C","E","") | AD18: =IF(Petals!R28="C","E","") | AF18: =IF(Petals!S28="C","E","") | AH18: =IF(Petals!T28="C","E","") | AJ18: =IF(Petals!U28="C","E","") | AL18: =IF(Petals!V28="C","E","") | AN18: =IF(Petals!W28="C","E","") | AP18: =IF(Petals!X28="C","E","") | AR18: =IF(Petals!Y28="C","E","") | AT18: =IF(Petals!Z28="C","E","") | AV18: =IF(Petals!AA28="C","E","") | AX18: =IF(Petals!AB28="C","E","") | AZ18: =IF(Petals!AC28="C","E","") | BB18: =IF(Petals!AD28="C","E","") | BD18: =IF(Petals!AE28="C","E","") | BF18: =IF(Petals!AF28="C","E","") | BH18: =IF(Petals!AG28="C","E","")
A19: =Petals!B30 -> Count It Up | B19: =IF(Petals!D33="C","E","") | D19: =IF(Petals!E33="C","E","") | F19: =IF(Petals!F33="C","E","") | H19: =IF(Petals!G33="C","E","") | J19: =IF(Petals!H33="C","E","") | L19: =IF(Petals!I33="C","E","") | N19: =IF(Petals!J33="C","E","") | P19: =IF(Petals!K33="C","E","") | R19: =IF(Petals!L33="C","E","") | T19: =IF(Petals!M33="C","E","") | V19: =IF(Petals!N33="C","E","") | X19: =IF(Petals!O33="C","E","") | Z19: =IF(Petals!P33="C","E","") | AB19: =IF(Petals!Q33="C","E","") | AD19: =IF(Petals!R33="C","E","") | AF19: =IF(Petals!S33="C","E","") | AH19: =IF(Petals!T33="C","E","") | AJ19: =IF(Petals!U33="C","E","") | AL19: =IF(Petals!V33="C","E","") | AN19: =IF(Petals!W33="C","E","") | AP19: =IF(Petals!X33="C","E","") | AR19: =IF(Petals!Y33="C","E","") | AT19: =IF(Petals!Z33="C","E","") | AV19: =IF(Petals!AA33="C","E","") | AX19: =IF(Petals!AB33="C","E","") | AZ19: =IF(Petals!AC33="C","E","") | BB19: =IF(Petals!AD33="C","E","") | BD19: =IF(Petals!AE33="C","E","") | BF19: =IF(Petals!AF33="C","E","") | BH19: =IF(Petals!AG33="C","E","")
A20: =Petals!B35 -> Talk It Up | B20: =IF(Petals!D38="C","E","") | D20: =IF(Petals!E38="C","E","") | F20: =IF(Petals!F38="C","E","") | H20: =IF(Petals!G38="C","E","") | J20: =IF(Petals!H38="C","E","") | L20: =IF(Petals!I38="C","E","") | N20: =IF(Petals!J38="C","E","") | P20: =IF(Petals!K38="C","E","") | R20: =IF(Petals!L38="C","E","") | T20: =IF(Petals!M38="C","E","") | V20: =IF(Petals!N38="C","E","") | X20: =IF(Petals!O38="C","E","") | Z20: =IF(Petals!P38="C","E","") | AB20: =IF(Petals!Q38="C","E","") | AD20: =IF(Petals!R38="C","E","") | AF20: =IF(Petals!S38="C","E","") | AH20: =IF(Petals!T38="C","E","") | AJ20: =IF(Petals!U38="C","E","") | AL20: =IF(Petals!V38="C","E","") | AN20: =IF(Petals!W38="C","E","") | AP20: =IF(Petals!X38="C","E","") | AR20: =IF(Petals!Y38="C","E","") | AT20: =IF(Petals!Z38="C","E","") | AV20: =IF(Petals!AA38="C","E","") | AX20: =IF(Petals!AB38="C","E","") | AZ20: =IF(Petals!AC38="C","E","") | BB20: =IF(Petals!AD38="C","E","") | BD20: =IF(Petals!AE38="C","E","") | BF20: =IF(Petals!AF38="C","E","") | BH20: =IF(Petals!AG38="C","E","")
A21: Journey Awards
A22: ='Journey Awards'!A6 -> Welcome to the Daisy Flower Garden
A23: ='Journey Awards'!C8 -> The Watering Can Award | B23: =IF('Journey Awards'!D8="A","E","") | D23: =IF('Journey Awards'!E8="A","E","") | F23: =IF('Journey Awards'!F8="A","E","") | H23: =IF('Journey Awards'!G8="A","E","") | J23: =IF('Journey Awards'!H8="A","E","") | L23: =IF('Journey Awards'!I8="A","E","") | N23: =IF('Journey Awards'!J8="A","E","") | P23: =IF('Journey Awards'!K8="A","E","") | R23: =IF('Journey Awards'!L8="A","E","") | T23: =IF('Journey Awards'!M8="A","E","") | V23: =IF('Journey Awards'!N8="A","E","") | X23: =IF('Journey Awards'!O8="A","E","") | Z23: =IF('Journey Awards'!P8="A","E","") | AB23: =IF('Journey Awards'!Q8="A","E","") | AD23: =IF('Journey Awards'!R8="A","E","") | AF23: =IF('Journey Awards'!S8="A","E","") | AH23: =IF('Journey Awards'!T8="A","E","") | AJ23: =IF('Journey Awards'!U8="A","E","") | AL23: =IF('Journey Awards'!V8="A","E","") | AN23: =IF('Journey Awards'!W8="A","E","") | AP23: =IF('Journey Awards'!X8="A","E","") | AR23: =IF('Journey Awards'!Y8="A","E","") | AT23: =IF('Journey Awards'!Z8="A","E","") | AV23: =IF('Journey Awards'!AA8="A","E","") | AX23: =IF('Journey Awards'!AB8="A","E","") | AZ23: =IF('Journey Awards'!AC8="A","E","") | BB23: =IF('Journey Awards'!AD8="A","E","") | BD23: =IF('Journey Awards'!AE8="A","E","") | BF23: =IF('Journey Awards'!AF8="A","E","") | BH23: =IF('Journey Awards'!AG8="A","E","")
A24: ='Journey Awards'!C9 -> The Golden Honey Bee | B24: =IF('Journey Awards'!D9="A","E","") | D24: =IF('Journey Awards'!E9="A","E","") | F24: =IF('Journey Awards'!F9="A","E","") | H24: =IF('Journey Awards'!G9="A","E","") | J24: =IF('Journey Awards'!H9="A","E","") | L24: =IF('Journey Awards'!I9="A","E","") | N24: =IF('Journey Awards'!J9="A","E","") | P24: =IF('Journey Awards'!K9="A","E","") | R24: =IF('Journey Awards'!L9="A","E","") | T24: =IF('Journey Awards'!M9="A","E","") | V24: =IF('Journey Awards'!N9="A","E","") | X24: =IF('Journey Awards'!O9="A","E","") | Z24: =IF('Journey Awards'!P9="A","E","") | AB24: =IF('Journey Awards'!Q9="A","E","") | AD24: =IF('Journey Awards'!R9="A","E","") | AF24: =IF('Journey Awards'!S9="A","E","") | AH24: =IF('Journey Awards'!T9="A","E","") | AJ24: =IF('Journey Awards'!U9="A","E","") | AL24: =IF('Journey Awards'!V9="A","E","") | AN24: =IF('Journey Awards'!W9="A","E","") | AP24: =IF('Journey Awards'!X9="A","E","") | AR24: =IF('Journey Awards'!Y9="A","E","") | AT24: =IF('Journey Awards'!Z9="A","E","") | AV24: =IF('Journey Awards'!AA9="A","E","") | AX24: =IF('Journey Awards'!AB9="A","E","") | AZ24: =IF('Journey Awards'!AC9="A","E","") | BB24: =IF('Journey Awards'!AD9="A","E","") | BD24: =IF('Journey Awards'!AE9="A","E","") | BF24: =IF('Journey Awards'!AF9="A","E","") | BH24: =IF('Journey Awards'!AG9="A","E","")
A25: ='Journey Awards'!C10 -> The Amazing Daisy Award | B25: =IF('Journey Awards'!D10="A","E","") | D25: =IF('Journey Awards'!E10="A","E","") | F25: =IF('Journey Awards'!F10="A","E","") | H25: =IF('Journey Awards'!G10="A","E","") | J25: =IF('Journey Awards'!H10="A","E","") | L25: =IF('Journey Awards'!I10="A","E","") | N25: =IF('Journey Awards'!J10="A","E","") | P25: =IF('Journey Awards'!K10="A","E","") | R25: =IF('Journey Awards'!L10="A","E","") | T25: =IF('Journey Awards'!M10="A","E","") | V25: =IF('Journey Awards'!N10="A","E","") | X25: =IF('Journey Awards'!O10="A","E","") | Z25: =IF('Journey Awards'!P10="A","E","") | AB25: =IF('Journey Awards'!Q10="A","E","") | AD25: =IF('Journey Awards'!R10="A","E","") | AF25: =IF('Journey Awards'!S10="A","E","") | AH25: =IF('Journey Awards'!T10="A","E","") | AJ25: =IF('Journey Awards'!U10="A","E","") | AL25: =IF('Journey Awards'!V10="A","E","") | AN25: =IF('Journey Awards'!W10="A","E","") | AP25: =IF('Journey Awards'!X10="A","E","") | AR25: =IF('Journey Awards'!Y10="A","E","") | AT25: =IF('Journey Awards'!Z10="A","E","") | AV25: =IF('Journey Awards'!AA10="A","E","") | AX25: =IF('Journey Awards'!AB10="A","E","") | AZ25: =IF('Journey Awards'!AC10="A","E","") | BB25: =IF('Journey Awards'!AD10="A","E","") | BD25: =IF('Journey Awards'!AE10="A","E","") | BF25: =IF('Journey Awards'!AF10="A","E","") | BH25: =IF('Journey Awards'!AG10="A","E","")
A26: ='Journey Awards'!A14 -> Between Earth and Sky
A27: ='Journey Awards'!C16 -> The Blue Bucket Award | B27: =IF('Journey Awards'!D16="A","E","") | D27: =IF('Journey Awards'!E16="A","E","") | F27: =IF('Journey Awards'!F16="A","E","") | H27: =IF('Journey Awards'!G16="A","E","") | J27: =IF('Journey Awards'!H16="A","E","") | L27: =IF('Journey Awards'!I16="A","E","") | N27: =IF('Journey Awards'!J16="A","E","") | P27: =IF('Journey Awards'!K16="A","E","") | R27: =IF('Journey Awards'!L16="A","E","") | T27: =IF('Journey Awards'!M16="A","E","") | V27: =IF('Journey Awards'!N16="A","E","") | X27: =IF('Journey Awards'!O16="A","E","") | Z27: =IF('Journey Awards'!P16="A","E","") | AB27: =IF('Journey Awards'!Q16="A","E","") | AD27: =IF('Journey Awards'!R16="A","E","") | AF27: =IF('Journey Awards'!S16="A","E","") | AH27: =IF('Journey Awards'!T16="A","E","") | AJ27: =IF('Journey Awards'!U16="A","E","") | AL27: =IF('Journey Awards'!V16="A","E","") | AN27: =IF('Journey Awards'!W16="A","E","") | AP27: =IF('Journey Awards'!X16="A","E","") | AR27: =IF('Journey Awards'!Y16="A","E","") | AT27: =IF('Journey Awards'!Z16="A","E","") | AV27: =IF('Journey Awards'!AA16="A","E","") | AX27: =IF('Journey Awards'!AB16="A","E","") | AZ27: =IF('Journey Awards'!AC16="A","E","") | BB27: =IF('Journey Awards'!AD16="A","E","") | BD27: =IF('Journey Awards'!AE16="A","E","") | BF27: =IF('Journey Awards'!AF16="A","E","") | BH27: =IF('Journey Awards'!AG16="A","E","")
A28: ='Journey Awards'!C17 -> The Firefly Award | B28: =IF('Journey Awards'!D17="A","E","") | D28: =IF('Journey Awards'!E17="A","E","") | F28: =IF('Journey Awards'!F17="A","E","") | H28: =IF('Journey Awards'!G17="A","E","") | J28: =IF('Journey Awards'!H17="A","E","") | L28: =IF('Journey Awards'!I17="A","E","") | N28: =IF('Journey Awards'!J17="A","E","") | P28: =IF('Journey Awards'!K17="A","E","") | R28: =IF('Journey Awards'!L17="A","E","") | T28: =IF('Journey Awards'!M17="A","E","") | V28: =IF('Journey Awards'!N17="A","E","") | X28: =IF('Journey Awards'!O17="A","E","") | Z28: =IF('Journey Awards'!P17="A","E","") | AB28: =IF('Journey Awards'!Q17="A","E","") | AD28: =IF('Journey Awards'!R17="A","E","") | AF28: =IF('Journey Awards'!S17="A","E","") | AH28: =IF('Journey Awards'!T17="A","E","") | AJ28: =IF('Journey Awards'!U17="A","E","") | AL28: =IF('Journey Awards'!V17="A","E","") | AN28: =IF('Journey Awards'!W17="A","E","") | AP28: =IF('Journey Awards'!X17="A","E","") | AR28: =IF('Journey Awards'!Y17="A","E","") | AT28: =IF('Journey Awards'!Z17="A","E","") | AV28: =IF('Journey Awards'!AA17="A","E","") | AX28: =IF('Journey Awards'!AB17="A","E","") | AZ28: =IF('Journey Awards'!AC17="A","E","") | BB28: =IF('Journey Awards'!AD17="A","E","") | BD28: =IF('Journey Awards'!AE17="A","E","") | BF28: =IF('Journey Awards'!AF17="A","E","") | BH28: =IF('Journey Awards'!AG17="A","E","")
A29: ='Journey Awards'!C18 -> The Clover Award | B29: =IF('Journey Awards'!D18="A","E","") | D29: =IF('Journey Awards'!E18="A","E","") | F29: =IF('Journey Awards'!F18="A","E","") | H29: =IF('Journey Awards'!G18="A","E","") | J29: =IF('Journey Awards'!H18="A","E","") | L29: =IF('Journey Awards'!I18="A","E","") | N29: =IF('Journey Awards'!J18="A","E","") | P29: =IF('Journey Awards'!K18="A","E","") | R29: =IF('Journey Awards'!L18="A","E","") | T29: =IF('Journey Awards'!M18="A","E","") | V29: =IF('Journey Awards'!N18="A","E","") | X29: =IF('Journey Awards'!O18="A","E","") | Z29: =IF('Journey Awards'!P18="A","E","") | AB29: =IF('Journey Awards'!Q18="A","E","") | AD29: =IF('Journey Awards'!R18="A","E","") | AF29: =IF('Journey Awards'!S18="A","E","") | AH29: =IF('Journey Awards'!T18="A","E","") | AJ29: =IF('Journey Awards'!U18="A","E","") | AL29: =IF('Journey Awards'!V18="A","E","") | AN29: =IF('Journey Awards'!W18="A","E","") | AP29: =IF('Journey Awards'!X18="A","E","") | AR29: =IF('Journey Awards'!Y18="A","E","") | AT29: =IF('Journey Awards'!Z18="A","E","") | AV29: =IF('Journey Awards'!AA18="A","E","") | AX29: =IF('Journey Awards'!AB18="A","E","") | AZ29: =IF('Journey Awards'!AC18="A","E","") | BB29: =IF('Journey Awards'!AD18="A","E","") | BD29: =IF('Journey Awards'!AE18="A","E","") | BF29: =IF('Journey Awards'!AF18="A","E","") | BH29: =IF('Journey Awards'!AG18="A","E","")
A30: ='Journey Awards'!A22 -> 5 Flowers, 4 Stories, 3 Cheers for Animals!
A31: ='Journey Awards'!C24 -> Birdbath Award | B31: =IF('Journey Awards'!D24="A","E","") | D31: =IF('Journey Awards'!E24="A","E","") | F31: =IF('Journey Awards'!F24="A","E","") | H31: =IF('Journey Awards'!G24="A","E","") | J31: =IF('Journey Awards'!H24="A","E","") | L31: =IF('Journey Awards'!I24="A","E","") | N31: =IF('Journey Awards'!J24="A","E","") | P31: =IF('Journey Awards'!K24="A","E","") | R31: =IF('Journey Awards'!L24="A","E","") | T31: =IF('Journey Awards'!M24="A","E","") | V31: =IF('Journey Awards'!N24="A","E","") | X31: =IF('Journey Awards'!O24="A","E","") | Z31: =IF('Journey Awards'!P24="A","E","") | AB31: =IF('Journey Awards'!Q24="A","E","") | AD31: =IF('Journey Awards'!R24="A","E","") | AF31: =IF('Journey Awards'!S24="A","E","") | AH31: =IF('Journey Awards'!T24="A","E","") | AJ31: =IF('Journey Awards'!U24="A","E","") | AL31: =IF('Journey Awards'!V24="A","E","") | AN31: =IF('Journey Awards'!W24="A","E","") | AP31: =IF('Journey Awards'!X24="A","E","") | AR31: =IF('Journey Awards'!Y24="A","E","") | AT31: =IF('Journey Awards'!Z24="A","E","") | AV31: =IF('Journey Awards'!AA24="A","E","") | AX31: =IF('Journey Awards'!AB24="A","E","") | AZ31: =IF('Journey Awards'!AC24="A","E","") | BB31: =IF('Journey Awards'!AD24="A","E","") | BD31: =IF('Journey Awards'!AE24="A","E","") | BF31: =IF('Journey Awards'!AF24="A","E","") | BH31: =IF('Journey Awards'!AG24="A","E","")
A32: ='Journey Awards'!C25 -> Red Robin Award | B32: =IF('Journey Awards'!D25="A","E","") | D32: =IF('Journey Awards'!E25="A","E","") | F32: =IF('Journey Awards'!F25="A","E","") | H32: =IF('Journey Awards'!G25="A","E","") | J32: =IF('Journey Awards'!H25="A","E","") | L32: =IF('Journey Awards'!I25="A","E","") | N32: =IF('Journey Awards'!J25="A","E","") | P32: =IF('Journey Awards'!K25="A","E","") | R32: =IF('Journey Awards'!L25="A","E","") | T32: =IF('Journey Awards'!M25="A","E","") | V32: =IF('Journey Awards'!N25="A","E","") | X32: =IF('Journey Awards'!O25="A","E","") | Z32: =IF('Journey Awards'!P25="A","E","") | AB32: =IF('Journey Awards'!Q25="A","E","") | AD32: =IF('Journey Awards'!R25="A","E","") | AF32: =IF('Journey Awards'!S25="A","E","") | AH32: =IF('Journey Awards'!T25="A","E","") | AJ32: =IF('Journey Awards'!U25="A","E","") | AL32: =IF('Journey Awards'!V25="A","E","") | AN32: =IF('Journey Awards'!W25="A","E","") | AP32: =IF('Journey Awards'!X25="A","E","") | AR32: =IF('Journey Awards'!Y25="A","E","") | AT32: =IF('Journey Awards'!Z25="A","E","") | AV32: =IF('Journey Awards'!AA25="A","E","") | AX32: =IF('Journey Awards'!AB25="A","E","") | AZ32: =IF('Journey Awards'!AC25="A","E","") | BB32: =IF('Journey Awards'!AD25="A","E","") | BD32: =IF('Journey Awards'!AE25="A","E","") | BF32: =IF('Journey Awards'!AF25="A","E","") | BH32: =IF('Journey Awards'!AG25="A","E","")
A33: ='Journey Awards'!C26 -> Tula Award | B33: =IF('Journey Awards'!D26="A","E","") | D33: =IF('Journey Awards'!E26="A","E","") | F33: =IF('Journey Awards'!F26="A","E","") | H33: =IF('Journey Awards'!G26="A","E","") | J33: =IF('Journey Awards'!H26="A","E","") | L33: =IF('Journey Awards'!I26="A","E","") | N33: =IF('Journey Awards'!J26="A","E","") | P33: =IF('Journey Awards'!K26="A","E","") | R33: =IF('Journey Awards'!L26="A","E","") | T33: =IF('Journey Awards'!M26="A","E","") | V33: =IF('Journey Awards'!N26="A","E","") | X33: =IF('Journey Awards'!O26="A","E","") | Z33: =IF('Journey Awards'!P26="A","E","") | AB33: =IF('Journey Awards'!Q26="A","E","") | AD33: =IF('Journey Awards'!R26="A","E","") | AF33: =IF('Journey Awards'!S26="A","E","") | AH33: =IF('Journey Awards'!T26="A","E","") | AJ33: =IF('Journey Awards'!U26="A","E","") | AL33: =IF('Journey Awards'!V26="A","E","") | AN33: =IF('Journey Awards'!W26="A","E","") | AP33: =IF('Journey Awards'!X26="A","E","") | AR33: =IF('Journey Awards'!Y26="A","E","") | AT33: =IF('Journey Awards'!Z26="A","E","") | AV33: =IF('Journey Awards'!AA26="A","E","") | AX33: =IF('Journey Awards'!AB26="A","E","") | AZ33: =IF('Journey Awards'!AC26="A","E","") | BB33: =IF('Journey Awards'!AD26="A","E","") | BD33: =IF('Journey Awards'!AE26="A","E","") | BF33: =IF('Journey Awards'!AF26="A","E","") | BH33: =IF('Journey Awards'!AG26="A","E","")
A34: Bridge to Brownies | B34: =IF(Bridging!D18="C","E","") | D34: =IF(Bridging!E18="C","E","") | F34: =IF(Bridging!F18="C","E","") | H34: =IF(Bridging!G18="C","E","") | J34: =IF(Bridging!H18="C","E","") | L34: =IF(Bridging!I18="C","E","") | N34: =IF(Bridging!J18="C","E","") | P34: =IF(Bridging!K18="C","E","") | R34: =IF(Bridging!L18="C","E","") | T34: =IF(Bridging!M18="C","E","") | V34: =IF(Bridging!N18="C","E","") | X34: =IF(Bridging!O18="C","E","") | Z34: =IF(Bridging!P18="C","E","") | AB34: =IF(Bridging!Q18="C","E","") | AD34: =IF(Bridging!R18="C","E","") | AF34: =IF(Bridging!S18="C","E","") | AH34: =IF(Bridging!T18="C","E","") | AJ34: =IF(Bridging!U18="C","E","") | AL34: =IF(Bridging!V18="C","E","") | AN34: =IF(Bridging!W18="C","E","") | AP34: =IF(Bridging!X18="C","E","") | AR34: =IF(Bridging!Y18="C","E","") | AT34: =IF(Bridging!Z18="C","E","") | AV34: =IF(Bridging!AA18="C","E","") | AX34: =IF(Bridging!AB18="C","E","") | AZ34: =IF(Bridging!AC18="C","E","") | BB34: =IF(Bridging!AD18="C","E","") | BD34: =IF(Bridging!AE18="C","E","") | BF34: =IF(Bridging!AF18="C","E","") | BH34: =IF(Bridging!AG18="C","E","")
A35: Age-Level
A36: ='Age-Level'!C6 -> Cookie Rally (Year 1) | B36: =IF('Age-Level'!D6="A","E","") | D36: =IF('Age-Level'!E6="A","E","") | F36: =IF('Age-Level'!F6="A","E","") | H36: =IF('Age-Level'!G6="A","E","") | J36: =IF('Age-Level'!H6="A","E","") | L36: =IF('Age-Level'!I6="A","E","") | N36: =IF('Age-Level'!J6="A","E","") | P36: =IF('Age-Level'!K6="A","E","") | R36: =IF('Age-Level'!L6="A","E","") | T36: =IF('Age-Level'!M6="A","E","") | V36: =IF('Age-Level'!N6="A","E","") | X36: =IF('Age-Level'!O6="A","E","") | Z36: =IF('Age-Level'!P6="A","E","") | AB36: =IF('Age-Level'!Q6="A","E","") | AD36: =IF('Age-Level'!R6="A","E","") | AF36: =IF('Age-Level'!S6="A","E","") | AH36: =IF('Age-Level'!T6="A","E","") | AJ36: =IF('Age-Level'!U6="A","E","") | AL36: =IF('Age-Level'!V6="A","E","") | AN36: =IF('Age-Level'!W6="A","E","") | AP36: =IF('Age-Level'!X6="A","E","") | AR36: =IF('Age-Level'!Y6="A","E","") | AT36: =IF('Age-Level'!Z6="A","E","") | AV36: =IF('Age-Level'!AA6="A","E","") | AX36: =IF('Age-Level'!AB6="A","E","") | AZ36: =IF('Age-Level'!AC6="A","E","") | BB36: =IF('Age-Level'!AD6="A","E","") | BD36: =IF('Age-Level'!AE6="A","E","") | BF36: =IF('Age-Level'!AF6="A","E","") | BH36: =IF('Age-Level'!AG6="A","E","")
A37: ='Age-Level'!C7 -> Cookie Sales (Year 1) | B37: =IF('Age-Level'!D7="A","E","") | D37: =IF('Age-Level'!E7="A","E","") | F37: =IF('Age-Level'!F7="A","E","") | H37: =IF('Age-Level'!G7="A","E","") | J37: =IF('Age-Level'!H7="A","E","") | L37: =IF('Age-Level'!I7="A","E","") | N37: =IF('Age-Level'!J7="A","E","") | P37: =IF('Age-Level'!K7="A","E","") | R37: =IF('Age-Level'!L7="A","E","") | T37: =IF('Age-Level'!M7="A","E","") | V37: =IF('Age-Level'!N7="A","E","") | X37: =IF('Age-Level'!O7="A","E","") | Z37: =IF('Age-Level'!P7="A","E","") | AB37: =IF('Age-Level'!Q7="A","E","") | AD37: =IF('Age-Level'!R7="A","E","") | AF37: =IF('Age-Level'!S7="A","E","") | AH37: =IF('Age-Level'!T7="A","E","") | AJ37: =IF('Age-Level'!U7="A","E","") | AL37: =IF('Age-Level'!V7="A","E","") | AN37: =IF('Age-Level'!W7="A","E","") | AP37: =IF('Age-Level'!X7="A","E","") | AR37: =IF('Age-Level'!Y7="A","E","") | AT37: =IF('Age-Level'!Z7="A","E","") | AV37: =IF('Age-Level'!AA7="A","E","") | AX37: =IF('Age-Level'!AB7="A","E","") | AZ37: =IF('Age-Level'!AC7="A","E","") | BB37: =IF('Age-Level'!AD7="A","E","") | BD37: =IF('Age-Level'!AE7="A","E","") | BF37: =IF('Age-Level'!AF7="A","E","") | BH37: =IF('Age-Level'!AG7="A","E","")
A38: ='Age-Level'!C8 -> Cookie Pin (Year 1) | B38: =IF('Age-Level'!D8="A","E","") | D38: =IF('Age-Level'!E8="A","E","") | F38: =IF('Age-Level'!F8="A","E","") | H38: =IF('Age-Level'!G8="A","E","") | J38: =IF('Age-Level'!H8="A","E","") | L38: =IF('Age-Level'!I8="A","E","") | N38: =IF('Age-Level'!J8="A","E","") | P38: =IF('Age-Level'!K8="A","E","") | R38: =IF('Age-Level'!L8="A","E","") | T38: =IF('Age-Level'!M8="A","E","") | V38: =IF('Age-Level'!N8="A","E","") | X38: =IF('Age-Level'!O8="A","E","") | Z38: =IF('Age-Level'!P8="A","E","") | AB38: =IF('Age-Level'!Q8="A","E","") | AD38: =IF('Age-Level'!R8="A","E","") | AF38: =IF('Age-Level'!S8="A","E","") | AH38: =IF('Age-Level'!T8="A","E","") | AJ38: =IF('Age-Level'!U8="A","E","") | AL38: =IF('Age-Level'!V8="A","E","") | AN38: =IF('Age-Level'!W8="A","E","") | AP38: =IF('Age-Level'!X8="A","E","") | AR38: =IF('Age-Level'!Y8="A","E","") | AT38: =IF('Age-Level'!Z8="A","E","") | AV38: =IF('Age-Level'!AA8="A","E","") | AX38: =IF('Age-Level'!AB8="A","E","") | AZ38: =IF('Age-Level'!AC8="A","E","") | BB38: =IF('Age-Level'!AD8="A","E","") | BD38: =IF('Age-Level'!AE8="A","E","") | BF38: =IF('Age-Level'!AF8="A","E","") | BH38: =IF('Age-Level'!AG8="A","E","")
A39: ='Age-Level'!C9 -> Cookie Rally (Year 2) | B39: =IF('Age-Level'!D9="A","E","") | D39: =IF('Age-Level'!E9="A","E","") | F39: =IF('Age-Level'!F9="A","E","") | H39: =IF('Age-Level'!G9="A","E","") | J39: =IF('Age-Level'!H9="A","E","") | L39: =IF('Age-Level'!I9="A","E","") | N39: =IF('Age-Level'!J9="A","E","") | P39: =IF('Age-Level'!K9="A","E","") | R39: =IF('Age-Level'!L9="A","E","") | T39: =IF('Age-Level'!M9="A","E","") | V39: =IF('Age-Level'!N9="A","E","") | X39: =IF('Age-Level'!O9="A","E","") | Z39: =IF('Age-Level'!P9="A","E","") | AB39: =IF('Age-Level'!Q9="A","E","") | AD39: =IF('Age-Level'!R9="A","E","") | AF39: =IF('Age-Level'!S9="A","E","") | AH39: =IF('Age-Level'!T9="A","E","") | AJ39: =IF('Age-Level'!U9="A","E","") | AL39: =IF('Age-Level'!V9="A","E","") | AN39: =IF('Age-Level'!W9="A","E","") | AP39: =IF('Age-Level'!X9="A","E","") | AR39: =IF('Age-Level'!Y9="A","E","") | AT39: =IF('Age-Level'!Z9="A","E","") | AV39: =IF('Age-Level'!AA9="A","E","") | AX39: =IF('Age-Level'!AB9="A","E","") | AZ39: =IF('Age-Level'!AC9="A","E","") | BB39: =IF('Age-Level'!AD9="A","E","") | BD39: =IF('Age-Level'!AE9="A","E","") | BF39: =IF('Age-Level'!AF9="A","E","") | BH39: =IF('Age-Level'!AG9="A","E","")
A40: ='Age-Level'!C10 -> Cookie Sales (Year 2) | B40: =IF('Age-Level'!D10="A","E","") | D40: =IF('Age-Level'!E10="A","E","") | F40: =IF('Age-Level'!F10="A","E","") | H40: =IF('Age-Level'!G10="A","E","") | J40: =IF('Age-Level'!H10="A","E","") | L40: =IF('Age-Level'!I10="A","E","") | N40: =IF('Age-Level'!J10="A","E","") | P40: =IF('Age-Level'!K10="A","E","") | R40: =IF('Age-Level'!L10="A","E","") | T40: =IF('Age-Level'!M10="A","E","") | V40: =IF('Age-Level'!N10="A","E","") | X40: =IF('Age-Level'!O10="A","E","") | Z40: =IF('Age-Level'!P10="A","E","") | AB40: =IF('Age-Level'!Q10="A","E","") | AD40: =IF('Age-Level'!R10="A","E","") | AF40: =IF('Age-Level'!S10="A","E","") | AH40: =IF('Age-Level'!T10="A","E","") | AJ40: =IF('Age-Level'!U10="A","E","") | AL40: =IF('Age-Level'!V10="A","E","") | AN40: =IF('Age-Level'!W10="A","E","") | AP40: =IF('Age-Level'!X10="A","E","") | AR40: =IF('Age-Level'!Y10="A","E","") | AT40: =IF('Age-Level'!Z10="A","E","") | AV40: =IF('Age-Level'!AA10="A","E","") | AX40: =IF('Age-Level'!AB10="A","E","") | AZ40: =IF('Age-Level'!AC10="A","E","") | BB40: =IF('Age-Level'!AD10="A","E","") | BD40: =IF('Age-Level'!AE10="A","E","") | BF40: =IF('Age-Level'!AF10="A","E","") | BH40: =IF('Age-Level'!AG10="A","E","")
A41: ='Age-Level'!C11 -> Cookie Pin (Year 2) | B41: =IF('Age-Level'!D11="A","E","") | D41: =IF('Age-Level'!E11="A","E","") | F41: =IF('Age-Level'!F11="A","E","") | H41: =IF('Age-Level'!G11="A","E","") | J41: =IF('Age-Level'!H11="A","E","") | L41: =IF('Age-Level'!I11="A","E","") | N41: =IF('Age-Level'!J11="A","E","") | P41: =IF('Age-Level'!K11="A","E","") | R41: =IF('Age-Level'!L11="A","E","") | T41: =IF('Age-Level'!M11="A","E","") | V41: =IF('Age-Level'!N11="A","E","") | X41: =IF('Age-Level'!O11="A","E","") | Z41: =IF('Age-Level'!P11="A","E","") | AB41: =IF('Age-Level'!Q11="A","E","") | AD41: =IF('Age-Level'!R11="A","E","") | AF41: =IF('Age-Level'!S11="A","E","") | AH41: =IF('Age-Level'!T11="A","E","") | AJ41: =IF('Age-Level'!U11="A","E","") | AL41: =IF('Age-Level'!V11="A","E","") | AN41: =IF('Age-Level'!W11="A","E","") | AP41: =IF('Age-Level'!X11="A","E","") | AR41: =IF('Age-Level'!Y11="A","E","") | AT41: =IF('Age-Level'!Z11="A","E","") | AV41: =IF('Age-Level'!AA11="A","E","") | AX41: =IF('Age-Level'!AB11="A","E","") | AZ41: =IF('Age-Level'!AC11="A","E","") | BB41: =IF('Age-Level'!AD11="A","E","") | BD41: =IF('Age-Level'!AE11="A","E","") | BF41: =IF('Age-Level'!AF11="A","E","") | BH41: =IF('Age-Level'!AG11="A","E","")
A42: ='Age-Level'!C13 -> Fall Sales (Year 1) | B42: =IF('Age-Level'!D13="A","E","") | D42: =IF('Age-Level'!E13="A","E","") | F42: =IF('Age-Level'!F13="A","E","") | H42: =IF('Age-Level'!G13="A","E","") | J42: =IF('Age-Level'!H13="A","E","") | L42: =IF('Age-Level'!I13="A","E","") | N42: =IF('Age-Level'!J13="A","E","") | P42: =IF('Age-Level'!K13="A","E","") | R42: =IF('Age-Level'!L13="A","E","") | T42: =IF('Age-Level'!M13="A","E","") | V42: =IF('Age-Level'!N13="A","E","") | X42: =IF('Age-Level'!O13="A","E","") | Z42: =IF('Age-Level'!P13="A","E","") | AB42: =IF('Age-Level'!Q13="A","E","") | AD42: =IF('Age-Level'!R13="A","E","") | AF42: =IF('Age-Level'!S13="A","E","") | AH42: =IF('Age-Level'!T13="A","E","") | AJ42: =IF('Age-Level'!U13="A","E","") | AL42: =IF('Age-Level'!V13="A","E","") | AN42: =IF('Age-Level'!W13="A","E","") | AP42: =IF('Age-Level'!X13="A","E","") | AR42: =IF('Age-Level'!Y13="A","E","") | AT42: =IF('Age-Level'!Z13="A","E","") | AV42: =IF('Age-Level'!AA13="A","E","") | AX42: =IF('Age-Level'!AB13="A","E","") | AZ42: =IF('Age-Level'!AC13="A","E","") | BB42: =IF('Age-Level'!AD13="A","E","") | BD42: =IF('Age-Level'!AE13="A","E","") | BF42: =IF('Age-Level'!AF13="A","E","") | BH42: =IF('Age-Level'!AG13="A","E","")
A43: ='Age-Level'!C14 -> Fall Sales (Year 2) | B43: =IF('Age-Level'!D14="A","E","") | D43: =IF('Age-Level'!E14="A","E","") | F43: =IF('Age-Level'!F14="A","E","") | H43: =IF('Age-Level'!G14="A","E","") | J43: =IF('Age-Level'!H14="A","E","") | L43: =IF('Age-Level'!I14="A","E","") | N43: =IF('Age-Level'!J14="A","E","") | P43: =IF('Age-Level'!K14="A","E","") | R43: =IF('Age-Level'!L14="A","E","") | T43: =IF('Age-Level'!M14="A","E","") | V43: =IF('Age-Level'!N14="A","E","") | X43: =IF('Age-Level'!O14="A","E","") | Z43: =IF('Age-Level'!P14="A","E","") | AB43: =IF('Age-Level'!Q14="A","E","") | AD43: =IF('Age-Level'!R14="A","E","") | AF43: =IF('Age-Level'!S14="A","E","") | AH43: =IF('Age-Level'!T14="A","E","") | AJ43: =IF('Age-Level'!U14="A","E","") | AL43: =IF('Age-Level'!V14="A","E","") | AN43: =IF('Age-Level'!W14="A","E","") | AP43: =IF('Age-Level'!X14="A","E","") | AR43: =IF('Age-Level'!Y14="A","E","") | AT43: =IF('Age-Level'!Z14="A","E","") | AV43: =IF('Age-Level'!AA14="A","E","") | AX43: =IF('Age-Level'!AB14="A","E","") | AZ43: =IF('Age-Level'!AC14="A","E","") | BB43: =IF('Age-Level'!AD14="A","E","") | BD43: =IF('Age-Level'!AE14="A","E","") | BF43: =IF('Age-Level'!AF14="A","E","") | BH43: =IF('Age-Level'!AG14="A","E","")
A44: ='Age-Level'!C16 -> Thinking Day (Year 1) | B44: =IF('Age-Level'!D16="A","E","") | D44: =IF('Age-Level'!E16="A","E","") | F44: =IF('Age-Level'!F16="A","E","") | H44: =IF('Age-Level'!G16="A","E","") | J44: =IF('Age-Level'!H16="A","E","") | L44: =IF('Age-Level'!I16="A","E","") | N44: =IF('Age-Level'!J16="A","E","") | P44: =IF('Age-Level'!K16="A","E","") | R44: =IF('Age-Level'!L16="A","E","") | T44: =IF('Age-Level'!M16="A","E","") | V44: =IF('Age-Level'!N16="A","E","") | X44: =IF('Age-Level'!O16="A","E","") | Z44: =IF('Age-Level'!P16="A","E","") | AB44: =IF('Age-Level'!Q16="A","E","") | AD44: =IF('Age-Level'!R16="A","E","") | AF44: =IF('Age-Level'!S16="A","E","") | AH44: =IF('Age-Level'!T16="A","E","") | AJ44: =IF('Age-Level'!U16="A","E","") | AL44: =IF('Age-Level'!V16="A","E","") | AN44: =IF('Age-Level'!W16="A","E","") | AP44: =IF('Age-Level'!X16="A","E","") | AR44: =IF('Age-Level'!Y16="A","E","") | AT44: =IF('Age-Level'!Z16="A","E","") | AV44: =IF('Age-Level'!AA16="A","E","") | AX44: =IF('Age-Level'!AB16="A","E","") | AZ44: =IF('Age-Level'!AC16="A","E","") | BB44: =IF('Age-Level'!AD16="A","E","") | BD44: =IF('Age-Level'!AE16="A","E","") | BF44: =IF('Age-Level'!AF16="A","E","") | BH44: =IF('Age-Level'!AG16="A","E","")
A45: ='Age-Level'!C17 -> Thinking Day (Year 2) | B45: =IF('Age-Level'!D17="A","E","") | D45: =IF('Age-Level'!E17="A","E","") | F45: =IF('Age-Level'!F17="A","E","") | H45: =IF('Age-Level'!G17="A","E","") | J45: =IF('Age-Level'!H17="A","E","") | L45: =IF('Age-Level'!I17="A","E","") | N45: =IF('Age-Level'!J17="A","E","") | P45: =IF('Age-Level'!K17="A","E","") | R45: =IF('Age-Level'!L17="A","E","") | T45: =IF('Age-Level'!M17="A","E","") | V45: =IF('Age-Level'!N17="A","E","") | X45: =IF('Age-Level'!O17="A","E","") | Z45: =IF('Age-Level'!P17="A","E","") | AB45: =IF('Age-Level'!Q17="A","E","") | AD45: =IF('Age-Level'!R17="A","E","") | AF45: =IF('Age-Level'!S17="A","E","") | AH45: =IF('Age-Level'!T17="A","E","") | AJ45: =IF('Age-Level'!U17="A","E","") | AL45: =IF('Age-Level'!V17="A","E","") | AN45: =IF('Age-Level'!W17="A","E","") | AP45: =IF('Age-Level'!X17="A","E","") | AR45: =IF('Age-Level'!Y17="A","E","") | AT45: =IF('Age-Level'!Z17="A","E","") | AV45: =IF('Age-Level'!AA17="A","E","") | AX45: =IF('Age-Level'!AB17="A","E","") | AZ45: =IF('Age-Level'!AC17="A","E","") | BB45: =IF('Age-Level'!AD17="A","E","") | BD45: =IF('Age-Level'!AE17="A","E","") | BF45: =IF('Age-Level'!AF17="A","E","") | BH45: =IF('Age-Level'!AG17="A","E","")
A46: ='Age-Level'!C19 -> Investiture | B46: =IF('Age-Level'!D19="A","E","") | D46: =IF('Age-Level'!E19="A","E","") | F46: =IF('Age-Level'!F19="A","E","") | H46: =IF('Age-Level'!G19="A","E","") | J46: =IF('Age-Level'!H19="A","E","") | L46: =IF('Age-Level'!I19="A","E","") | N46: =IF('Age-Level'!J19="A","E","") | P46: =IF('Age-Level'!K19="A","E","") | R46: =IF('Age-Level'!L19="A","E","") | T46: =IF('Age-Level'!M19="A","E","") | V46: =IF('Age-Level'!N19="A","E","") | X46: =IF('Age-Level'!O19="A","E","") | Z46: =IF('Age-Level'!P19="A","E","") | AB46: =IF('Age-Level'!Q19="A","E","") | AD46: =IF('Age-Level'!R19="A","E","") | AF46: =IF('Age-Level'!S19="A","E","") | AH46: =IF('Age-Level'!T19="A","E","") | AJ46: =IF('Age-Level'!U19="A","E","") | AL46: =IF('Age-Level'!V19="A","E","") | AN46: =IF('Age-Level'!W19="A","E","") | AP46: =IF('Age-Level'!X19="A","E","") | AR46: =IF('Age-Level'!Y19="A","E","") | AT46: =IF('Age-Level'!Z19="A","E","") | AV46: =IF('Age-Level'!AA19="A","E","") | AX46: =IF('Age-Level'!AB19="A","E","") | AZ46: =IF('Age-Level'!AC19="A","E","") | BB46: =IF('Age-Level'!AD19="A","E","") | BD46: =IF('Age-Level'!AE19="A","E","") | BF46: =IF('Age-Level'!AF19="A","E","") | BH46: =IF('Age-Level'!AG19="A","E","")
A47: ='Age-Level'!C20 -> Rededication (1st year) | B47: =IF('Age-Level'!D20="A","E","") | D47: =IF('Age-Level'!E20="A","E","") | F47: =IF('Age-Level'!F20="A","E","") | H47: =IF('Age-Level'!G20="A","E","") | J47: =IF('Age-Level'!H20="A","E","") | L47: =IF('Age-Level'!I20="A","E","") | N47: =IF('Age-Level'!J20="A","E","") | P47: =IF('Age-Level'!K20="A","E","") | R47: =IF('Age-Level'!L20="A","E","") | T47: =IF('Age-Level'!M20="A","E","") | V47: =IF('Age-Level'!N20="A","E","") | X47: =IF('Age-Level'!O20="A","E","") | Z47: =IF('Age-Level'!P20="A","E","") | AB47: =IF('Age-Level'!Q20="A","E","") | AD47: =IF('Age-Level'!R20="A","E","") | AF47: =IF('Age-Level'!S20="A","E","") | AH47: =IF('Age-Level'!T20="A","E","") | AJ47: =IF('Age-Level'!U20="A","E","") | AL47: =IF('Age-Level'!V20="A","E","") | AN47: =IF('Age-Level'!W20="A","E","") | AP47: =IF('Age-Level'!X20="A","E","") | AR47: =IF('Age-Level'!Y20="A","E","") | AT47: =IF('Age-Level'!Z20="A","E","") | AV47: =IF('Age-Level'!AA20="A","E","") | AX47: =IF('Age-Level'!AB20="A","E","") | AZ47: =IF('Age-Level'!AC20="A","E","") | BB47: =IF('Age-Level'!AD20="A","E","") | BD47: =IF('Age-Level'!AE20="A","E","") | BF47: =IF('Age-Level'!AF20="A","E","") | BH47: =IF('Age-Level'!AG20="A","E","")
A48: ='Age-Level'!B21 -> My Promise, My Faith (Year 1) | B48: =IF('Age-Level'!D27="C","E","") | D48: =IF('Age-Level'!E27="C","E","") | F48: =IF('Age-Level'!F27="C","E","") | H48: =IF('Age-Level'!G27="C","E","") | J48: =IF('Age-Level'!H27="C","E","") | L48: =IF('Age-Level'!I27="C","E","") | N48: =IF('Age-Level'!J27="C","E","") | P48: =IF('Age-Level'!K27="C","E","") | R48: =IF('Age-Level'!L27="C","E","") | T48: =IF('Age-Level'!M27="C","E","") | V48: =IF('Age-Level'!N27="C","E","") | X48: =IF('Age-Level'!O27="C","E","") | Z48: =IF('Age-Level'!P27="C","E","") | AB48: =IF('Age-Level'!Q27="C","E","") | AD48: =IF('Age-Level'!R27="C","E","") | AF48: =IF('Age-Level'!S27="C","E","") | AH48: =IF('Age-Level'!T27="C","E","") | AJ48: =IF('Age-Level'!U27="C","E","") | AL48: =IF('Age-Level'!V27="C","E","") | AN48: =IF('Age-Level'!W27="C","E","") | AP48: =IF('Age-Level'!X27="C","E","") | AR48: =IF('Age-Level'!Y27="C","E","") | AT48: =IF('Age-Level'!Z27="C","E","") | AV48: =IF('Age-Level'!AA27="C","E","") | AX48: =IF('Age-Level'!AB27="C","E","") | AZ48: =IF('Age-Level'!AC27="C","E","") | BB48: =IF('Age-Level'!AD27="C","E","") | BD48: =IF('Age-Level'!AE27="C","E","") | BF48: =IF('Age-Level'!AF27="C","E","") | BH48: =IF('Age-Level'!AG27="C","E","")
A49: ='Age-Level'!B28 -> My Promise, My Faith (Year 2) | B49: =IF('Age-Level'!D34="C","E","") | D49: =IF('Age-Level'!E34="C","E","") | F49: =IF('Age-Level'!F34="C","E","") | H49: =IF('Age-Level'!G34="C","E","") | J49: =IF('Age-Level'!H34="C","E","") | L49: =IF('Age-Level'!I34="C","E","") | N49: =IF('Age-Level'!J34="C","E","") | P49: =IF('Age-Level'!K34="C","E","") | R49: =IF('Age-Level'!L34="C","E","") | T49: =IF('Age-Level'!M34="C","E","") | V49: =IF('Age-Level'!N34="C","E","") | X49: =IF('Age-Level'!O34="C","E","") | Z49: =IF('Age-Level'!P34="C","E","") | AB49: =IF('Age-Level'!Q34="C","E","") | AD49: =IF('Age-Level'!R34="C","E","") | AF49: =IF('Age-Level'!S34="C","E","") | AH49: =IF('Age-Level'!T34="C","E","") | AJ49: =IF('Age-Level'!U34="C","E","") | AL49: =IF('Age-Level'!V34="C","E","") | AN49: =IF('Age-Level'!W34="C","E","") | AP49: =IF('Age-Level'!X34="C","E","") | AR49: =IF('Age-Level'!Y34="C","E","") | AT49: =IF('Age-Level'!Z34="C","E","") | AV49: =IF('Age-Level'!AA34="C","E","") | AX49: =IF('Age-Level'!AB34="C","E","") | AZ49: =IF('Age-Level'!AC34="C","E","") | BB49: =IF('Age-Level'!AD34="C","E","") | BD49: =IF('Age-Level'!AE34="C","E","") | BF49: =IF('Age-Level'!AF34="C","E","") | BH49: =IF('Age-Level'!AG34="C","E","")
A50: ='Age-Level'!C36 -> Global Action Award | B50: =IF('Age-Level'!D36="A","E","") | D50: =IF('Age-Level'!E36="A","E","") | F50: =IF('Age-Level'!F36="A","E","") | H50: =IF('Age-Level'!G36="A","E","") | J50: =IF('Age-Level'!H36="A","E","") | L50: =IF('Age-Level'!I36="A","E","") | N50: =IF('Age-Level'!J36="A","E","") | P50: =IF('Age-Level'!K36="A","E","") | R50: =IF('Age-Level'!L36="A","E","") | T50: =IF('Age-Level'!M36="A","E","") | V50: =IF('Age-Level'!N36="A","E","") | X50: =IF('Age-Level'!O36="A","E","") | Z50: =IF('Age-Level'!P36="A","E","") | AB50: =IF('Age-Level'!Q36="A","E","") | AD50: =IF('Age-Level'!R36="A","E","") | AF50: =IF('Age-Level'!S36="A","E","") | AH50: =IF('Age-Level'!T36="A","E","") | AJ50: =IF('Age-Level'!U36="A","E","") | AL50: =IF('Age-Level'!V36="A","E","") | AN50: =IF('Age-Level'!W36="A","E","") | AP50: =IF('Age-Level'!X36="A","E","") | AR50: =IF('Age-Level'!Y36="A","E","") | AT50: =IF('Age-Level'!Z36="A","E","") | AV50: =IF('Age-Level'!AA36="A","E","") | AX50: =IF('Age-Level'!AB36="A","E","") | AZ50: =IF('Age-Level'!AC36="A","E","") | BB50: =IF('Age-Level'!AD36="A","E","") | BD50: =IF('Age-Level'!AE36="A","E","") | BF50: =IF('Age-Level'!AF36="A","E","") | BH50: =IF('Age-Level'!AG36="A","E","")
A51: ='Age-Level'!C38 -> Journey Summit Pin | B51: =IF('Age-Level'!D38="C","E","") | D51: =IF('Age-Level'!E38="C","E","") | F51: =IF('Age-Level'!F38="C","E","") | H51: =IF('Age-Level'!G38="C","E","") | J51: =IF('Age-Level'!H38="C","E","") | L51: =IF('Age-Level'!I38="C","E","") | N51: =IF('Age-Level'!J38="C","E","") | P51: =IF('Age-Level'!K38="C","E","") | R51: =IF('Age-Level'!L38="C","E","") | T51: =IF('Age-Level'!M38="C","E","") | V51: =IF('Age-Level'!N38="C","E","") | X51: =IF('Age-Level'!O38="C","E","") | Z51: =IF('Age-Level'!P38="C","E","") | AB51: =IF('Age-Level'!Q38="C","E","") | AD51: =IF('Age-Level'!R38="C","E","") | AF51: =IF('Age-Level'!S38="C","E","") | AH51: =IF('Age-Level'!T38="C","E","") | AJ51: =IF('Age-Level'!U38="C","E","") | AL51: =IF('Age-Level'!V38="C","E","") | AN51: =IF('Age-Level'!W38="C","E","") | AP51: =IF('Age-Level'!X38="C","E","") | AR51: =IF('Age-Level'!Y38="C","E","") | AT51: =IF('Age-Level'!Z38="C","E","") | AV51: =IF('Age-Level'!AA38="C","E","") | AX51: =IF('Age-Level'!AB38="C","E","") | AZ51: =IF('Age-Level'!AC38="C","E","") | BB51: =IF('Age-Level'!AD38="C","E","") | BD51: =IF('Age-Level'!AE38="C","E","") | BF51: =IF('Age-Level'!AF38="C","E","") | BH51: =IF('Age-Level'!AG38="C","E","")
A52: ='Age-Level'!B39 -> Safety Award | B52: =IF('Age-Level'!D43="C","E","") | D52: =IF('Age-Level'!E43="C","E","") | F52: =IF('Age-Level'!F43="C","E","") | H52: =IF('Age-Level'!G43="C","E","") | J52: =IF('Age-Level'!H43="C","E","") | L52: =IF('Age-Level'!I43="C","E","") | N52: =IF('Age-Level'!J43="C","E","") | P52: =IF('Age-Level'!K43="C","E","") | R52: =IF('Age-Level'!L43="C","E","") | T52: =IF('Age-Level'!M43="C","E","") | V52: =IF('Age-Level'!N43="C","E","") | X52: =IF('Age-Level'!O43="C","E","") | Z52: =IF('Age-Level'!P43="C","E","") | AB52: =IF('Age-Level'!Q43="C","E","") | AD52: =IF('Age-Level'!R43="C","E","") | AF52: =IF('Age-Level'!S43="C","E","") | AH52: =IF('Age-Level'!T43="C","E","") | AJ52: =IF('Age-Level'!U43="C","E","") | AL52: =IF('Age-Level'!V43="C","E","") | AN52: =IF('Age-Level'!W43="C","E","") | AP52: =IF('Age-Level'!X43="C","E","") | AR52: =IF('Age-Level'!Y43="C","E","") | AT52: =IF('Age-Level'!Z43="C","E","") | AV52: =IF('Age-Level'!AA43="C","E","") | AX52: =IF('Age-Level'!AB43="C","E","") | AZ52: =IF('Age-Level'!AC43="C","E","") | BB52: =IF('Age-Level'!AD43="C","E","") | BD52: =IF('Age-Level'!AE43="C","E","") | BF52: =IF('Age-Level'!AF43="C","E","") | BH52: =IF('Age-Level'!AG43="C","E","")
A53: Fun Patches
A54: ='Fun Patches'!C5 -> <List Patch Here> | B54: =IF('Fun Patches'!D5="A","E","") | D54: =IF('Fun Patches'!E5="A","E","") | F54: =IF('Fun Patches'!F5="A","E","") | H54: =IF('Fun Patches'!G5="A","E","") | J54: =IF('Fun Patches'!H5="A","E","") | L54: =IF('Fun Patches'!I5="A","E","") | N54: =IF('Fun Patches'!J5="A","E","") | P54: =IF('Fun Patches'!K5="A","E","") | R54: =IF('Fun Patches'!L5="A","E","") | T54: =IF('Fun Patches'!M5="A","E","") | V54: =IF('Fun Patches'!N5="A","E","") | X54: =IF('Fun Patches'!O5="A","E","") | Z54: =IF('Fun Patches'!P5="A","E","") | AB54: =IF('Fun Patches'!Q5="A","E","") | AD54: =IF('Fun Patches'!R5="A","E","") | AF54: =IF('Fun Patches'!S5="A","E","") | AH54: =IF('Fun Patches'!T5="A","E","") | AJ54: =IF('Fun Patches'!U5="A","E","") | AL54: =IF('Fun Patches'!V5="A","E","") | AN54: =IF('Fun Patches'!W5="A","E","") | AP54: =IF('Fun Patches'!X5="A","E","") | AR54: =IF('Fun Patches'!Y5="A","E","") | AT54: =IF('Fun Patches'!Z5="A","E","") | AV54: =IF('Fun Patches'!AA5="A","E","") | AX54: =IF('Fun Patches'!AB5="A","E","") | AZ54: =IF('Fun Patches'!AC5="A","E","") | BB54: =IF('Fun Patches'!AD5="A","E","") | BD54: =IF('Fun Patches'!AE5="A","E","") | BF54: =IF('Fun Patches'!AF5="A","E","") | BH54: =IF('Fun Patches'!AG5="A","E","")
A55: ='Fun Patches'!C6 -> <List Patch Here> | B55: =IF('Fun Patches'!D6="A","E","") | D55: =IF('Fun Patches'!E6="A","E","") | F55: =IF('Fun Patches'!F6="A","E","") | H55: =IF('Fun Patches'!G6="A","E","") | J55: =IF('Fun Patches'!H6="A","E","") | L55: =IF('Fun Patches'!I6="A","E","") | N55: =IF('Fun Patches'!J6="A","E","") | P55: =IF('Fun Patches'!K6="A","E","") | R55: =IF('Fun Patches'!L6="A","E","") | T55: =IF('Fun Patches'!M6="A","E","") | V55: =IF('Fun Patches'!N6="A","E","") | X55: =IF('Fun Patches'!O6="A","E","") | Z55: =IF('Fun Patches'!P6="A","E","") | AB55: =IF('Fun Patches'!Q6="A","E","") | AD55: =IF('Fun Patches'!R6="A","E","") | AF55: =IF('Fun Patches'!S6="A","E","") | AH55: =IF('Fun Patches'!T6="A","E","") | AJ55: =IF('Fun Patches'!U6="A","E","") | AL55: =IF('Fun Patches'!V6="A","E","") | AN55: =IF('Fun Patches'!W6="A","E","") | AP55: =IF('Fun Patches'!X6="A","E","") | AR55: =IF('Fun Patches'!Y6="A","E","") | AT55: =IF('Fun Patches'!Z6="A","E","") | AV55: =IF('Fun Patches'!AA6="A","E","") | AX55: =IF('Fun Patches'!AB6="A","E","") | AZ55: =IF('Fun Patches'!AC6="A","E","") | BB55: =IF('Fun Patches'!AD6="A","E","") | BD55: =IF('Fun Patches'!AE6="A","E","") | BF55: =IF('Fun Patches'!AF6="A","E","") | BH55: =IF('Fun Patches'!AG6="A","E","")
A56: ='Fun Patches'!C7 -> <List Patch Here> | B56: =IF('Fun Patches'!D7="A","E","") | D56: =IF('Fun Patches'!E7="A","E","") | F56: =IF('Fun Patches'!F7="A","E","") | H56: =IF('Fun Patches'!G7="A","E","") | J56: =IF('Fun Patches'!H7="A","E","") | L56: =IF('Fun Patches'!I7="A","E","") | N56: =IF('Fun Patches'!J7="A","E","") | P56: =IF('Fun Patches'!K7="A","E","") | R56: =IF('Fun Patches'!L7="A","E","") | T56: =IF('Fun Patches'!M7="A","E","") | V56: =IF('Fun Patches'!N7="A","E","") | X56: =IF('Fun Patches'!O7="A","E","") | Z56: =IF('Fun Patches'!P7="A","E","") | AB56: =IF('Fun Patches'!Q7="A","E","") | AD56: =IF('Fun Patches'!R7="A","E","") | AF56: =IF('Fun Patches'!S7="A","E","") | AH56: =IF('Fun Patches'!T7="A","E","") | AJ56: =IF('Fun Patches'!U7="A","E","") | AL56: =IF('Fun Patches'!V7="A","E","") | AN56: =IF('Fun Patches'!W7="A","E","") | AP56: =IF('Fun Patches'!X7="A","E","") | AR56: =IF('Fun Patches'!Y7="A","E","") | AT56: =IF('Fun Patches'!Z7="A","E","") | AV56: =IF('Fun Patches'!AA7="A","E","") | AX56: =IF('Fun Patches'!AB7="A","E","") | AZ56: =IF('Fun Patches'!AC7="A","E","") | BB56: =IF('Fun Patches'!AD7="A","E","") | BD56: =IF('Fun Patches'!AE7="A","E","") | BF56: =IF('Fun Patches'!AF7="A","E","") | BH56: =IF('Fun Patches'!AG7="A","E","")
A57: ='Fun Patches'!C8 -> <List Patch Here> | B57: =IF('Fun Patches'!D8="A","E","") | D57: =IF('Fun Patches'!E8="A","E","") | F57: =IF('Fun Patches'!F8="A","E","") | H57: =IF('Fun Patches'!G8="A","E","") | J57: =IF('Fun Patches'!H8="A","E","") | L57: =IF('Fun Patches'!I8="A","E","") | N57: =IF('Fun Patches'!J8="A","E","") | P57: =IF('Fun Patches'!K8="A","E","") | R57: =IF('Fun Patches'!L8="A","E","") | T57: =IF('Fun Patches'!M8="A","E","") | V57: =IF('Fun Patches'!N8="A","E","") | X57: =IF('Fun Patches'!O8="A","E","") | Z57: =IF('Fun Patches'!P8="A","E","") | AB57: =IF('Fun Patches'!Q8="A","E","") | AD57: =IF('Fun Patches'!R8="A","E","") | AF57: =IF('Fun Patches'!S8="A","E","") | AH57: =IF('Fun Patches'!T8="A","E","") | AJ57: =IF('Fun Patches'!U8="A","E","") | AL57: =IF('Fun Patches'!V8="A","E","") | AN57: =IF('Fun Patches'!W8="A","E","") | AP57: =IF('Fun Patches'!X8="A","E","") | AR57: =IF('Fun Patches'!Y8="A","E","") | AT57: =IF('Fun Patches'!Z8="A","E","") | AV57: =IF('Fun Patches'!AA8="A","E","") | AX57: =IF('Fun Patches'!AB8="A","E","") | AZ57: =IF('Fun Patches'!AC8="A","E","") | BB57: =IF('Fun Patches'!AD8="A","E","") | BD57: =IF('Fun Patches'!AE8="A","E","") | BF57: =IF('Fun Patches'!AF8="A","E","") | BH57: =IF('Fun Patches'!AG8="A","E","")
A58: ='Fun Patches'!C9 -> <List Patch Here> | B58: =IF('Fun Patches'!D9="A","E","") | D58: =IF('Fun Patches'!E9="A","E","") | F58: =IF('Fun Patches'!F9="A","E","") | H58: =IF('Fun Patches'!G9="A","E","") | J58: =IF('Fun Patches'!H9="A","E","") | L58: =IF('Fun Patches'!I9="A","E","") | N58: =IF('Fun Patches'!J9="A","E","") | P58: =IF('Fun Patches'!K9="A","E","") | R58: =IF('Fun Patches'!L9="A","E","") | T58: =IF('Fun Patches'!M9="A","E","") | V58: =IF('Fun Patches'!N9="A","E","") | X58: =IF('Fun Patches'!O9="A","E","") | Z58: =IF('Fun Patches'!P9="A","E","") | AB58: =IF('Fun Patches'!Q9="A","E","") | AD58: =IF('Fun Patches'!R9="A","E","") | AF58: =IF('Fun Patches'!S9="A","E","") | AH58: =IF('Fun Patches'!T9="A","E","") | AJ58: =IF('Fun Patches'!U9="A","E","") | AL58: =IF('Fun Patches'!V9="A","E","") | AN58: =IF('Fun Patches'!W9="A","E","") | AP58: =IF('Fun Patches'!X9="A","E","") | AR58: =IF('Fun Patches'!Y9="A","E","") | AT58: =IF('Fun Patches'!Z9="A","E","") | AV58: =IF('Fun Patches'!AA9="A","E","") | AX58: =IF('Fun Patches'!AB9="A","E","") | AZ58: =IF('Fun Patches'!AC9="A","E","") | BB58: =IF('Fun Patches'!AD9="A","E","") | BD58: =IF('Fun Patches'!AE9="A","E","") | BF58: =IF('Fun Patches'!AF9="A","E","") | BH58: =IF('Fun Patches'!AG9="A","E","")
A59: ='Fun Patches'!C10 -> <List Patch Here> | B59: =IF('Fun Patches'!D10="A","E","") | D59: =IF('Fun Patches'!E10="A","E","") | F59: =IF('Fun Patches'!F10="A","E","") | H59: =IF('Fun Patches'!G10="A","E","") | J59: =IF('Fun Patches'!H10="A","E","") | L59: =IF('Fun Patches'!I10="A","E","") | N59: =IF('Fun Patches'!J10="A","E","") | P59: =IF('Fun Patches'!K10="A","E","") | R59: =IF('Fun Patches'!L10="A","E","") | T59: =IF('Fun Patches'!M10="A","E","") | V59: =IF('Fun Patches'!N10="A","E","") | X59: =IF('Fun Patches'!O10="A","E","") | Z59: =IF('Fun Patches'!P10="A","E","") | AB59: =IF('Fun Patches'!Q10="A","E","") | AD59: =IF('Fun Patches'!R10="A","E","") | AF59: =IF('Fun Patches'!S10="A","E","") | AH59: =IF('Fun Patches'!T10="A","E","") | AJ59: =IF('Fun Patches'!U10="A","E","") | AL59: =IF('Fun Patches'!V10="A","E","") | AN59: =IF('Fun Patches'!W10="A","E","") | AP59: =IF('Fun Patches'!X10="A","E","") | AR59: =IF('Fun Patches'!Y10="A","E","") | AT59: =IF('Fun Patches'!Z10="A","E","") | AV59: =IF('Fun Patches'!AA10="A","E","") | AX59: =IF('Fun Patches'!AB10="A","E","") | AZ59: =IF('Fun Patches'!AC10="A","E","") | BB59: =IF('Fun Patches'!AD10="A","E","") | BD59: =IF('Fun Patches'!AE10="A","E","") | BF59: =IF('Fun Patches'!AF10="A","E","") | BH59: =IF('Fun Patches'!AG10="A","E","")
A60: ='Fun Patches'!C11 -> <List Patch Here> | B60: =IF('Fun Patches'!D11="A","E","") | D60: =IF('Fun Patches'!E11="A","E","") | F60: =IF('Fun Patches'!F11="A","E","") | H60: =IF('Fun Patches'!G11="A","E","") | J60: =IF('Fun Patches'!H11="A","E","") | L60: =IF('Fun Patches'!I11="A","E","") | N60: =IF('Fun Patches'!J11="A","E","") | P60: =IF('Fun Patches'!K11="A","E","") | R60: =IF('Fun Patches'!L11="A","E","") | T60: =IF('Fun Patches'!M11="A","E","") | V60: =IF('Fun Patches'!N11="A","E","") | X60: =IF('Fun Patches'!O11="A","E","") | Z60: =IF('Fun Patches'!P11="A","E","") | AB60: =IF('Fun Patches'!Q11="A","E","") | AD60: =IF('Fun Patches'!R11="A","E","") | AF60: =IF('Fun Patches'!S11="A","E","") | AH60: =IF('Fun Patches'!T11="A","E","") | AJ60: =IF('Fun Patches'!U11="A","E","") | AL60: =IF('Fun Patches'!V11="A","E","") | AN60: =IF('Fun Patches'!W11="A","E","") | AP60: =IF('Fun Patches'!X11="A","E","") | AR60: =IF('Fun Patches'!Y11="A","E","") | AT60: =IF('Fun Patches'!Z11="A","E","") | AV60: =IF('Fun Patches'!AA11="A","E","") | AX60: =IF('Fun Patches'!AB11="A","E","") | AZ60: =IF('Fun Patches'!AC11="A","E","") | BB60: =IF('Fun Patches'!AD11="A","E","") | BD60: =IF('Fun Patches'!AE11="A","E","") | BF60: =IF('Fun Patches'!AF11="A","E","") | BH60: =IF('Fun Patches'!AG11="A","E","")
A61: ='Fun Patches'!C12 -> <List Patch Here> | B61: =IF('Fun Patches'!D12="A","E","") | D61: =IF('Fun Patches'!E12="A","E","") | F61: =IF('Fun Patches'!F12="A","E","") | H61: =IF('Fun Patches'!G12="A","E","") | J61: =IF('Fun Patches'!H12="A","E","") | L61: =IF('Fun Patches'!I12="A","E","") | N61: =IF('Fun Patches'!J12="A","E","") | P61: =IF('Fun Patches'!K12="A","E","") | R61: =IF('Fun Patches'!L12="A","E","") | T61: =IF('Fun Patches'!M12="A","E","") | V61: =IF('Fun Patches'!N12="A","E","") | X61: =IF('Fun Patches'!O12="A","E","") | Z61: =IF('Fun Patches'!P12="A","E","") | AB61: =IF('Fun Patches'!Q12="A","E","") | AD61: =IF('Fun Patches'!R12="A","E","") | AF61: =IF('Fun Patches'!S12="A","E","") | AH61: =IF('Fun Patches'!T12="A","E","") | AJ61: =IF('Fun Patches'!U12="A","E","") | AL61: =IF('Fun Patches'!V12="A","E","") | AN61: =IF('Fun Patches'!W12="A","E","") | AP61: =IF('Fun Patches'!X12="A","E","") | AR61: =IF('Fun Patches'!Y12="A","E","") | AT61: =IF('Fun Patches'!Z12="A","E","") | AV61: =IF('Fun Patches'!AA12="A","E","") | AX61: =IF('Fun Patches'!AB12="A","E","") | AZ61: =IF('Fun Patches'!AC12="A","E","") | BB61: =IF('Fun Patches'!AD12="A","E","") | BD61: =IF('Fun Patches'!AE12="A","E","") | BF61: =IF('Fun Patches'!AF12="A","E","") | BH61: =IF('Fun Patches'!AG12="A","E","")
A62: ='Fun Patches'!C13 -> <List Patch Here> | B62: =IF('Fun Patches'!D13="A","E","") | D62: =IF('Fun Patches'!E13="A","E","") | F62: =IF('Fun Patches'!F13="A","E","") | H62: =IF('Fun Patches'!G13="A","E","") | J62: =IF('Fun Patches'!H13="A","E","") | L62: =IF('Fun Patches'!I13="A","E","") | N62: =IF('Fun Patches'!J13="A","E","") | P62: =IF('Fun Patches'!K13="A","E","") | R62: =IF('Fun Patches'!L13="A","E","") | T62: =IF('Fun Patches'!M13="A","E","") | V62: =IF('Fun Patches'!N13="A","E","") | X62: =IF('Fun Patches'!O13="A","E","") | Z62: =IF('Fun Patches'!P13="A","E","") | AB62: =IF('Fun Patches'!Q13="A","E","") | AD62: =IF('Fun Patches'!R13="A","E","") | AF62: =IF('Fun Patches'!S13="A","E","") | AH62: =IF('Fun Patches'!T13="A","E","") | AJ62: =IF('Fun Patches'!U13="A","E","") | AL62: =IF('Fun Patches'!V13="A","E","") | AN62: =IF('Fun Patches'!W13="A","E","") | AP62: =IF('Fun Patches'!X13="A","E","") | AR62: =IF('Fun Patches'!Y13="A","E","") | AT62: =IF('Fun Patches'!Z13="A","E","") | AV62: =IF('Fun Patches'!AA13="A","E","") | AX62: =IF('Fun Patches'!AB13="A","E","") | AZ62: =IF('Fun Patches'!AC13="A","E","") | BB62: =IF('Fun Patches'!AD13="A","E","") | BD62: =IF('Fun Patches'!AE13="A","E","") | BF62: =IF('Fun Patches'!AF13="A","E","") | BH62: =IF('Fun Patches'!AG13="A","E","")
A63: ='Fun Patches'!C14 -> <List Patch Here> | B63: =IF('Fun Patches'!D14="A","E","") | D63: =IF('Fun Patches'!E14="A","E","") | F63: =IF('Fun Patches'!F14="A","E","") | H63: =IF('Fun Patches'!G14="A","E","") | J63: =IF('Fun Patches'!H14="A","E","") | L63: =IF('Fun Patches'!I14="A","E","") | N63: =IF('Fun Patches'!J14="A","E","") | P63: =IF('Fun Patches'!K14="A","E","") | R63: =IF('Fun Patches'!L14="A","E","") | T63: =IF('Fun Patches'!M14="A","E","") | V63: =IF('Fun Patches'!N14="A","E","") | X63: =IF('Fun Patches'!O14="A","E","") | Z63: =IF('Fun Patches'!P14="A","E","") | AB63: =IF('Fun Patches'!Q14="A","E","") | AD63: =IF('Fun Patches'!R14="A","E","") | AF63: =IF('Fun Patches'!S14="A","E","") | AH63: =IF('Fun Patches'!T14="A","E","") | AJ63: =IF('Fun Patches'!U14="A","E","") | AL63: =IF('Fun Patches'!V14="A","E","") | AN63: =IF('Fun Patches'!W14="A","E","") | AP63: =IF('Fun Patches'!X14="A","E","") | AR63: =IF('Fun Patches'!Y14="A","E","") | AT63: =IF('Fun Patches'!Z14="A","E","") | AV63: =IF('Fun Patches'!AA14="A","E","") | AX63: =IF('Fun Patches'!AB14="A","E","") | AZ63: =IF('Fun Patches'!AC14="A","E","") | BB63: =IF('Fun Patches'!AD14="A","E","") | BD63: =IF('Fun Patches'!AE14="A","E","") | BF63: =IF('Fun Patches'!AF14="A","E","") | BH63: =IF('Fun Patches'!AG14="A","E","")
A64: ='Fun Patches'!C15 -> <List Patch Here> | B64: =IF('Fun Patches'!D15="A","E","") | D64: =IF('Fun Patches'!E15="A","E","") | F64: =IF('Fun Patches'!F15="A","E","") | H64: =IF('Fun Patches'!G15="A","E","") | J64: =IF('Fun Patches'!H15="A","E","") | L64: =IF('Fun Patches'!I15="A","E","") | N64: =IF('Fun Patches'!J15="A","E","") | P64: =IF('Fun Patches'!K15="A","E","") | R64: =IF('Fun Patches'!L15="A","E","") | T64: =IF('Fun Patches'!M15="A","E","") | V64: =IF('Fun Patches'!N15="A","E","") | X64: =IF('Fun Patches'!O15="A","E","") | Z64: =IF('Fun Patches'!P15="A","E","") | AB64: =IF('Fun Patches'!Q15="A","E","") | AD64: =IF('Fun Patches'!R15="A","E","") | AF64: =IF('Fun Patches'!S15="A","E","") | AH64: =IF('Fun Patches'!T15="A","E","") | AJ64: =IF('Fun Patches'!U15="A","E","") | AL64: =IF('Fun Patches'!V15="A","E","") | AN64: =IF('Fun Patches'!W15="A","E","") | AP64: =IF('Fun Patches'!X15="A","E","") | AR64: =IF('Fun Patches'!Y15="A","E","") | AT64: =IF('Fun Patches'!Z15="A","E","") | AV64: =IF('Fun Patches'!AA15="A","E","") | AX64: =IF('Fun Patches'!AB15="A","E","") | AZ64: =IF('Fun Patches'!AC15="A","E","") | BB64: =IF('Fun Patches'!AD15="A","E","") | BD64: =IF('Fun Patches'!AE15="A","E","") | BF64: =IF('Fun Patches'!AF15="A","E","") | BH64: =IF('Fun Patches'!AG15="A","E","")
A65: ='Fun Patches'!C16 -> <List Patch Here> | B65: =IF('Fun Patches'!D16="A","E","") | D65: =IF('Fun Patches'!E16="A","E","") | F65: =IF('Fun Patches'!F16="A","E","") | H65: =IF('Fun Patches'!G16="A","E","") | J65: =IF('Fun Patches'!H16="A","E","") | L65: =IF('Fun Patches'!I16="A","E","") | N65: =IF('Fun Patches'!J16="A","E","") | P65: =IF('Fun Patches'!K16="A","E","") | R65: =IF('Fun Patches'!L16="A","E","") | T65: =IF('Fun Patches'!M16="A","E","") | V65: =IF('Fun Patches'!N16="A","E","") | X65: =IF('Fun Patches'!O16="A","E","") | Z65: =IF('Fun Patches'!P16="A","E","") | AB65: =IF('Fun Patches'!Q16="A","E","") | AD65: =IF('Fun Patches'!R16="A","E","") | AF65: =IF('Fun Patches'!S16="A","E","") | AH65: =IF('Fun Patches'!T16="A","E","") | AJ65: =IF('Fun Patches'!U16="A","E","") | AL65: =IF('Fun Patches'!V16="A","E","") | AN65: =IF('Fun Patches'!W16="A","E","") | AP65: =IF('Fun Patches'!X16="A","E","") | AR65: =IF('Fun Patches'!Y16="A","E","") | AT65: =IF('Fun Patches'!Z16="A","E","") | AV65: =IF('Fun Patches'!AA16="A","E","") | AX65: =IF('Fun Patches'!AB16="A","E","") | AZ65: =IF('Fun Patches'!AC16="A","E","") | BB65: =IF('Fun Patches'!AD16="A","E","") | BD65: =IF('Fun Patches'!AE16="A","E","") | BF65: =IF('Fun Patches'!AF16="A","E","") | BH65: =IF('Fun Patches'!AG16="A","E","")
... A93: ='Fun Patches'!C44 -> <List Patch Here> | B93: =IF('Fun Patches'!D44="A","E","") | D93: =IF('Fun Patches'!E44="A","E","") | F93: =IF('Fun Patches'!F44="A","E","") | H93: =IF('Fun Patches'!G44="A","E","") | J93: =IF('Fun Patches'!H44="A","E","") | L93: =IF('Fun Patches'!I44="A","E","") | N93: =IF('Fun Patches'!J44="A","E","") | P93: =IF('Fun Patches'!K44="A","E","") | R93: =IF('Fun Patches'!L44="A","E","") | T93: =IF('Fun Patches'!M44="A","E","") | V93: =IF('Fun Patches'!N44="A","E","") | X93: =IF('Fun Patches'!O44="A","E","") | Z93: =IF('Fun Patches'!P44="A","E","") | AB93: =IF('Fun Patches'!Q44="A","E","") | AD93: =IF('Fun Patches'!R44="A","E","") | AF93: =IF('Fun Patches'!S44="A","E","") | AH93: =IF('Fun Patches'!T44="A","E","") | AJ93: =IF('Fun Patches'!U44="A","E","") | AL93: =IF('Fun Patches'!V44="A","E","") | AN93: =IF('Fun Patches'!W44="A","E","") | AP93: =IF('Fun Patches'!X44="A","E","") | AR93: =IF('Fun Patches'!Y44="A","E","") | AT93: =IF('Fun Patches'!Z44="A","E","") | AV93: =IF('Fun Patches'!AA44="A","E","") | AX93: =IF('Fun Patches'!AB44="A","E","") | AZ93: =IF('Fun Patches'!AC44="A","E","") | BB93: =IF('Fun Patches'!AD44="A","E","") | BD93: =IF('Fun Patches'!AE44="A","E","") | BF93: =IF('Fun Patches'!AF44="A","E","") | BH93: =IF('Fun Patches'!AG44="A","E","")

Sheet Order
A1: Patches to Order Patches to Order Patches to Order | B1: Patches | C1: Quantity | E1: Patches | F1: Quantity | G1: Patches to Order Patches to Order Patches to Order
B2: =Summary!A5 -> Petals | C2: =IF((COUNTIF(Summary!B4:BI4,"E")-COUNTIF(Summary!B4:BI4,"Y")>0),(COUNTIF(Summary!B4:BI4,"E")-COUNTIF(Summary!B4:BI4,"Y")),"") | E2: Fun Patches (cont'd)
B3: =Summary!A16 -> Leaves | E3: =Summary!A60 -> <List Patch Here> | F3: =IF((COUNTIF(Summary!B60:BI60,"E")-COUNTIF(Summary!B60:BI60,"Y")>0),(COUNTIF(Summary!B60:BI60,"E")-COUNTIF(Summary!B60:BI60,"Y")),"")
B4: =Summary!A17 -> Money Counts | E4: =Summary!A61 -> <List Patch Here> | F4: =IF((COUNTIF(Summary!B61:BI61,"E")-COUNTIF(Summary!B61:BI61,"Y")>0),(COUNTIF(Summary!B61:BI61,"E")-COUNTIF(Summary!B61:BI61,"Y")),"")
B5: =Summary!A18 -> Making Choices | E5: =Summary!A62 -> <List Patch Here> | F5: =IF((COUNTIF(Summary!B62:BI62,"E")-COUNTIF(Summary!B62:BI62,"Y")>0),(COUNTIF(Summary!B62:BI62,"E")-COUNTIF(Summary!B62:BI62,"Y")),"")
B6: =Summary!A19 -> Count It Up | E6: =Summary!A63 -> <List Patch Here> | F6: =IF((COUNTIF(Summary!B63:BI63,"E")-COUNTIF(Summary!B63:BI63,"Y")>0),(COUNTIF(Summary!B63:BI63,"E")-COUNTIF(Summary!B63:BI63,"Y")),"")
B7: =Summary!A20 -> Talk It Up | E7: =Summary!A64 -> <List Patch Here> | F7: =IF((COUNTIF(Summary!B64:BI64,"E")-COUNTIF(Summary!B64:BI64,"Y")>0),(COUNTIF(Summary!B64:BI64,"E")-COUNTIF(Summary!B64:BI64,"Y")),"")
B8: Journey Awards | E8: =Summary!A65 -> <List Patch Here> | F8: =IF((COUNTIF(Summary!B65:BI65,"E")-COUNTIF(Summary!B65:BI65,"Y")>0),(COUNTIF(Summary!B65:BI65,"E")-COUNTIF(Summary!B65:BI65,"Y")),"")
B9: =Summary!A22 -> Welcome to the Daisy Flower Garden | C9: =IF((COUNTIF(Summary!B23:BI23,"E")-COUNTIF(Summary!B23:BI23,"Y")>0),(COUNTIF(Summary!B23:BI23,"E")-COUNTIF(Summary!B23:BI23,"Y")),"") | E9: =Summary!A66 -> <List Patch Here> | F9: =IF((COUNTIF(Summary!B66:BI66,"E")-COUNTIF(Summary!B66:BI66,"Y")>0),(COUNTIF(Summary!B66:BI66,"E")-COUNTIF(Summary!B66:BI66,"Y")),"")
B10: =Summary!A26 -> Between Earth and Sky | C10: =IF((COUNTIF(Summary!B27:BI27,"E")-COUNTIF(Summary!B27:BI27,"Y")>0),(COUNTIF(Summary!B27:BI27,"E")-COUNTIF(Summary!B27:BI27,"Y")),"") | E10: =Summary!A67 -> <List Patch Here> | F10: =IF((COUNTIF(Summary!B67:BI67,"E")-COUNTIF(Summary!B67:BI67,"Y")>0),(COUNTIF(Summary!B67:BI67,"E")-COUNTIF(Summary!B67:BI67,"Y")),"")
B11: =Summary!A30 -> 5 Flowers, 4 Stories, 3 Cheers for Animals! | C11: =IF((COUNTIF(Summary!B31:BI31,"E")-COUNTIF(Summary!B31:BI31,"Y")>0),(COUNTIF(Summary!B31:BI31,"E")-COUNTIF(Summary!B31:BI31,"Y")),"") | E11: =Summary!A68 -> <List Patch Here> | F11: =IF((COUNTIF(Summary!B68:BI68,"E")-COUNTIF(Summary!B68:BI68,"Y")>0),(COUNTIF(Summary!B68:BI68,"E")-COUNTIF(Summary!B68:BI68,"Y")),"")
B12: Bridge to Brownies | C12: =IF((COUNTIF(Summary!B34:BI34,"E")-COUNTIF(Summary!B34:BI34,"Y")>0),(COUNTIF(Summary!B34:BI34,"E")-COUNTIF(Summary!B34:BI34,"Y")),"") | E12: =Summary!A69 -> <List Patch Here> | F12: =IF((COUNTIF(Summary!B69:BI69,"E")-COUNTIF(Summary!B69:BI69,"Y")>0),(COUNTIF(Summary!B69:BI69,"E")-COUNTIF(Summary!B69:BI69,"Y")),"")
B13: Age-Level | E13: =Summary!A70 -> <List Patch Here> | F13: =IF((COUNTIF(Summary!B70:BI70,"E")-COUNTIF(Summary!B70:BI70,"Y")>0),(COUNTIF(Summary!B70:BI70,"E")-COUNTIF(Summary!B70:BI70,"Y")),"")
B14: =Summary!A36 -> Cookie Rally (Year 1) | C14: =IF((COUNTIF(Summary!B36:BI36,"E")-COUNTIF(Summary!B36:BI36,"Y")>0),(COUNTIF(Summary!B36:BI36,"E")-COUNTIF(Summary!B36:BI36,"Y")),"") | E14: =Summary!A71 -> <List Patch Here> | F14: =IF((COUNTIF(Summary!B71:BI71,"E")-COUNTIF(Summary!B71:BI71,"Y")>0),(COUNTIF(Summary!B71:BI71,"E")-COUNTIF(Summary!B71:BI71,"Y")),"")
B15: =Summary!A37 -> Cookie Sales (Year 1) | C15: =IF((COUNTIF(Summary!B37:BI37,"E")-COUNTIF(Summary!B37:BI37,"Y")>0),(COUNTIF(Summary!B37:BI37,"E")-COUNTIF(Summary!B37:BI37,"Y")),"") | E15: =Summary!A72 -> <List Patch Here> | F15: =IF((COUNTIF(Summary!B72:BI72,"E")-COUNTIF(Summary!B72:BI72,"Y")>0),(COUNTIF(Summary!B72:BI72,"E")-COUNTIF(Summary!B72:BI72,"Y")),"")
B16: =Summary!A38 -> Cookie Pin (Year 1) | C16: =IF((COUNTIF(Summary!B38:BI38,"E")-COUNTIF(Summary!B38:BI38,"Y")>0),(COUNTIF(Summary!B38:BI38,"E")-COUNTIF(Summary!B38:BI38,"Y")),"") | E16: =Summary!A73 -> <List Patch Here> | F16: =IF((COUNTIF(Summary!B73:BI73,"E")-COUNTIF(Summary!B73:BI73,"Y")>0),(COUNTIF(Summary!B73:BI73,"E")-COUNTIF(Summary!B73:BI73,"Y")),"")
B17: =Summary!A39 -> Cookie Rally (Year 2) | C17: =IF((COUNTIF(Summary!B39:BI39,"E")-COUNTIF(Summary!B39:BI39,"Y")>0),(COUNTIF(Summary!B39:BI39,"E")-COUNTIF(Summary!B39:BI39,"Y")),"") | E17: =Summary!A74 -> <List Patch Here> | F17: =IF((COUNTIF(Summary!B74:BI74,"E")-COUNTIF(Summary!B74:BI74,"Y")>0),(COUNTIF(Summary!B74:BI74,"E")-COUNTIF(Summary!B74:BI74,"Y")),"")
B18: =Summary!A40 -> Cookie Sales (Year 2) | C18: =IF((COUNTIF(Summary!B40:BI40,"E")-COUNTIF(Summary!B40:BI40,"Y")>0),(COUNTIF(Summary!B40:BI40,"E")-COUNTIF(Summary!B40:BI40,"Y")),"") | E18: =Summary!A75 -> <List Patch Here> | F18: =IF((COUNTIF(Summary!B75:BI75,"E")-COUNTIF(Summary!B75:BI75,"Y")>0),(COUNTIF(Summary!B75:BI75,"E")-COUNTIF(Summary!B75:BI75,"Y")),"")
B19: =Summary!A41 -> Cookie Pin (Year 2) | C19: =IF((COUNTIF(Summary!B41:BI41,"E")-COUNTIF(Summary!B41:BI41,"Y")>0),(COUNTIF(Summary!B41:BI41,"E")-COUNTIF(Summary!B41:BI41,"Y")),"") | E19: =Summary!A76 -> <List Patch Here> | F19: =IF((COUNTIF(Summary!B76:BI76,"E")-COUNTIF(Summary!B76:BI76,"Y")>0),(COUNTIF(Summary!B76:BI76,"E")-COUNTIF(Summary!B76:BI76,"Y")),"")
B20: =Summary!A42 -> Fall Sales (Year 1) | C20: =IF((COUNTIF(Summary!B42:BI42,"E")-COUNTIF(Summary!B42:BI42,"Y")>0),(COUNTIF(Summary!B42:BI42,"E")-COUNTIF(Summary!B42:BI42,"Y")),"") | E20: =Summary!A77 -> <List Patch Here> | F20: =IF((COUNTIF(Summary!B77:BI77,"E")-COUNTIF(Summary!B77:BI77,"Y")>0),(COUNTIF(Summary!B77:BI77,"E")-COUNTIF(Summary!B77:BI77,"Y")),"")
B21: =Summary!A43 -> Fall Sales (Year 2) | C21: =IF((COUNTIF(Summary!B43:BI43,"E")-COUNTIF(Summary!B43:BI43,"Y")>0),(COUNTIF(Summary!B43:BI43,"E")-COUNTIF(Summary!B43:BI43,"Y")),"") | E21: =Summary!A78 -> <List Patch Here> | F21: =IF((COUNTIF(Summary!B78:BI78,"E")-COUNTIF(Summary!B78:BI78,"Y")>0),(COUNTIF(Summary!B78:BI78,"E")-COUNTIF(Summary!B78:BI78,"Y")),"")
B22: =Summary!A44 -> Thinking Day (Year 1) | C22: =IF((COUNTIF(Summary!B44:BI44,"E")-COUNTIF(Summary!B44:BI44,"Y")>0),(COUNTIF(Summary!B44:BI44,"E")-COUNTIF(Summary!B44:BI44,"Y")),"") | E22: =Summary!A79 -> <List Patch Here> | F22: =IF((COUNTIF(Summary!B79:BI79,"E")-COUNTIF(Summary!B79:BI79,"Y")>0),(COUNTIF(Summary!B79:BI79,"E")-COUNTIF(Summary!B79:BI79,"Y")),"")
B23: =Summary!A45 -> Thinking Day (Year 2) | C23: =IF((COUNTIF(Summary!B45:BI45,"E")-COUNTIF(Summary!B45:BI45,"Y")>0),(COUNTIF(Summary!B45:BI45,"E")-COUNTIF(Summary!B45:BI45,"Y")),"") | E23: =Summary!A80 -> <List Patch Here> | F23: =IF((COUNTIF(Summary!B80:BI80,"E")-COUNTIF(Summary!B80:BI80,"Y")>0),(COUNTIF(Summary!B80:BI80,"E")-COUNTIF(Summary!B80:BI80,"Y")),"")
B24: =Summary!A46 -> Investiture | C24: =IF((COUNTIF(Summary!B46:BI46,"E")-COUNTIF(Summary!B46:BI46,"Y")>0),(COUNTIF(Summary!B46:BI46,"E")-COUNTIF(Summary!B46:BI46,"Y")),"") | E24: =Summary!A81 -> <List Patch Here> | F24: =IF((COUNTIF(Summary!B81:BI81,"E")-COUNTIF(Summary!B81:BI81,"Y")>0),(COUNTIF(Summary!B81:BI81,"E")-COUNTIF(Summary!B81:BI81,"Y")),"")
B25: =Summary!A47 -> Rededication (1st year) | C25: =IF((COUNTIF(Summary!B47:BI47,"E")-COUNTIF(Summary!B47:BI47,"Y")>0),(COUNTIF(Summary!B47:BI47,"E")-COUNTIF(Summary!B47:BI47,"Y")),"") | E25: =Summary!A82 -> <List Patch Here> | F25: =IF((COUNTIF(Summary!B82:BI82,"E")-COUNTIF(Summary!B82:BI82,"Y")>0),(COUNTIF(Summary!B82:BI82,"E")-COUNTIF(Summary!B82:BI82,"Y")),"")
... B30: =Summary!A52 -> Safety Award | C30: =IF((COUNTIF(Summary!B52:BI52,"E")-COUNTIF(Summary!B52:BI52,"Y")>0),(COUNTIF(Summary!B52:BI52,"E")-COUNTIF(Summary!B52:BI52,"Y")),"") | E30: =Summary!A87 -> <List Patch Here> | F30: =IF((COUNTIF(Summary!B87:BI87,"E")-COUNTIF(Summary!B87:BI87,"Y")>0),(COUNTIF(Summary!B87:BI87,"E")-COUNTIF(Summary!B87:BI87,"Y")),"")
B31: Fun Patches | E31: =Summary!A88 -> <List Patch Here> | F31: =IF((COUNTIF(Summary!B88:BI88,"E")-COUNTIF(Summary!B88:BI88,"Y")>0),(COUNTIF(Summary!B88:BI88,"E")-COUNTIF(Summary!B88:BI88,"Y")),"")
B32: =Summary!A54 -> <List Patch Here> | C32: =IF((COUNTIF(Summary!B54:BI54,"E")-COUNTIF(Summary!B54:BI54,"Y")>0),(COUNTIF(Summary!B54:BI54,"E")-COUNTIF(Summary!B54:BI54,"Y")),"") | E32: =Summary!A89 -> <List Patch Here> | F32: =IF((COUNTIF(Summary!B89:BI89,"E")-COUNTIF(Summary!B89:BI89,"Y")>0),(COUNTIF(Summary!B89:BI89,"E")-COUNTIF(Summary!B89:BI89,"Y")),"")
B33: =Summary!A55 -> <List Patch Here> | C33: =IF((COUNTIF(Summary!B55:BI55,"E")-COUNTIF(Summary!B55:BI55,"Y")>0),(COUNTIF(Summary!B55:BI55,"E")-COUNTIF(Summary!B55:BI55,"Y")),"") | E33: =Summary!A90 -> <List Patch Here> | F33: =IF((COUNTIF(Summary!B90:BI90,"E")-COUNTIF(Summary!B90:BI90,"Y")>0),(COUNTIF(Summary!B90:BI90,"E")-COUNTIF(Summary!B90:BI90,"Y")),"")
B34: =Summary!A56 -> <List Patch Here> | C34: =IF((COUNTIF(Summary!B56:BI56,"E")-COUNTIF(Summary!B56:BI56,"Y")>0),(COUNTIF(Summary!B56:BI56,"E")-COUNTIF(Summary!B56:BI56,"Y")),"") | E34: =Summary!A91 -> <List Patch Here> | F34: =IF((COUNTIF(Summary!B91:BI91,"E")-COUNTIF(Summary!B91:BI91,"Y")>0),(COUNTIF(Summary!B91:BI91,"E")-COUNTIF(Summary!B91:BI91,"Y")),"")
B35: =Summary!A57 -> <List Patch Here> | C35: =IF((COUNTIF(Summary!B57:BI57,"E")-COUNTIF(Summary!B57:BI57,"Y")>0),(COUNTIF(Summary!B57:BI57,"E")-COUNTIF(Summary!B57:BI57,"Y")),"") | E35: =Summary!A92 -> <List Patch Here> | F35: =IF((COUNTIF(Summary!B92:BI92,"E")-COUNTIF(Summary!B92:BI92,"Y")>0),(COUNTIF(Summary!B92:BI92,"E")-COUNTIF(Summary!B92:BI92,"Y")),"")
B36: =Summary!A58 -> <List Patch Here> | C36: =IF((COUNTIF(Summary!B58:BI58,"E")-COUNTIF(Summary!B58:BI58,"Y")>0),(COUNTIF(Summary!B58:BI58,"E")-COUNTIF(Summary!B58:BI58,"Y")),"") | E36: =Summary!A93 -> <List Patch Here> | F36: =IF((COUNTIF(Summary!B93:BI93,"E")-COUNTIF(Summary!B93:BI93,"Y")>0),(COUNTIF(Summary!B93:BI93,"E")-COUNTIF(Summary!B93:BI93,"Y")),"")
B37: =Summary!A59 -> <List Patch Here> | C37: =IF((COUNTIF(Summary!B59:BI59,"E")-COUNTIF(Summary!B59:BI59,"Y")>0),(COUNTIF(Summary!B59:BI59,"E")-COUNTIF(Summary!B59:BI59,"Y")),"")

Sheet Daisy 1
A1: =MID(CELL("filename",A1),FIND(IF(ISERROR(FIND("]",CELL("filename",A1))),"$","]"),CELL("filename",A1))+1,256) -> Daisy 1 | D1: Petals | I1: Bridging
D2: Petal Center
A3: Awards | E3: =Petals!B6 -> Center | F3: =Petals!C6 -> Promise Center | G3: =IF(Petals!D6="A","A","") | I3: =Bridging!B6 -> Pass It On
A4: Petals | B4: =IF(Petals!D18="C","C",IF(Petals!D18="P","P","")) | D4: Petals | I4: 1 | J4: =Bridging!C7 -> Teach younger girls the GS Promise | K4: =IF(Bridging!D7="A","A","")
A5: Leaves | B5: =INT(COUNTIF(G18:G21,"A")) -> 0 | E5: =Petals!B8 -> Lupe | F5: =Petals!C8 -> Honest and fair | G5: =IF(Petals!D8="A","A","") | I5: 2 | J5: =Bridging!C8 -> Tell younger girls about the Flower | K5: =IF(Bridging!D8="A","A","")
A6: Journey Awards | E6: =Petals!B9 -> Sunny | F6: =Petals!C9 -> Friendly and helpful | G6: =IF(Petals!D9="A","A","") | I6: 3 | J6: =Bridging!C9 -> Play a game together! | K6: =IF(Bridging!D9="A","A","")
A7: ='Journey Awards'!A6 -> Welcome to the Daisy Flower Garden | B7: =IF('Journey Awards'!D11="C","C",IF('Journey Awards'!D11="P","P","")) | E7: =Petals!B10 -> Zinni | F7: =Petals!C10 -> Considerate and caring | G7: =IF(Petals!D10="A","A","") | I7: =Bridging!B11 -> Look Ahead
A8: ='Journey Awards'!A14 -> Between Earth and Sky | B8: =IF('Journey Awards'!D19="C","C",IF('Journey Awards'!D19="P","P","")) | E8: =Petals!B11 -> Tula | F8: =Petals!C11 -> Courageous and strong | G8: =IF(Petals!D11="A","A","") | I8: 1 | J8: =Bridging!C12 -> Say the Girl Scout Promise together. | K8: =IF(Bridging!D12="A","A","")
A9: ='Journey Awards'!A22 -> 5 Flowers, 4 Stories, 3 Cheers for Animals! | B9: =IF('Journey Awards'!D27="C","C",IF('Journey Awards'!D27="P","P","")) | E9: =Petals!B12 -> Mari | F9: =Petals!C12 -> Responsible for what I say and do | G9: =IF(Petals!D12="A","A","") | I9: 2 | J9: =Bridging!C13 -> Ask the Brownies to teach you | K9: =IF(Bridging!D13="A","A","")
A10: Bridge to Brownies | B10: =IF(Bridging!D18="C","C",IF(Bridging!D18="P","P","")) | E10: =Petals!B13 -> Gloria | F10: =Petals!C13 -> Respect for myself & others | G10: =IF(Petals!D13="A","A","") | I10: 4 | J10: =Bridging!C14 -> Ask the Brownies to show you | K10: =IF(Bridging!D14="A","A","")
E11: =Petals!B14 -> Gerri | F11: =Petals!C14 -> Respect authority | G11: =IF(Petals!D14="A","A","") | I11: =Bridging!C16 -> Plan a Ceremony | K11: =IF(Bridging!D16="A","A","")
A12: Fun Patches | E12: =Petals!B15 -> Clover | F12: =Petals!C15 -> Use resources wisely | G12: =IF(Petals!D15="A","A","")
A13: ='Fun Patches'!C5 -> <List Patch Here> | B13: =IF('Fun Patches'!D5="A","C","") | E13: =Petals!B16 -> Rosie | F13: =Petals!C16 -> Make the world a better place | G13: =IF(Petals!D16="A","A","") | I13: Earned Age-Level
A14: ='Fun Patches'!C6 -> <List Patch Here> | B14: =IF('Fun Patches'!D6="A","C","") | E14: =Petals!B17 -> Vi | F14: =Petals!C17 -> Be a sister to every Girl Scout | G14: =IF(Petals!D17="A","A","")
A15: ='Fun Patches'!C7 -> <List Patch Here> | B15: =IF('Fun Patches'!D7="A","C","") | J15: ='Age-Level'!C6 -> Cookie Rally (Year 1) | K15: =IF('Age-Level'!D6="A","C","")
A16: ='Fun Patches'!C8 -> <List Patch Here> | B16: =IF('Fun Patches'!D8="A","C","") | D16: Leaves | J16: ='Age-Level'!C7 -> Cookie Sales (Year 1) | K16: =IF('Age-Level'!D7="A","C","")
A17: ='Fun Patches'!C9 -> <List Patch Here> | B17: =IF('Fun Patches'!D9="A","C","") | J17: ='Age-Level'!C8 -> Cookie Pin (Year 1) | K17: =IF('Age-Level'!D8="A","C","")
A18: ='Fun Patches'!C10 -> <List Patch Here> | B18: =IF('Fun Patches'!D10="A","C","") | D18: =Petals!B22 -> Finance | F18: =Petals!B20 -> Money Counts | G18: =IF(Petals!D23="C","A","") | J18: ='Age-Level'!C9 -> Cookie Rally (Year 2) | K18: =IF('Age-Level'!D9="A","C","")
A19: ='Fun Patches'!C11 -> <List Patch Here> | B19: =IF('Fun Patches'!D11="A","C","") | D19: =Petals!B27 -> Finance | F19: =Petals!B25 -> Making Choices | G19: =IF(Petals!D28="C","A","") | J19: ='Age-Level'!C10 -> Cookie Sales (Year 2) | K19: =IF('Age-Level'!D10="A","C","")
A20: ='Fun Patches'!C12 -> <List Patch Here> | B20: =IF('Fun Patches'!D12="A","C","") | D20: =Petals!B32 -> Cookie | F20: =Petals!B30 -> Count It Up | G20: =IF(Petals!D33="C","A","") | J20: ='Age-Level'!C11 -> Cookie Pin (Year 2) | K20: =IF('Age-Level'!D11="A","C","")
A21: ='Fun Patches'!C13 -> <List Patch Here> | B21: =IF('Fun Patches'!D13="A","C","") | D21: =Petals!B37 -> Cookie | F21: =Petals!B35 -> Talk It Up | G21: =IF(Petals!D38="C","A","") | J21: ='Age-Level'!C13 -> Fall Sales (Year 1) | K21: =IF('Age-Level'!D13="A","C","")
A22: ='Fun Patches'!C14 -> <List Patch Here> | B22: =IF('Fun Patches'!D14="A","C","") | J22: ='Age-Level'!C14 -> Fall Sales (Year 2) | K22: =IF('Age-Level'!D14="A","C","")
A23: ='Fun Patches'!C15 -> <List Patch Here> | B23: =IF('Fun Patches'!D15="A","C","") | D23: Journey Awards | J23: ='Age-Level'!C16 -> Thinking Day (Year 1) | K23: =IF('Age-Level'!D16="A","C","")
A24: ='Fun Patches'!C16 -> <List Patch Here> | B24: =IF('Fun Patches'!D16="A","C","") | J24: ='Age-Level'!C17 -> Thinking Day (Year 2) | K24: =IF('Age-Level'!D17="A","C","")
A25: ='Fun Patches'!C17 -> <List Patch Here> | B25: =IF('Fun Patches'!D17="A","C","") | D25: ='Journey Awards'!A6 -> Welcome to the Daisy Flower Garden | J25: ='Age-Level'!C19 -> Investiture | K25: =IF('Age-Level'!D19="A","C","")
A26: ='Fun Patches'!C18 -> <List Patch Here> | B26: =IF('Fun Patches'!D18="A","C","") | E26: Watering Can | G26: =IF('Journey Awards'!D8="A","A","") | J26: ='Age-Level'!C20 -> Rededication (1st year) | K26: =IF('Age-Level'!D20="A","C","")
A27: ='Fun Patches'!C19 -> <List Patch Here> | B27: =IF('Fun Patches'!D19="A","C","") | E27: Golden Honey Bee | G27: =IF('Journey Awards'!D9="A","A","") | J27: ='Age-Level'!B21 -> My Promise, My Faith (Year 1) | K27: =IF('Age-Level'!D27="C","C","")
A28: ='Fun Patches'!C20 -> <List Patch Here> | B28: =IF('Fun Patches'!D20="A","C","") | E28: Amazing Daisy | G28: =IF('Journey Awards'!D10="A","A","") | J28: ='Age-Level'!B28 -> My Promise, My Faith (Year 2) | K28: =IF('Age-Level'!D34="c","C","")
A29: ='Fun Patches'!C21 -> <List Patch Here> | B29: =IF('Fun Patches'!D21="A","C","") | D29: ='Journey Awards'!A14 -> Between Earth and Sky | J29: ='Age-Level'!C36 -> Global Action Award | K29: =IF('Age-Level'!D36="A","C","")
A30: ='Fun Patches'!C22 -> <List Patch Here> | B30: =IF('Fun Patches'!D22="A","C","") | E30: ='Journey Awards'!C16 -> The Blue Bucket Award | G30: =IF('Journey Awards'!D16="A","A","") | J30: ='Age-Level'!C38 -> Journey Summit Pin | K30: =IF('Age-Level'!D38="C","C","")
A31: ='Fun Patches'!C23 -> <List Patch Here> | B31: =IF('Fun Patches'!D23="A","C","") | E31: ='Journey Awards'!C17 -> The Firefly Award | G31: =IF('Journey Awards'!D17="A","A","") | J31: ='Age-Level'!B39 -> Safety Award | K31: =IF('Age-Level'!D43="C","C","")
A32: ='Fun Patches'!C24 -> <List Patch Here> | B32: =IF('Fun Patches'!D24="A","C","") | E32: ='Journey Awards'!C18 -> The Clover Award | G32: =IF('Journey Awards'!D18="A","A","")
A33: ='Fun Patches'!C25 -> <List Patch Here> | B33: =IF('Fun Patches'!D25="A","C","") | D33: ='Journey Awards'!A22 -> 5 Flowers, 4 Stories, 3 Cheers for Animals! | G33: =IF('Journey Awards'!D15="A","A","") | J33: Fun Patches (cont'd)
A34: ='Fun Patches'!C26 -> <List Patch Here> | B34: =IF('Fun Patches'!D26="A","C","") | E34: ='Journey Awards'!C24 -> Birdbath Award | G34: =IF('Journey Awards'!D24="A","A","") | J34: ='Fun Patches'!C35 -> <List Patch Here> | K34: =IF('Fun Patches'!D35="A","C","")
A35: ='Fun Patches'!C27 -> <List Patch Here> | B35: =IF('Fun Patches'!D27="A","C","") | E35: ='Journey Awards'!C25 -> Red Robin Award | G35: =IF('Journey Awards'!D25="A","A","") | J35: ='Fun Patches'!C36 -> <List Patch Here> | K35: =IF('Fun Patches'!D36="A","C","")
A36: ='Fun Patches'!C28 -> <List Patch Here> | B36: =IF('Fun Patches'!D28="A","C","") | E36: ='Journey Awards'!C26 -> Tula Award | G36: =IF('Journey Awards'!D26="A","A","") | J36: ='Fun Patches'!C37 -> <List Patch Here> | K36: =IF('Fun Patches'!D37="A","C","")
A37: ='Fun Patches'!C29 -> <List Patch Here> | B37: =IF('Fun Patches'!D29="A","C","") | J37: ='Fun Patches'!C38 -> <List Patch Here> | K37: =IF('Fun Patches'!D38="A","C","")
D38: Fun Patches (cont'd) | J38: ='Fun Patches'!C39 -> <List Patch Here> | K38: =IF('Fun Patches'!D39="A","C","")
E39: ='Fun Patches'!C30 -> <List Patch Here> | G39: =IF('Fun Patches'!D30="A","C","") | J39: ='Fun Patches'!C40 -> <List Patch Here> | K39: =IF('Fun Patches'!D40="A","C","")
A40: Key | E40: ='Fun Patches'!C31 -> <List Patch Here> | G40: =IF('Fun Patches'!D31="A","C","") | J40: ='Fun Patches'!C41 -> <List Patch Here> | K40: =IF('Fun Patches'!D41="A","C","")
A41: C = Completed Award | E41: ='Fun Patches'!C32 -> <List Patch Here> | G41: =IF('Fun Patches'!D32="A","C","") | J41: ='Fun Patches'!C42 -> <List Patch Here> | K41: =IF('Fun Patches'!D42="A","C","")
A42: P = Partially Completed Award | E42: ='Fun Patches'!C33 -> <List Patch Here> | G42: =IF('Fun Patches'!D33="A","C","") | J42: ='Fun Patches'!C43 -> <List Patch Here> | K42: =IF('Fun Patches'!D43="A","C","")
A43: A = Individual Requirement Achieved | E43: ='Fun Patches'!C34 -> <List Patch Here> | G43: =IF('Fun Patches'!D34="A","C","") | J43: ='Fun Patches'!C44 -> <List Patch Here> | K43: =IF('Fun Patches'!D44="A","C","")

Sheet Daisy 2
A1: =MID(CELL("filename",A1),FIND(IF(ISERROR(FIND("]",CELL("filename",A1))),"$","]"),CELL("filename",A1))+1,256) -> Daisy 2 | D1: Petals | I1: Bridging
D2: Petal Center
A3: Awards | E3: =Petals!B6 -> Center | F3: =Petals!C6 -> Promise Center | G3: =IF(Petals!E6="A","A","") | I3: =Bridging!B6 -> Pass It On
A4: Petals | B4: =IF(Petals!E18="C","C",IF(Petals!E18="P","P","")) | D4: Petals | I4: 1 | J4: =Bridging!C7 -> Teach younger girls the GS Promise | K4: =IF(Bridging!E7="A","A","")
A5: Leaves | B5: =INT(COUNTIF(G18:G21,"A")) -> 0 | E5: =Petals!B8 -> Lupe | F5: =Petals!C8 -> Honest and fair | G5: =IF(Petals!E8="A","A","") | I5: 2 | J5: =Bridging!C8 -> Tell younger girls about the Flower | K5: =IF(Bridging!E8="A","A","")
A6: Journey Awards | E6: =Petals!B9 -> Sunny | F6: =Petals!C9 -> Friendly and helpful | G6: =IF(Petals!E9="A","A","") | I6: 3 | J6: =Bridging!C9 -> Play a game together! | K6: =IF(Bridging!E9="A","A","")
A7: ='Journey Awards'!A6 -> Welcome to the Daisy Flower Garden | B7: =IF('Journey Awards'!E11="C","C",IF('Journey Awards'!E11="P","P","")) | E7: =Petals!B10 -> Zinni | F7: =Petals!C10 -> Considerate and caring | G7: =IF(Petals!E10="A","A","") | I7: =Bridging!B11 -> Look Ahead
A8: ='Journey Awards'!A14 -> Between Earth and Sky | B8: =IF('Journey Awards'!E19="C","C",IF('Journey Awards'!E19="P","P","")) | E8: =Petals!B11 -> Tula | F8: =Petals!C11 -> Courageous and strong | G8: =IF(Petals!E11="A","A","") | I8: 1 | J8: =Bridging!C12 -> Say the Girl Scout Promise together. | K8: =IF(Bridging!E12="A","A","")
A9: ='Journey Awards'!A22 -> 5 Flowers, 4 Stories, 3 Cheers for Animals! | B9: =IF('Journey Awards'!E27="C","C",IF('Journey Awards'!E27="P","P","")) | E9: =Petals!B12 -> Mari | F9: =Petals!C12 -> Responsible for what I say and do | G9: =IF(Petals!E12="A","A","") | I9: 2 | J9: =Bridging!C13 -> Ask the Brownies to teach you | K9: =IF(Bridging!E13="A","A","")
A10: Bridge to Brownies | B10: =IF(Bridging!E18="C","C",IF(Bridging!E18="P","P","")) | E10: =Petals!B13 -> Gloria | F10: =Petals!C13 -> Respect for myself & others | G10: =IF(Petals!E13="A","A","") | I10: 4 | J10: =Bridging!C14 -> Ask the Brownies to show you | K10: =IF(Bridging!E14="A","A","")
E11: =Petals!B14 -> Gerri | F11: =Petals!C14 -> Respect authority | G11: =IF(Petals!E14="A","A","") | I11: =Bridging!C16 -> Plan a Ceremony | K11: =IF(Bridging!E16="A","A","")
A12: Fun Patches | E12: =Petals!B15 -> Clover | F12: =Petals!C15 -> Use resources wisely | G12: =IF(Petals!E15="A","A","")
A13: ='Fun Patches'!C5 -> <List Patch Here> | B13: =IF('Fun Patches'!E5="A","C","") | E13: =Petals!B16 -> Rosie | F13: =Petals!C16 -> Make the world a better place | G13: =IF(Petals!E16="A","A","") | I13: Earned Age-Level
A14: ='Fun Patches'!C6 -> <List Patch Here> | B14: =IF('Fun Patches'!E6="A","C","") | E14: =Petals!B17 -> Vi | F14: =Petals!C17 -> Be a sister to every Girl Scout | G14: =IF(Petals!E17="A","A","")
A15: ='Fun Patches'!C7 -> <List Patch Here> | B15: =IF('Fun Patches'!E7="A","C","") | J15: ='Age-Level'!C6 -> Cookie Rally (Year 1) | K15: =IF('Age-Level'!E6="A","C","")
A16: ='Fun Patches'!C8 -> <List Patch Here> | B16: =IF('Fun Patches'!E8="A","C","") | D16: Leaves | J16: ='Age-Level'!C7 -> Cookie Sales (Year 1) | K16: =IF('Age-Level'!E7="A","C","")
A17: ='Fun Patches'!C9 -> <List Patch Here> | B17: =IF('Fun Patches'!E9="A","C","") | J17: ='Age-Level'!C8 -> Cookie Pin (Year 1) | K17: =IF('Age-Level'!E8="A","C","")
A18: ='Fun Patches'!C10 -> <List Patch Here> | B18: =IF('Fun Patches'!E10="A","C","") | D18: =Petals!B22 -> Finance | F18: =Petals!B20 -> Money Counts | G18: =IF(Petals!E23="C","A","") | J18: ='Age-Level'!C9 -> Cookie Rally (Year 2) | K18: =IF('Age-Level'!E9="A","C","")
A19: ='Fun Patches'!C11 -> <List Patch Here> | B19: =IF('Fun Patches'!E11="A","C","") | D19: =Petals!B27 -> Finance | F19: =Petals!B25 -> Making Choices | G19: =IF(Petals!E28="C","A","") | J19: ='Age-Level'!C10 -> Cookie Sales (Year 2) | K19: =IF('Age-Level'!E10="A","C","")
A20: ='Fun Patches'!C12 -> <List Patch Here> | B20: =IF('Fun Patches'!E12="A","C","") | D20: =Petals!B32 -> Cookie | F20: =Petals!B30 -> Count It Up | G20: =IF(Petals!E33="C","A","") | J20: ='Age-Level'!C11 -> Cookie Pin (Year 2) | K20: =IF('Age-Level'!E11="A","C","")
A21: ='Fun Patches'!C13 -> <List Patch Here> | B21: =IF('Fun Patches'!E13="A","C","") | D21: =Petals!B37 -> Cookie | F21: =Petals!B35 -> Talk It Up | G21: =IF(Petals!E38="C","A","") | J21: ='Age-Level'!C13 -> Fall Sales (Year 1) | K21: =IF('Age-Level'!E13="A","C","")
A22: ='Fun Patches'!C14 -> <List Patch Here> | B22: =IF('Fun Patches'!E14="A","C","") | J22: ='Age-Level'!C14 -> Fall Sales (Year 2) | K22: =IF('Age-Level'!E14="A","C","")
A23: ='Fun Patches'!C15 -> <List Patch Here> | B23: =IF('Fun Patches'!E15="A","C","") | D23: Journey Awards | J23: ='Age-Level'!C16 -> Thinking Day (Year 1) | K23: =IF('Age-Level'!E16="A","C","")
A24: ='Fun Patches'!C16 -> <List Patch Here> | B24: =IF('Fun Patches'!E16="A","C","") | J24: ='Age-Level'!C17 -> Thinking Day (Year 2) | K24: =IF('Age-Level'!E17="A","C","")
A25: ='Fun Patches'!C17 -> <List Patch Here> | B25: =IF('Fun Patches'!E17="A","C","") | D25: ='Journey Awards'!A6 -> Welcome to the Daisy Flower Garden | J25: ='Age-Level'!C19 -> Investiture | K25: =IF('Age-Level'!E19="A","C","")
A26: ='Fun Patches'!C18 -> <List Patch Here> | B26: =IF('Fun Patches'!E18="A","C","") | E26: Watering Can | G26: =IF('Journey Awards'!E8="A","A","") | J26: ='Age-Level'!C20 -> Rededication (1st year) | K26: =IF('Age-Level'!E20="A","C","")
A27: ='Fun Patches'!C19 -> <List Patch Here> | B27: =IF('Fun Patches'!E19="A","C","") | E27: Golden Honey Bee | G27: =IF('Journey Awards'!E9="A","A","") | J27: ='Age-Level'!B21 -> My Promise, My Faith (Year 1) | K27: =IF('Age-Level'!E27="C","C","")
A28: ='Fun Patches'!C20 -> <List Patch Here> | B28: =IF('Fun Patches'!E20="A","C","") | E28: Amazing Daisy | G28: =IF('Journey Awards'!E10="A","A","") | J28: ='Age-Level'!B28 -> My Promise, My Faith (Year 2) | K28: =IF('Age-Level'!E34="C","C","")
A29: ='Fun Patches'!C21 -> <List Patch Here> | B29: =IF('Fun Patches'!E21="A","C","") | D29: ='Journey Awards'!A14 -> Between Earth and Sky | J29: ='Age-Level'!C36 -> Global Action Award | K29: =IF('Age-Level'!E36="A","C","")
A30: ='Fun Patches'!C22 -> <List Patch Here> | B30: =IF('Fun Patches'!E22="A","C","") | E30: ='Journey Awards'!C16 -> The Blue Bucket Award | G30: =IF('Journey Awards'!E16="A","A","") | J30: ='Age-Level'!C38 -> Journey Summit Pin | K30: =IF('Age-Level'!E38="C","C","")
A31: ='Fun Patches'!C23 -> <List Patch Here> | B31: =IF('Fun Patches'!E23="A","C","") | E31: ='Journey Awards'!C17 -> The Firefly Award | G31: =IF('Journey Awards'!E17="A","A","") | J31: ='Age-Level'!B39 -> Safety Award | K31: =IF('Age-Level'!E43="C","C","")
A32: ='Fun Patches'!C24 -> <List Patch Here> | B32: =IF('Fun Patches'!E24="A","C","") | E32: ='Journey Awards'!C18 -> The Clover Award | G32: =IF('Journey Awards'!E18="A","A","")
A33: ='Fun Patches'!C25 -> <List Patch Here> | B33: =IF('Fun Patches'!E25="A","C","") | D33: ='Journey Awards'!A22 -> 5 Flowers, 4 Stories, 3 Cheers for Animals! | G33: =IF('Journey Awards'!E15="A","A","") | J33: Fun Patches (cont'd)
A34: ='Fun Patches'!C26 -> <List Patch Here> | B34: =IF('Fun Patches'!E26="A","C","") | E34: ='Journey Awards'!C24 -> Birdbath Award | G34: =IF('Journey Awards'!E24="A","A","") | J34: ='Fun Patches'!C35 -> <List Patch Here> | K34: =IF('Fun Patches'!E35="A","C","")
A35: ='Fun Patches'!C27 -> <List Patch Here> | B35: =IF('Fun Patches'!E27="A","C","") | E35: ='Journey Awards'!C25 -> Red Robin Award | G35: =IF('Journey Awards'!E25="A","A","") | J35: ='Fun Patches'!C36 -> <List Patch Here> | K35: =IF('Fun Patches'!E36="A","C","")
A36: ='Fun Patches'!C28 -> <List Patch Here> | B36: =IF('Fun Patches'!E28="A","C","") | E36: ='Journey Awards'!C26 -> Tula Award | G36: =IF('Journey Awards'!E26="A","A","") | J36: ='Fun Patches'!C37 -> <List Patch Here> | K36: =IF('Fun Patches'!E37="A","C","")
A37: ='Fun Patches'!C29 -> <List Patch Here> | B37: =IF('Fun Patches'!E29="A","C","") | J37: ='Fun Patches'!C38 -> <List Patch Here> | K37: =IF('Fun Patches'!E38="A","C","")
D38: Fun Patches (cont'd) | J38: ='Fun Patches'!C39 -> <List Patch Here> | K38: =IF('Fun Patches'!E39="A","C","")
E39: ='Fun Patches'!C30 -> <List Patch Here> | G39: =IF('Fun Patches'!E30="A","C","") | J39: ='Fun Patches'!C40 -> <List Patch Here> | K39: =IF('Fun Patches'!E40="A","C","")
A40: Key | E40: ='Fun Patches'!C31 -> <List Patch Here> | G40: =IF('Fun Patches'!E31="A","C","") | J40: ='Fun Patches'!C41 -> <List Patch Here> | K40: =IF('Fun Patches'!E41="A","C","")
A41: C = Completed Award | E41: ='Fun Patches'!C32 -> <List Patch Here> | G41: =IF('Fun Patches'!E32="A","C","") | J41: ='Fun Patches'!C42 -> <List Patch Here> | K41: =IF('Fun Patches'!E42="A","C","")
A42: P = Partially Completed Award | E42: ='Fun Patches'!C33 -> <List Patch Here> | G42: =IF('Fun Patches'!E33="A","C","") | J42: ='Fun Patches'!C43 -> <List Patch Here> | K42: =IF('Fun Patches'!E43="A","C","")
A43: A = Individual Requirement Achieved | E43: ='Fun Patches'!C34 -> <List Patch Here> | G43: =IF('Fun Patches'!E34="A","C","") | J43: ='Fun Patches'!C44 -> <List Patch Here> | K43: =IF('Fun Patches'!E44="A","C","")

Sheet Daisy 3
A1: =MID(CELL("filename",A1),FIND(IF(ISERROR(FIND("]",CELL("filename",A1))),"$","]"),CELL("filename",A1))+1,256) -> Daisy 3 | D1: Petals | I1: Bridging
D2: Petal Center
A3: Awards | E3: =Petals!B6 -> Center | F3: =Petals!C6 -> Promise Center | G3: =IF(Petals!F6="A","A","") | I3: =Bridging!B6 -> Pass It On
A4: Petals | B4: =IF(Petals!F18="C","C",IF(Petals!F18="P","P","")) | D4: Petals | I4: 1 | J4: =Bridging!C7 -> Teach younger girls the GS Promise | K4: =IF(Bridging!F7="A","A","")
A5: Leaves | B5: =INT(COUNTIF(G18:G21,"A")) -> 0 | E5: =Petals!B8 -> Lupe | F5: =Petals!C8 -> Honest and fair | G5: =IF(Petals!F8="A","A","") | I5: 2 | J5: =Bridging!C8 -> Tell younger girls about the Flower | K5: =IF(Bridging!F8="A","A","")
A6: Journey Awards | E6: =Petals!B9 -> Sunny | F6: =Petals!C9 -> Friendly and helpful | G6: =IF(Petals!F9="A","A","") | I6: 3 | J6: =Bridging!C9 -> Play a game together! | K6: =IF(Bridging!F9="A","A","")
A7: ='Journey Awards'!A6 -> Welcome to the Daisy Flower Garden | B7: =IF('Journey Awards'!F11="C","C",IF('Journey Awards'!F11="P","P","")) | E7: =Petals!B10 -> Zinni | F7: =Petals!C10 -> Considerate and caring | G7: =IF(Petals!F10="A","A","") | I7: =Bridging!B11 -> Look Ahead
A8: ='Journey Awards'!A14 -> Between Earth and Sky | B8: =IF('Journey Awards'!F19="C","C",IF('Journey Awards'!F19="P","P","")) | E8: =Petals!B11 -> Tula | F8: =Petals!C11 -> Courageous and strong | G8: =IF(Petals!F11="A","A","") | I8: 1 | J8: =Bridging!C12 -> Say the Girl Scout Promise together. | K8: =IF(Bridging!F12="A","A","")
A9: ='Journey Awards'!A22 -> 5 Flowers, 4 Stories, 3 Cheers for Animals! | B9: =IF('Journey Awards'!F27="C","C",IF('Journey Awards'!F27="P","P","")) | E9: =Petals!B12 -> Mari | F9: =Petals!C12 -> Responsible for what I say and do | G9: =IF(Petals!F12="A","A","") | I9: 2 | J9: =Bridging!C13 -> Ask the Brownies to teach you | K9: =IF(Bridging!F13="A","A","")
A10: Bridge to Brownies | B10: =IF(Bridging!F18="C","C",IF(Bridging!F18="P","P","")) | E10: =Petals!B13 -> Gloria | F10: =Petals!C13 -> Respect for myself & others | G10: =IF(Petals!F13="A","A","") | I10: 4 | J10: =Bridging!C14 -> Ask the Brownies to show you | K10: =IF(Bridging!F14="A","A","")
E11: =Petals!B14 -> Gerri | F11: =Petals!C14 -> Respect authority | G11: =IF(Petals!F14="A","A","") | I11: =Bridging!C16 -> Plan a Ceremony | K11: =IF(Bridging!F16="A","A","")
A12: Fun Patches | E12: =Petals!B15 -> Clover | F12: =Petals!C15 -> Use resources wisely | G12: =IF(Petals!F15="A","A","")
A13: ='Fun Patches'!C5 -> <List Patch Here> | B13: =IF('Fun Patches'!F5="A","C","") | E13: =Petals!B16 -> Rosie | F13: =Petals!C16 -> Make the world a better place | G13: =IF(Petals!F16="A","A","") | I13: Earned Age-Level
A14: ='Fun Patches'!C6 -> <List Patch Here> | B14: =IF('Fun Patches'!F6="A","C","") | E14: =Petals!B17 -> Vi | F14: =Petals!C17 -> Be a sister to every Girl Scout | G14: =IF(Petals!F17="A","A","")
A15: ='Fun Patches'!C7 -> <List Patch Here> | B15: =IF('Fun Patches'!F7="A","C","") | J15: ='Age-Level'!C6 -> Cookie Rally (Year 1) | K15: =IF('Age-Level'!F6="A","C","")
A16: ='Fun Patches'!C8 -> <List Patch Here> | B16: =IF('Fun Patches'!F8="A","C","") | D16: Leaves | J16: ='Age-Level'!C7 -> Cookie Sales (Year 1) | K16: =IF('Age-Level'!F7="A","C","")
A17: ='Fun Patches'!C9 -> <List Patch Here> | B17: =IF('Fun Patches'!F9="A","C","") | J17: ='Age-Level'!C8 -> Cookie Pin (Year 1) | K17: =IF('Age-Level'!F8="A","C","")
A18: ='Fun Patches'!C10 -> <List Patch Here> | B18: =IF('Fun Patches'!F10="A","C","") | D18: =Petals!B22 -> Finance | F18: =Petals!B20 -> Money Counts | G18: =IF(Petals!F23="C","A","") | J18: ='Age-Level'!C9 -> Cookie Rally (Year 2) | K18: =IF('Age-Level'!F9="A","C","")
A19: ='Fun Patches'!C11 -> <List Patch Here> | B19: =IF('Fun Patches'!F11="A","C","") | D19: =Petals!B27 -> Finance | F19: =Petals!B25 -> Making Choices | G19: =IF(Petals!F28="C","A","") | J19: ='Age-Level'!C10 -> Cookie Sales (Year 2) | K19: =IF('Age-Level'!F10="A","C","")
A20: ='Fun Patches'!C12 -> <List Patch Here> | B20: =IF('Fun Patches'!F12="A","C","") | D20: =Petals!B32 -> Cookie | F20: =Petals!B30 -> Count It Up | G20: =IF(Petals!F33="C","A","") | J20: ='Age-Level'!C11 -> Cookie Pin (Year 2) | K20: =IF('Age-Level'!F11="A","C","")
A21: ='Fun Patches'!C13 -> <List Patch Here> | B21: =IF('Fun Patches'!F13="A","C","") | D21: =Petals!B37 -> Cookie | F21: =Petals!B35 -> Talk It Up | G21: =IF(Petals!F38="C","A","") | J21: ='Age-Level'!C13 -> Fall Sales (Year 1) | K21: =IF('Age-Level'!F13="A","C","")
A22: ='Fun Patches'!C14 -> <List Patch Here> | B22: =IF('Fun Patches'!F14="A","C","") | J22: ='Age-Level'!C14 -> Fall Sales (Year 2) | K22: =IF('Age-Level'!F14="A","C","")
A23: ='Fun Patches'!C15 -> <List Patch Here> | B23: =IF('Fun Patches'!F15="A","C","") | D23: Journey Awards | J23: ='Age-Level'!C16 -> Thinking Day (Year 1) | K23: =IF('Age-Level'!F16="A","C","")
A24: ='Fun Patches'!C16 -> <List Patch Here> | B24: =IF('Fun Patches'!F16="A","C","") | J24: ='Age-Level'!C17 -> Thinking Day (Year 2) | K24: =IF('Age-Level'!F17="A","C","")
A25: ='Fun Patches'!C17 -> <List Patch Here> | B25: =IF('Fun Patches'!F17="A","C","") | D25: ='Journey Awards'!A6 -> Welcome to the Daisy Flower Garden | J25: ='Age-Level'!C19 -> Investiture | K25: =IF('Age-Level'!F19="A","C","")
A26: ='Fun Patches'!C18 -> <List Patch Here> | B26: =IF('Fun Patches'!F18="A","C","") | E26: Watering Can | G26: =IF('Journey Awards'!F8="A","A","") | J26: ='Age-Level'!C20 -> Rededication (1st year) | K26: =IF('Age-Level'!F20="A","C","")
A27: ='Fun Patches'!C19 -> <List Patch Here> | B27: =IF('Fun Patches'!F19="A","C","") | E27: Golden Honey Bee | G27: =IF('Journey Awards'!F9="A","A","") | J27: ='Age-Level'!B21 -> My Promise, My Faith (Year 1) | K27: =IF('Age-Level'!F27="C","C","")
A28: ='Fun Patches'!C20 -> <List Patch Here> | B28: =IF('Fun Patches'!F20="A","C","") | E28: Amazing Daisy | G28: =IF('Journey Awards'!F10="A","A","") | J28: ='Age-Level'!B28 -> My Promise, My Faith (Year 2) | K28: =IF('Age-Level'!F34="C","C","")
A29: ='Fun Patches'!C21 -> <List Patch Here> | B29: =IF('Fun Patches'!F21="A","C","") | D29: ='Journey Awards'!A14 -> Between Earth and Sky | J29: ='Age-Level'!C36 -> Global Action Award | K29: =IF('Age-Level'!F36="A","C","")
A30: ='Fun Patches'!C22 -> <List Patch Here> | B30: =IF('Fun Patches'!F22="A","C","") | E30: ='Journey Awards'!C16 -> The Blue Bucket Award | G30: =IF('Journey Awards'!F16="A","A","") | J30: ='Age-Level'!C38 -> Journey Summit Pin | K30: =IF('Age-Level'!F38="C","C","")
A31: ='Fun Patches'!C23 -> <List Patch Here> | B31: =IF('Fun Patches'!F23="A","C","") | E31: ='Journey Awards'!C17 -> The Firefly Award | G31: =IF('Journey Awards'!F17="A","A","") | J31: ='Age-Level'!B39 -> Safety Award | K31: =IF('Age-Level'!F43="C","C","")
A32: ='Fun Patches'!C24 -> <List Patch Here> | B32: =IF('Fun Patches'!F24="A","C","") | E32: ='Journey Awards'!C18 -> The Clover Award | G32: =IF('Journey Awards'!F18="A","A","")
A33: ='Fun Patches'!C25 -> <List Patch Here> | B33: =IF('Fun Patches'!F25="A","C","") | D33: ='Journey Awards'!A22 -> 5 Flowers, 4 Stories, 3 Cheers for Animals! | G33: =IF('Journey Awards'!F15="A","A","") | J33: Fun Patches (cont'd)
A34: ='Fun Patches'!C26 -> <List Patch Here> | B34: =IF('Fun Patches'!F26="A","C","") | E34: ='Journey Awards'!C24 -> Birdbath Award | G34: =IF('Journey Awards'!F24="A","A","") | J34: ='Fun Patches'!C35 -> <List Patch Here> | K34: =IF('Fun Patches'!F35="A","C","")
A35: ='Fun Patches'!C27 -> <List Patch Here> | B35: =IF('Fun Patches'!F27="A","C","") | E35: ='Journey Awards'!C25 -> Red Robin Award | G35: =IF('Journey Awards'!F25="A","A","") | J35: ='Fun Patches'!C36 -> <List Patch Here> | K35: =IF('Fun Patches'!F36="A","C","")
A36: ='Fun Patches'!C28 -> <List Patch Here> | B36: =IF('Fun Patches'!F28="A","C","") | E36: ='Journey Awards'!C26 -> Tula Award | G36: =IF('Journey Awards'!F26="A","A","") | J36: ='Fun Patches'!C37 -> <List Patch Here> | K36: =IF('Fun Patches'!F37="A","C","")
A37: ='Fun Patches'!C29 -> <List Patch Here> | B37: =IF('Fun Patches'!F29="A","C","") | J37: ='Fun Patches'!C38 -> <List Patch Here> | K37: =IF('Fun Patches'!F38="A","C","")
D38: Fun Patches (cont'd) | J38: ='Fun Patches'!C39 -> <List Patch Here> | K38: =IF('Fun Patches'!F39="A","C","")
E39: ='Fun Patches'!C30 -> <List Patch Here> | G39: =IF('Fun Patches'!F30="A","C","") | J39: ='Fun Patches'!C40 -> <List Patch Here> | K39: =IF('Fun Patches'!F40="A","C","")
A40: Key | E40: ='Fun Patches'!C31 -> <List Patch Here> | G40: =IF('Fun Patches'!F31="A","C","") | J40: ='Fun Patches'!C41 -> <List Patch Here> | K40: =IF('Fun Patches'!F41="A","C","")
A41: C = Completed Award | E41: ='Fun Patches'!C32 -> <List Patch Here> | G41: =IF('Fun Patches'!F32="A","C","") | J41: ='Fun Patches'!C42 -> <List Patch Here> | K41: =IF('Fun Patches'!F42="A","C","")
A42: P = Partially Completed Award | E42: ='Fun Patches'!C33 -> <List Patch Here> | G42: =IF('Fun Patches'!F33="A","C","") | J42: ='Fun Patches'!C43 -> <List Patch Here> | K42: =IF('Fun Patches'!F43="A","C","")
A43: A = Individual Requirement Achieved | E43: ='Fun Patches'!C34 -> <List Patch Here> | G43: =IF('Fun Patches'!F34="A","C","") | J43: ='Fun Patches'!C44 -> <List Patch Here> | K43: =IF('Fun Patches'!F44="A","C","")

Sheet Daisy 4
A1: =MID(CELL("filename",A1),FIND(IF(ISERROR(FIND("]",CELL("filename",A1))),"$","]"),CELL("filename",A1))+1,256) -> Daisy 4 | D1: Petals | I1: Bridging
D2: Petal Center
A3: Awards | E3: =Petals!B6 -> Center | F3: =Petals!C6 -> Promise Center | G3: =IF(Petals!G6="A","A","") | I3: =Bridging!B6 -> Pass It On
A4: Petals | B4: =IF(Petals!G18="C","C",IF(Petals!G18="P","P","")) | D4: Petals | I4: 1 | J4: =Bridging!C7 -> Teach younger girls the GS Promise | K4: =IF(Bridging!G7="A","A","")
A5: Leaves | B5: =INT(COUNTIF(G18:G21,"A")) -> 0 | E5: =Petals!B8 -> Lupe | F5: =Petals!C8 -> Honest and fair | G5: =IF(Petals!G8="A","A","") | I5: 2 | J5: =Bridging!C8 -> Tell younger girls about the Flower | K5: =IF(Bridging!G8="A","A","")
A6: Journey Awards | E6: =Petals!B9 -> Sunny | F6: =Petals!C9 -> Friendly and helpful | G6: =IF(Petals!G9="A","A","") | I6: 3 | J6: =Bridging!C9 -> Play a game together! | K6: =IF(Bridging!G9="A","A","")
A7: ='Journey Awards'!A6 -> Welcome to the Daisy Flower Garden | B7: =IF('Journey Awards'!G11="C","C",IF('Journey Awards'!G11="P","P","")) | E7: =Petals!B10 -> Zinni | F7: =Petals!C10 -> Considerate and caring | G7: =IF(Petals!G10="A","A","") | I7: =Bridging!B11 -> Look Ahead
A8: ='Journey Awards'!A14 -> Between Earth and Sky | B8: =IF('Journey Awards'!G19="C","C",IF('Journey Awards'!G19="P","P","")) | E8: =Petals!B11 -> Tula | F8: =Petals!C11 -> Courageous and strong | G8: =IF(Petals!G11="A","A","") | I8: 1 | J8: =Bridging!C12 -> Say the Girl Scout Promise together. | K8: =IF(Bridging!G12="A","A","")
A9: ='Journey Awards'!A22 -> 5 Flowers, 4 Stories, 3 Cheers for Animals! | B9: =IF('Journey Awards'!G27="C","C",IF('Journey Awards'!G27="P","P","")) | E9: =Petals!B12 -> Mari | F9: =Petals!C12 -> Responsible for what I say and do | G9: =IF(Petals!G12="A","A","") | I9: 2 | J9: =Bridging!C13 -> Ask the Brownies to teach you | K9: =IF(Bridging!G13="A","A","")
A10: Bridge to Brownies | B10: =IF(Bridging!G18="C","C",IF(Bridging!G18="P","P","")) | E10: =Petals!B13 -> Gloria | F10: =Petals!C13 -> Respect for myself & others | G10: =IF(Petals!G13="A","A","") | I10: 4 | J10: =Bridging!C14 -> Ask the Brownies to show you | K10: =IF(Bridging!G14="A","A","")
E11: =Petals!B14 -> Gerri | F11: =Petals!C14 -> Respect authority | G11: =IF(Petals!G14="A","A","") | I11: =Bridging!C16 -> Plan a Ceremony | K11: =IF(Bridging!G16="A","A","")
A12: Fun Patches | E12: =Petals!B15 -> Clover | F12: =Petals!C15 -> Use resources wisely | G12: =IF(Petals!G15="A","A","")
A13: ='Fun Patches'!C5 -> <List Patch Here> | B13: =IF('Fun Patches'!G5="A","C","") | E13: =Petals!B16 -> Rosie | F13: =Petals!C16 -> Make the world a better place | G13: =IF(Petals!G16="A","A","") | I13: Earned Age-Level
A14: ='Fun Patches'!C6 -> <List Patch Here> | B14: =IF('Fun Patches'!G6="A","C","") | E14: =Petals!B17 -> Vi | F14: =Petals!C17 -> Be a sister to every Girl Scout | G14: =IF(Petals!G17="A","A","")
A15: ='Fun Patches'!C7 -> <List Patch Here> | B15: =IF('Fun Patches'!G7="A","C","") | J15: ='Age-Level'!C6 -> Cookie Rally (Year 1) | K15: =IF('Age-Level'!G6="A","C","")
A16: ='Fun Patches'!C8 -> <List Patch Here> | B16: =IF('Fun Patches'!G8="A","C","") | D16: Leaves | J16: ='Age-Level'!C7 -> Cookie Sales (Year 1) | K16: =IF('Age-Level'!G7="A","C","")
A17: ='Fun Patches'!C9 -> <List Patch Here> | B17: =IF('Fun Patches'!G9="A","C","") | J17: ='Age-Level'!C8 -> Cookie Pin (Year 1) | K17: =IF('Age-Level'!G8="A","C","")
A18: ='Fun Patches'!C10 -> <List Patch Here> | B18: =IF('Fun Patches'!G10="A","C","") | D18: =Petals!B22 -> Finance | F18: =Petals!B20 -> Money Counts | G18: =IF(Petals!G23="C","A","") | J18: ='Age-Level'!C9 -> Cookie Rally (Year 2) | K18: =IF('Age-Level'!G9="A","C","")
A19: ='Fun Patches'!C11 -> <List Patch Here> | B19: =IF('Fun Patches'!G11="A","C","") | D19: =Petals!B27 -> Finance | F19: =Petals!B25 -> Making Choices | G19: =IF(Petals!G28="C","A","") | J19: ='Age-Level'!C10 -> Cookie Sales (Year 2) | K19: =IF('Age-Level'!G10="A","C","")
A20: ='Fun Patches'!C12 -> <List Patch Here> | B20: =IF('Fun Patches'!G12="A","C","") | D20: =Petals!B32 -> Cookie | F20: =Petals!B30 -> Count It Up | G20: =IF(Petals!G33="C","A","") | J20: ='Age-Level'!C11 -> Cookie Pin (Year 2) | K20: =IF('Age-Level'!G11="A","C","")
A21: ='Fun Patches'!C13 -> <List Patch Here> | B21: =IF('Fun Patches'!G13="A","C","") | D21: =Petals!B37 -> Cookie | F21: =Petals!B35 -> Talk It Up | G21: =IF(Petals!G38="C","A","") | J21: ='Age-Level'!C13 -> Fall Sales (Year 1) | K21: =IF('Age-Level'!G13="A","C","")
A22: ='Fun Patches'!C14 -> <List Patch Here> | B22: =IF('Fun Patches'!G14="A","C","") | J22: ='Age-Level'!C14 -> Fall Sales (Year 2) | K22: =IF('Age-Level'!G14="A","C","")
A23: ='Fun Patches'!C15 -> <List Patch Here> | B23: =IF('Fun Patches'!G15="A","C","") | D23: Journey Awards | J23: ='Age-Level'!C16 -> Thinking Day (Year 1) | K23: =IF('Age-Level'!G16="A","C","")
A24: ='Fun Patches'!C16 -> <List Patch Here> | B24: =IF('Fun Patches'!G16="A","C","") | J24: ='Age-Level'!C17 -> Thinking Day (Year 2) | K24: =IF('Age-Level'!G17="A","C","")
A25: ='Fun Patches'!C17 -> <List Patch Here> | B25: =IF('Fun Patches'!G17="A","C","") | D25: ='Journey Awards'!A6 -> Welcome to the Daisy Flower Garden | J25: ='Age-Level'!C19 -> Investiture | K25: =IF('Age-Level'!G19="A","C","")
A26: ='Fun Patches'!C18 -> <List Patch Here> | B26: =IF('Fun Patches'!G18="A","C","") | E26: Watering Can | G26: =IF('Journey Awards'!G8="A","A","") | J26: ='Age-Level'!C20 -> Rededication (1st year) | K26: =IF('Age-Level'!G20="A","C","")
A27: ='Fun Patches'!C19 -> <List Patch Here> | B27: =IF('Fun Patches'!G19="A","C","") | E27: Golden Honey Bee | G27: =IF('Journey Awards'!G9="A","A","") | J27: ='Age-Level'!B21 -> My Promise, My Faith (Year 1) | K27: =IF('Age-Level'!G27="C","C","")
A28: ='Fun Patches'!C20 -> <List Patch Here> | B28: =IF('Fun Patches'!G20="A","C","") | E28: Amazing Daisy | G28: =IF('Journey Awards'!G10="A","A","") | J28: ='Age-Level'!B28 -> My Promise, My Faith (Year 2) | K28: =IF('Age-Level'!G34="C","C","")
A29: ='Fun Patches'!C21 -> <List Patch Here> | B29: =IF('Fun Patches'!G21="A","C","") | D29: ='Journey Awards'!A14 -> Between Earth and Sky | J29: ='Age-Level'!C36 -> Global Action Award | K29: =IF('Age-Level'!G36="A","C","")
A30: ='Fun Patches'!C22 -> <List Patch Here> | B30: =IF('Fun Patches'!G22="A","C","") | E30: ='Journey Awards'!C16 -> The Blue Bucket Award | G30: =IF('Journey Awards'!G16="A","A","") | J30: ='Age-Level'!C38 -> Journey Summit Pin | K30: =IF('Age-Level'!G38="C","C","")
A31: ='Fun Patches'!C23 -> <List Patch Here> | B31: =IF('Fun Patches'!G23="A","C","") | E31: ='Journey Awards'!C17 -> The Firefly Award | G31: =IF('Journey Awards'!G17="A","A","") | J31: ='Age-Level'!B39 -> Safety Award | K31: =IF('Age-Level'!G43="C","C","")
A32: ='Fun Patches'!C24 -> <List Patch Here> | B32: =IF('Fun Patches'!G24="A","C","") | E32: ='Journey Awards'!C18 -> The Clover Award | G32: =IF('Journey Awards'!G18="A","A","")
A33: ='Fun Patches'!C25 -> <List Patch Here> | B33: =IF('Fun Patches'!G25="A","C","") | D33: ='Journey Awards'!A22 -> 5 Flowers, 4 Stories, 3 Cheers for Animals! | G33: =IF('Journey Awards'!G15="A","A","") | J33: Fun Patches (cont'd)
A34: ='Fun Patches'!C26 -> <List Patch Here> | B34: =IF('Fun Patches'!G26="A","C","") | E34: ='Journey Awards'!C24 -> Birdbath Award | G34: =IF('Journey Awards'!G24="A","A","") | J34: ='Fun Patches'!C35 -> <List Patch Here> | K34: =IF('Fun Patches'!G35="A","C","")
A35: ='Fun Patches'!C27 -> <List Patch Here> | B35: =IF('Fun Patches'!G27="A","C","") | E35: ='Journey Awards'!C25 -> Red Robin Award | G35: =IF('Journey Awards'!G25="A","A","") | J35: ='Fun Patches'!C36 -> <List Patch Here> | K35: =IF('Fun Patches'!G36="A","C","")
A36: ='Fun Patches'!C28 -> <List Patch Here> | B36: =IF('Fun Patches'!G28="A","C","") | E36: ='Journey Awards'!C26 -> Tula Award | G36: =IF('Journey Awards'!G26="A","A","") | J36: ='Fun Patches'!C37 -> <List Patch Here> | K36: =IF('Fun Patches'!G37="A","C","")
A37: ='Fun Patches'!C29 -> <List Patch Here> | B37: =IF('Fun Patches'!G29="A","C","") | J37: ='Fun Patches'!C38 -> <List Patch Here> | K37: =IF('Fun Patches'!G38="A","C","")
D38: Fun Patches (cont'd) | J38: ='Fun Patches'!C39 -> <List Patch Here> | K38: =IF('Fun Patches'!G39="A","C","")
E39: ='Fun Patches'!C30 -> <List Patch Here> | G39: =IF('Fun Patches'!G30="A","C","") | J39: ='Fun Patches'!C40 -> <List Patch Here> | K39: =IF('Fun Patches'!G40="A","C","")
A40: Key | E40: ='Fun Patches'!C31 -> <List Patch Here> | G40: =IF('Fun Patches'!G31="A","C","") | J40: ='Fun Patches'!C41 -> <List Patch Here> | K40: =IF('Fun Patches'!G41="A","C","")
A41: C = Completed Award | E41: ='Fun Patches'!C32 -> <List Patch Here> | G41: =IF('Fun Patches'!G32="A","C","") | J41: ='Fun Patches'!C42 -> <List Patch Here> | K41: =IF('Fun Patches'!G42="A","C","")
A42: P = Partially Completed Award | E42: ='Fun Patches'!C33 -> <List Patch Here> | G42: =IF('Fun Patches'!G33="A","C","") | J42: ='Fun Patches'!C43 -> <List Patch Here> | K42: =IF('Fun Patches'!G43="A","C","")
A43: A = Individual Requirement Achieved | E43: ='Fun Patches'!C34 -> <List Patch Here> | G43: =IF('Fun Patches'!G34="A","C","") | J43: ='Fun Patches'!C44 -> <List Patch Here> | K43: =IF('Fun Patches'!G44="A","C","")

Sheet Daisy 5
A1: =MID(CELL("filename",A1),FIND(IF(ISERROR(FIND("]",CELL("filename",A1))),"$","]"),CELL("filename",A1))+1,256) -> Daisy 5 | D1: Petals | I1: Bridging
D2: Petal Center
A3: Awards | E3: =Petals!B6 -> Center | F3: =Petals!C6 -> Promise Center | G3: =IF(Petals!H6="A","A","") | I3: =Bridging!B6 -> Pass It On
A4: Petals | B4: =IF(Petals!H18="C","C",IF(Petals!H18="P","P","")) | D4: Petals | I4: 1 | J4: =Bridging!C7 -> Teach younger girls the GS Promise | K4: =IF(Bridging!H7="A","A","")
A5: Leaves | B5: =INT(COUNTIF(G18:G21,"A")) -> 0 | E5: =Petals!B8 -> Lupe | F5: =Petals!C8 -> Honest and fair | G5: =IF(Petals!H8="A","A","") | I5: 2 | J5: =Bridging!C8 -> Tell younger girls about the Flower | K5: =IF(Bridging!H8="A","A","")
A6: Journey Awards | E6: =Petals!B9 -> Sunny | F6: =Petals!C9 -> Friendly and helpful | G6: =IF(Petals!H9="A","A","") | I6: 3 | J6: =Bridging!C9 -> Play a game together! | K6: =IF(Bridging!H9="A","A","")
A7: ='Journey Awards'!A6 -> Welcome to the Daisy Flower Garden | B7: =IF('Journey Awards'!H11="C","C",IF('Journey Awards'!H11="P","P","")) | E7: =Petals!B10 -> Zinni | F7: =Petals!C10 -> Considerate and caring | G7: =IF(Petals!H10="A","A","") | I7: =Bridging!B11 -> Look Ahead
A8: ='Journey Awards'!A14 -> Between Earth and Sky | B8: =IF('Journey Awards'!H19="C","C",IF('Journey Awards'!H19="P","P","")) | E8: =Petals!B11 -> Tula | F8: =Petals!C11 -> Courageous and strong | G8: =IF(Petals!H11="A","A","") | I8: 1 | J8: =Bridging!C12 -> Say the Girl Scout Promise together. | K8: =IF(Bridging!H12="A","A","")
A9: ='Journey Awards'!A22 -> 5 Flowers, 4 Stories, 3 Cheers for Animals! | B9: =IF('Journey Awards'!H27="C","C",IF('Journey Awards'!H27="P","P","")) | E9: =Petals!B12 -> Mari | F9: =Petals!C12 -> Responsible for what I say and do | G9: =IF(Petals!H12="A","A","") | I9: 2 | J9: =Bridging!C13 -> Ask the Brownies to teach you | K9: =IF(Bridging!H13="A","A","")
A10: Bridge to Brownies | B10: =IF(Bridging!H18="C","C",IF(Bridging!H18="P","P","")) | E10: =Petals!B13 -> Gloria | F10: =Petals!C13 -> Respect for myself & others | G10: =IF(Petals!H13="A","A","") | I10: 4 | J10: =Bridging!C14 -> Ask the Brownies to show you | K10: =IF(Bridging!H14="A","A","")
E11: =Petals!B14 -> Gerri | F11: =Petals!C14 -> Respect authority | G11: =IF(Petals!H14="A","A","") | I11: =Bridging!C16 -> Plan a Ceremony | K11: =IF(Bridging!H16="A","A","")
A12: Fun Patches | E12: =Petals!B15 -> Clover | F12: =Petals!C15 -> Use resources wisely | G12: =IF(Petals!H15="A","A","")
A13: ='Fun Patches'!C5 -> <List Patch Here> | B13: =IF('Fun Patches'!H5="A","C","") | E13: =Petals!B16 -> Rosie | F13: =Petals!C16 -> Make the world a better place | G13: =IF(Petals!H16="A","A","") | I13: Earned Age-Level
A14: ='Fun Patches'!C6 -> <List Patch Here> | B14: =IF('Fun Patches'!H6="A","C","") | E14: =Petals!B17 -> Vi | F14: =Petals!C17 -> Be a sister to every Girl Scout | G14: =IF(Petals!H17="A","A","")
A15: ='Fun Patches'!C7 -> <List Patch Here> | B15: =IF('Fun Patches'!H7="A","C","") | J15: ='Age-Level'!C6 -> Cookie Rally (Year 1) | K15: =IF('Age-Level'!H6="A","C","")
A16: ='Fun Patches'!C8 -> <List Patch Here> | B16: =IF('Fun Patches'!H8="A","C","") | D16: Leaves | J16: ='Age-Level'!C7 -> Cookie Sales (Year 1) | K16: =IF('Age-Level'!H7="A","C","")
A17: ='Fun Patches'!C9 -> <List Patch Here> | B17: =IF('Fun Patches'!H9="A","C","") | J17: ='Age-Level'!C8 -> Cookie Pin (Year 1) | K17: =IF('Age-Level'!H8="A","C","")
A18: ='Fun Patches'!C10 -> <List Patch Here> | B18: =IF('Fun Patches'!H10="A","C","") | D18: =Petals!B22 -> Finance | F18: =Petals!B20 -> Money Counts | G18: =IF(Petals!H23="C","A","") | J18: ='Age-Level'!C9 -> Cookie Rally (Year 2) | K18: =IF('Age-Level'!H9="A","C","")
A19: ='Fun Patches'!C11 -> <List Patch Here> | B19: =IF('Fun Patches'!H11="A","C","") | D19: =Petals!B27 -> Finance | F19: =Petals!B25 -> Making Choices | G19: =IF(Petals!H28="C","A","") | J19: ='Age-Level'!C10 -> Cookie Sales (Year 2) | K19: =IF('Age-Level'!H10="A","C","")
A20: ='Fun Patches'!C12 -> <List Patch Here> | B20: =IF('Fun Patches'!H12="A","C","") | D20: =Petals!B32 -> Cookie | F20: =Petals!B30 -> Count It Up | G20: =IF(Petals!H33="C","A","") | J20: ='Age-Level'!C11 -> Cookie Pin (Year 2) | K20: =IF('Age-Level'!H11="A","C","")
A21: ='Fun Patches'!C13 -> <List Patch Here> | B21: =IF('Fun Patches'!H13="A","C","") | D21: =Petals!B37 -> Cookie | F21: =Petals!B35 -> Talk It Up | G21: =IF(Petals!H38="C","A","") | J21: ='Age-Level'!C13 -> Fall Sales (Year 1) | K21: =IF('Age-Level'!H13="A","C","")
A22: ='Fun Patches'!C14 -> <List Patch Here> | B22: =IF('Fun Patches'!H14="A","C","") | J22: ='Age-Level'!C14 -> Fall Sales (Year 2) | K22: =IF('Age-Level'!H14="A","C","")
A23: ='Fun Patches'!C15 -> <List Patch Here> | B23: =IF('Fun Patches'!H15="A","C","") | D23: Journey Awards | J23: ='Age-Level'!C16 -> Thinking Day (Year 1) | K23: =IF('Age-Level'!H16="A","C","")
A24: ='Fun Patches'!C16 -> <List Patch Here> | B24: =IF('Fun Patches'!H16="A","C","") | J24: ='Age-Level'!C17 -> Thinking Day (Year 2) | K24: =IF('Age-Level'!H17="A","C","")
A25: ='Fun Patches'!C17 -> <List Patch Here> | B25: =IF('Fun Patches'!H17="A","C","") | D25: ='Journey Awards'!A6 -> Welcome to the Daisy Flower Garden | J25: ='Age-Level'!C19 -> Investiture | K25: =IF('Age-Level'!H19="A","C","")
A26: ='Fun Patches'!C18 -> <List Patch Here> | B26: =IF('Fun Patches'!H18="A","C","") | E26: Watering Can | G26: =IF('Journey Awards'!H8="A","A","") | J26: ='Age-Level'!C20 -> Rededication (1st year) | K26: =IF('Age-Level'!H20="A","C","")
A27: ='Fun Patches'!C19 -> <List Patch Here> | B27: =IF('Fun Patches'!H19="A","C","") | E27: Golden Honey Bee | G27: =IF('Journey Awards'!H9="A","A","") | J27: ='Age-Level'!B21 -> My Promise, My Faith (Year 1) | K27: =IF('Age-Level'!H27="C","C","")
A28: ='Fun Patches'!C20 -> <List Patch Here> | B28: =IF('Fun Patches'!H20="A","C","") | E28: Amazing Daisy | G28: =IF('Journey Awards'!H10="A","A","") | J28: ='Age-Level'!B28 -> My Promise, My Faith (Year 2) | K28: =IF('Age-Level'!H34="C","C","")
A29: ='Fun Patches'!C21 -> <List Patch Here> | B29: =IF('Fun Patches'!H21="A","C","") | D29: ='Journey Awards'!A14 -> Between Earth and Sky | J29: ='Age-Level'!C36 -> Global Action Award | K29: =IF('Age-Level'!H36="A","C","")
A30: ='Fun Patches'!C22 -> <List Patch Here> | B30: =IF('Fun Patches'!H22="A","C","") | E30: ='Journey Awards'!C16 -> The Blue Bucket Award | G30: =IF('Journey Awards'!H16="A","A","") | J30: ='Age-Level'!C38 -> Journey Summit Pin | K30: =IF('Age-Level'!H38="C","C","")
A31: ='Fun Patches'!C23 -> <List Patch Here> | B31: =IF('Fun Patches'!H23="A","C","") | E31: ='Journey Awards'!C17 -> The Firefly Award | G31: =IF('Journey Awards'!H17="A","A","") | J31: ='Age-Level'!B39 -> Safety Award | K31: =IF('Age-Level'!H43="C","C","")
A32: ='Fun Patches'!C24 -> <List Patch Here> | B32: =IF('Fun Patches'!H24="A","C","") | E32: ='Journey Awards'!C18 -> The Clover Award | G32: =IF('Journey Awards'!H18="A","A","")
A33: ='Fun Patches'!C25 -> <List Patch Here> | B33: =IF('Fun Patches'!H25="A","C","") | D33: ='Journey Awards'!A22 -> 5 Flowers, 4 Stories, 3 Cheers for Animals! | G33: =IF('Journey Awards'!H15="A","A","") | J33: Fun Patches (cont'd)
A34: ='Fun Patches'!C26 -> <List Patch Here> | B34: =IF('Fun Patches'!H26="A","C","") | E34: ='Journey Awards'!C24 -> Birdbath Award | G34: =IF('Journey Awards'!H24="A","A","") | J34: ='Fun Patches'!C35 -> <List Patch Here> | K34: =IF('Fun Patches'!H35="A","C","")
A35: ='Fun Patches'!C27 -> <List Patch Here> | B35: =IF('Fun Patches'!H27="A","C","") | E35: ='Journey Awards'!C25 -> Red Robin Award | G35: =IF('Journey Awards'!H25="A","A","") | J35: ='Fun Patches'!C36 -> <List Patch Here> | K35: =IF('Fun Patches'!H36="A","C","")
A36: ='Fun Patches'!C28 -> <List Patch Here> | B36: =IF('Fun Patches'!H28="A","C","") | E36: ='Journey Awards'!C26 -> Tula Award | G36: =IF('Journey Awards'!H26="A","A","") | J36: ='Fun Patches'!C37 -> <List Patch Here> | K36: =IF('Fun Patches'!H37="A","C","")
A37: ='Fun Patches'!C29 -> <List Patch Here> | B37: =IF('Fun Patches'!H29="A","C","") | J37: ='Fun Patches'!C38 -> <List Patch Here> | K37: =IF('Fun Patches'!H38="A","C","")
D38: Fun Patches (cont'd) | J38: ='Fun Patches'!C39 -> <List Patch Here> | K38: =IF('Fun Patches'!H39="A","C","")
E39: ='Fun Patches'!C30 -> <List Patch Here> | G39: =IF('Fun Patches'!H30="A","C","") | J39: ='Fun Patches'!C40 -> <List Patch Here> | K39: =IF('Fun Patches'!H40="A","C","")
A40: Key | E40: ='Fun Patches'!C31 -> <List Patch Here> | G40: =IF('Fun Patches'!H31="A","C","") | J40: ='Fun Patches'!C41 -> <List Patch Here> | K40: =IF('Fun Patches'!H41="A","C","")
A41: C = Completed Award | E41: ='Fun Patches'!C32 -> <List Patch Here> | G41: =IF('Fun Patches'!H32="A","C","") | J41: ='Fun Patches'!C42 -> <List Patch Here> | K41: =IF('Fun Patches'!H42="A","C","")
A42: P = Partially Completed Award | E42: ='Fun Patches'!C33 -> <List Patch Here> | G42: =IF('Fun Patches'!H33="A","C","") | J42: ='Fun Patches'!C43 -> <List Patch Here> | K42: =IF('Fun Patches'!H43="A","C","")
A43: A = Individual Requirement Achieved | E43: ='Fun Patches'!C34 -> <List Patch Here> | G43: =IF('Fun Patches'!H34="A","C","") | J43: ='Fun Patches'!C44 -> <List Patch Here> | K43: =IF('Fun Patches'!H44="A","C","")

Sheet Daisy 6
A1: =MID(CELL("filename",A1),FIND(IF(ISERROR(FIND("]",CELL("filename",A1))),"$","]"),CELL("filename",A1))+1,256) -> Daisy 6 | D1: Petals | I1: Bridging
D2: Petal Center
A3: Awards | E3: =Petals!B6 -> Center | F3: =Petals!C6 -> Promise Center | G3: =IF(Petals!I6="A","A","") | I3: =Bridging!B6 -> Pass It On
A4: Petals | B4: =IF(Petals!I18="C","C",IF(Petals!I18="P","P","")) | D4: Petals | I4: 1 | J4: =Bridging!C7 -> Teach younger girls the GS Promise | K4: =IF(Bridging!I7="A","A","")
A5: Leaves | B5: =INT(COUNTIF(G18:G21,"A")) -> 0 | E5: =Petals!B8 -> Lupe | F5: =Petals!C8 -> Honest and fair | G5: =IF(Petals!I8="A","A","") | I5: 2 | J5: =Bridging!C8 -> Tell younger girls about the Flower | K5: =IF(Bridging!I8="A","A","")
A6: Journey Awards | E6: =Petals!B9 -> Sunny | F6: =Petals!C9 -> Friendly and helpful | G6: =IF(Petals!I9="A","A","") | I6: 3 | J6: =Bridging!C9 -> Play a game together! | K6: =IF(Bridging!I9="A","A","")
A7: ='Journey Awards'!A6 -> Welcome to the Daisy Flower Garden | B7: =IF('Journey Awards'!I11="C","C",IF('Journey Awards'!I11="P","P","")) | E7: =Petals!B10 -> Zinni | F7: =Petals!C10 -> Considerate and caring | G7: =IF(Petals!I10="A","A","") | I7: =Bridging!B11 -> Look Ahead
A8: ='Journey Awards'!A14 -> Between Earth and Sky | B8: =IF('Journey Awards'!I19="C","C",IF('Journey Awards'!I19="P","P","")) | E8: =Petals!B11 -> Tula | F8: =Petals!C11 -> Courageous and strong | G8: =IF(Petals!I11="A","A","") | I8: 1 | J8: =Bridging!C12 -> Say the Girl Scout Promise together. | K8: =IF(Bridging!I12="A","A","")
A9: ='Journey Awards'!A22 -> 5 Flowers, 4 Stories, 3 Cheers for Animals! | B9: =IF('Journey Awards'!I27="C","C",IF('Journey Awards'!I27="P","P","")) | E9: =Petals!B12 -> Mari | F9: =Petals!C12 -> Responsible for what I say and do | G9: =IF(Petals!I12="A","A","") | I9: 2 | J9: =Bridging!C13 -> Ask the Brownies to teach you | K9: =IF(Bridging!I13="A","A","")
A10: Bridge to Brownies | B10: =IF(Bridging!I18="C","C",IF(Bridging!I18="P","P","")) | E10: =Petals!B13 -> Gloria | F10: =Petals!C13 -> Respect for myself & others | G10: =IF(Petals!I13="A","A","") | I10: 4 | J10: =Bridging!C14 -> Ask the Brownies to show you | K10: =IF(Bridging!I14="A","A","")
E11: =Petals!B14 -> Gerri | F11: =Petals!C14 -> Respect authority | G11: =IF(Petals!I14="A","A","") | I11: =Bridging!C16 -> Plan a Ceremony | K11: =IF(Bridging!I16="A","A","")
A12: Fun Patches | E12: =Petals!B15 -> Clover | F12: =Petals!C15 -> Use resources wisely | G12: =IF(Petals!I15="A","A","")
A13: ='Fun Patches'!C5 -> <List Patch Here> | B13: =IF('Fun Patches'!I5="A","C","") | E13: =Petals!B16 -> Rosie | F13: =Petals!C16 -> Make the world a better place | G13: =IF(Petals!I16="A","A","") | I13: Earned Age-Level
A14: ='Fun Patches'!C6 -> <List Patch Here> | B14: =IF('Fun Patches'!I6="A","C","") | E14: =Petals!B17 -> Vi | F14: =Petals!C17 -> Be a sister to every Girl Scout | G14: =IF(Petals!I17="A","A","")
A15: ='Fun Patches'!C7 -> <List Patch Here> | B15: =IF('Fun Patches'!I7="A","C","") | J15: ='Age-Level'!C6 -> Cookie Rally (Year 1) | K15: =IF('Age-Level'!I6="A","C","")
A16: ='Fun Patches'!C8 -> <List Patch Here> | B16: =IF('Fun Patches'!I8="A","C","") | D16: Leaves | J16: ='Age-Level'!C7 -> Cookie Sales (Year 1) | K16: =IF('Age-Level'!I7="A","C","")
A17: ='Fun Patches'!C9 -> <List Patch Here> | B17: =IF('Fun Patches'!I9="A","C","") | J17: ='Age-Level'!C8 -> Cookie Pin (Year 1) | K17: =IF('Age-Level'!I8="A","C","")
A18: ='Fun Patches'!C10 -> <List Patch Here> | B18: =IF('Fun Patches'!I10="A","C","") | D18: =Petals!B22 -> Finance | F18: =Petals!B20 -> Money Counts | G18: =IF(Petals!I23="C","A","") | J18: ='Age-Level'!C9 -> Cookie Rally (Year 2) | K18: =IF('Age-Level'!I9="A","C","")
A19: ='Fun Patches'!C11 -> <List Patch Here> | B19: =IF('Fun Patches'!I11="A","C","") | D19: =Petals!B27 -> Finance | F19: =Petals!B25 -> Making Choices | G19: =IF(Petals!I28="C","A","") | J19: ='Age-Level'!C10 -> Cookie Sales (Year 2) | K19: =IF('Age-Level'!I10="A","C","")
A20: ='Fun Patches'!C12 -> <List Patch Here> | B20: =IF('Fun Patches'!I12="A","C","") | D20: =Petals!B32 -> Cookie | F20: =Petals!B30 -> Count It Up | G20: =IF(Petals!I33="C","A","") | J20: ='Age-Level'!C11 -> Cookie Pin (Year 2) | K20: =IF('Age-Level'!I11="A","C","")
A21: ='Fun Patches'!C13 -> <List Patch Here> | B21: =IF('Fun Patches'!I13="A","C","") | D21: =Petals!B37 -> Cookie | F21: =Petals!B35 -> Talk It Up | G21: =IF(Petals!I38="C","A","") | J21: ='Age-Level'!C13 -> Fall Sales (Year 1) | K21: =IF('Age-Level'!I13="A","C","")
A22: ='Fun Patches'!C14 -> <List Patch Here> | B22: =IF('Fun Patches'!I14="A","C","") | J22: ='Age-Level'!C14 -> Fall Sales (Year 2) | K22: =IF('Age-Level'!I14="A","C","")
A23: ='Fun Patches'!C15 -> <List Patch Here> | B23: =IF('Fun Patches'!I15="A","C","") | D23: Journey Awards | J23: ='Age-Level'!C16 -> Thinking Day (Year 1) | K23: =IF('Age-Level'!I16="A","C","")
A24: ='Fun Patches'!C16 -> <List Patch Here> | B24: =IF('Fun Patches'!I16="A","C","") | J24: ='Age-Level'!C17 -> Thinking Day (Year 2) | K24: =IF('Age-Level'!I17="A","C","")
A25: ='Fun Patches'!C17 -> <List Patch Here> | B25: =IF('Fun Patches'!I17="A","C","") | D25: ='Journey Awards'!A6 -> Welcome to the Daisy Flower Garden | J25: ='Age-Level'!C19 -> Investiture | K25: =IF('Age-Level'!I19="A","C","")
A26: ='Fun Patches'!C18 -> <List Patch Here> | B26: =IF('Fun Patches'!I18="A","C","") | E26: Watering Can | G26: =IF('Journey Awards'!I8="A","A","") | J26: ='Age-Level'!C20 -> Rededication (1st year) | K26: =IF('Age-Level'!I20="A","C","")
A27: ='Fun Patches'!C19 -> <List Patch Here> | B27: =IF('Fun Patches'!I19="A","C","") | E27: Golden Honey Bee | G27: =IF('Journey Awards'!I9="A","A","") | J27: ='Age-Level'!B21 -> My Promise, My Faith (Year 1) | K27: =IF('Age-Level'!I27="C","C","")
A28: ='Fun Patches'!C20 -> <List Patch Here> | B28: =IF('Fun Patches'!I20="A","C","") | E28: Amazing Daisy | G28: =IF('Journey Awards'!I10="A","A","") | J28: ='Age-Level'!B28 -> My Promise, My Faith (Year 2) | K28: =IF('Age-Level'!I34="C","C","")
A29: ='Fun Patches'!C21 -> <List Patch Here> | B29: =IF('Fun Patches'!I21="A","C","") | D29: ='Journey Awards'!A14 -> Between Earth and Sky | J29: ='Age-Level'!C36 -> Global Action Award | K29: =IF('Age-Level'!I36="A","C","")
A30: ='Fun Patches'!C22 -> <List Patch Here> | B30: =IF('Fun Patches'!I22="A","C","") | E30: ='Journey Awards'!C16 -> The Blue Bucket Award | G30: =IF('Journey Awards'!I16="A","A","") | J30: ='Age-Level'!C38 -> Journey Summit Pin | K30: =IF('Age-Level'!I38="C","C","")
A31: ='Fun Patches'!C23 -> <List Patch Here> | B31: =IF('Fun Patches'!I23="A","C","") | E31: ='Journey Awards'!C17 -> The Firefly Award | G31: =IF('Journey Awards'!I17="A","A","") | J31: ='Age-Level'!B39 -> Safety Award | K31: =IF('Age-Level'!I43="C","C","")
A32: ='Fun Patches'!C24 -> <List Patch Here> | B32: =IF('Fun Patches'!I24="A","C","") | E32: ='Journey Awards'!C18 -> The Clover Award | G32: =IF('Journey Awards'!I18="A","A","")
A33: ='Fun Patches'!C25 -> <List Patch Here> | B33: =IF('Fun Patches'!I25="A","C","") | D33: ='Journey Awards'!A22 -> 5 Flowers, 4 Stories, 3 Cheers for Animals! | G33: =IF('Journey Awards'!I15="A","A","") | J33: Fun Patches (cont'd)
A34: ='Fun Patches'!C26 -> <List Patch Here> | B34: =IF('Fun Patches'!I26="A","C","") | E34: ='Journey Awards'!C24 -> Birdbath Award | G34: =IF('Journey Awards'!I24="A","A","") | J34: ='Fun Patches'!C35 -> <List Patch Here> | K34: =IF('Fun Patches'!I35="A","C","")
A35: ='Fun Patches'!C27 -> <List Patch Here> | B35: =IF('Fun Patches'!I27="A","C","") | E35: ='Journey Awards'!C25 -> Red Robin Award | G35: =IF('Journey Awards'!I25="A","A","") | J35: ='Fun Patches'!C36 -> <List Patch Here> | K35: =IF('Fun Patches'!I36="A","C","")
A36: ='Fun Patches'!C28 -> <List Patch Here> | B36: =IF('Fun Patches'!I28="A","C","") | E36: ='Journey Awards'!C26 -> Tula Award | G36: =IF('Journey Awards'!I26="A","A","") | J36: ='Fun Patches'!C37 -> <List Patch Here> | K36: =IF('Fun Patches'!I37="A","C","")
A37: ='Fun Patches'!C29 -> <List Patch Here> | B37: =IF('Fun Patches'!I29="A","C","") | J37: ='Fun Patches'!C38 -> <List Patch Here> | K37: =IF('Fun Patches'!I38="A","C","")
D38: Fun Patches (cont'd) | J38: ='Fun Patches'!C39 -> <List Patch Here> | K38: =IF('Fun Patches'!I39="A","C","")
E39: ='Fun Patches'!C30 -> <List Patch Here> | G39: =IF('Fun Patches'!I30="A","C","") | J39: ='Fun Patches'!C40 -> <List Patch Here> | K39: =IF('Fun Patches'!I40="A","C","")
A40: Key | E40: ='Fun Patches'!C31 -> <List Patch Here> | G40: =IF('Fun Patches'!I31="A","C","") | J40: ='Fun Patches'!C41 -> <List Patch Here> | K40: =IF('Fun Patches'!I41="A","C","")
A41: C = Completed Award | E41: ='Fun Patches'!C32 -> <List Patch Here> | G41: =IF('Fun Patches'!I32="A","C","") | J41: ='Fun Patches'!C42 -> <List Patch Here> | K41: =IF('Fun Patches'!I42="A","C","")
A42: P = Partially Completed Award | E42: ='Fun Patches'!C33 -> <List Patch Here> | G42: =IF('Fun Patches'!I33="A","C","") | J42: ='Fun Patches'!C43 -> <List Patch Here> | K42: =IF('Fun Patches'!I43="A","C","")
A43: A = Individual Requirement Achieved | E43: ='Fun Patches'!C34 -> <List Patch Here> | G43: =IF('Fun Patches'!I34="A","C","") | J43: ='Fun Patches'!C44 -> <List Patch Here> | K43: =IF('Fun Patches'!I44="A","C","")

Sheet Daisy 7
A1: =MID(CELL("filename",A1),FIND(IF(ISERROR(FIND("]",CELL("filename",A1))),"$","]"),CELL("filename",A1))+1,256) -> Daisy 7 | D1: Petals | I1: Bridging
D2: Petal Center
A3: Awards | E3: =Petals!B6 -> Center | F3: =Petals!C6 -> Promise Center | G3: =IF(Petals!J6="A","A","") | I3: =Bridging!B6 -> Pass It On
A4: Petals | B4: =IF(Petals!J18="C","C",IF(Petals!J18="P","P","")) | D4: Petals | I4: 1 | J4: =Bridging!C7 -> Teach younger girls the GS Promise | K4: =IF(Bridging!J7="A","A","")
A5: Leaves | B5: =INT(COUNTIF(G18:G21,"A")) -> 0 | E5: =Petals!B8 -> Lupe | F5: =Petals!C8 -> Honest and fair | G5: =IF(Petals!J8="A","A","") | I5: 2 | J5: =Bridging!C8 -> Tell younger girls about the Flower | K5: =IF(Bridging!J8="A","A","")
A6: Journey Awards | E6: =Petals!B9 -> Sunny | F6: =Petals!C9 -> Friendly and helpful | G6: =IF(Petals!J9="A","A","") | I6: 3 | J6: =Bridging!C9 -> Play a game together! | K6: =IF(Bridging!J9="A","A","")
A7: ='Journey Awards'!A6 -> Welcome to the Daisy Flower Garden | B7: =IF('Journey Awards'!J11="C","C",IF('Journey Awards'!J11="P","P","")) | E7: =Petals!B10 -> Zinni | F7: =Petals!C10 -> Considerate and caring | G7: =IF(Petals!J10="A","A","") | I7: =Bridging!B11 -> Look Ahead
A8: ='Journey Awards'!A14 -> Between Earth and Sky | B8: =IF('Journey Awards'!J19="C","C",IF('Journey Awards'!J19="P","P","")) | E8: =Petals!B11 -> Tula | F8: =Petals!C11 -> Courageous and strong | G8: =IF(Petals!J11="A","A","") | I8: 1 | J8: =Bridging!C12 -> Say the Girl Scout Promise together. | K8: =IF(Bridging!J12="A","A","")
A9: ='Journey Awards'!A22 -> 5 Flowers, 4 Stories, 3 Cheers for Animals! | B9: =IF('Journey Awards'!J27="C","C",IF('Journey Awards'!J27="P","P","")) | E9: =Petals!B12 -> Mari | F9: =Petals!C12 -> Responsible for what I say and do | G9: =IF(Petals!J12="A","A","") | I9: 2 | J9: =Bridging!C13 -> Ask the Brownies to teach you | K9: =IF(Bridging!J13="A","A","")
A10: Bridge to Brownies | B10: =IF(Bridging!J18="C","C",IF(Bridging!J18="P","P","")) | E10: =Petals!B13 -> Gloria | F10: =Petals!C13 -> Respect for myself & others | G10: =IF(Petals!J13="A","A","") | I10: 4 | J10: =Bridging!C14 -> Ask the Brownies to show you | K10: =IF(Bridging!J14="A","A","")
E11: =Petals!B14 -> Gerri | F11: =Petals!C14 -> Respect authority | G11: =IF(Petals!J14="A","A","") | I11: =Bridging!C16 -> Plan a Ceremony | K11: =IF(Bridging!J16="A","A","")
A12: Fun Patches | E12: =Petals!B15 -> Clover | F12: =Petals!C15 -> Use resources wisely | G12: =IF(Petals!J15="A","A","")
A13: ='Fun Patches'!C5 -> <List Patch Here> | B13: =IF('Fun Patches'!J5="A","C","") | E13: =Petals!B16 -> Rosie | F13: =Petals!C16 -> Make the world a better place | G13: =IF(Petals!J16="A","A","") | I13: Earned Age-Level
A14: ='Fun Patches'!C6 -> <List Patch Here> | B14: =IF('Fun Patches'!J6="A","C","") | E14: =Petals!B17 -> Vi | F14: =Petals!C17 -> Be a sister to every Girl Scout | G14: =IF(Petals!J17="A","A","")
A15: ='Fun Patches'!C7 -> <List Patch Here> | B15: =IF('Fun Patches'!J7="A","C","") | J15: ='Age-Level'!C6 -> Cookie Rally (Year 1) | K15: =IF('Age-Level'!J6="A","C","")
A16: ='Fun Patches'!C8 -> <List Patch Here> | B16: =IF('Fun Patches'!J8="A","C","") | D16: Leaves | J16: ='Age-Level'!C7 -> Cookie Sales (Year 1) | K16: =IF('Age-Level'!J7="A","C","")
A17: ='Fun Patches'!C9 -> <List Patch Here> | B17: =IF('Fun Patches'!J9="A","C","") | J17: ='Age-Level'!C8 -> Cookie Pin (Year 1) | K17: =IF('Age-Level'!J8="A","C","")
A18: ='Fun Patches'!C10 -> <List Patch Here> | B18: =IF('Fun Patches'!J10="A","C","") | D18: =Petals!B22 -> Finance | F18: =Petals!B20 -> Money Counts | G18: =IF(Petals!J23="C","A","") | J18: ='Age-Level'!C9 -> Cookie Rally (Year 2) | K18: =IF('Age-Level'!J9="A","C","")
A19: ='Fun Patches'!C11 -> <List Patch Here> | B19: =IF('Fun Patches'!J11="A","C","") | D19: =Petals!B27 -> Finance | F19: =Petals!B25 -> Making Choices | G19: =IF(Petals!J28="C","A","") | J19: ='Age-Level'!C10 -> Cookie Sales (Year 2) | K19: =IF('Age-Level'!J10="A","C","")
A20: ='Fun Patches'!C12 -> <List Patch Here> | B20: =IF('Fun Patches'!J12="A","C","") | D20: =Petals!B32 -> Cookie | F20: =Petals!B30 -> Count It Up | G20: =IF(Petals!J33="C","A","") | J20: ='Age-Level'!C11 -> Cookie Pin (Year 2) | K20: =IF('Age-Level'!J11="A","C","")
A21: ='Fun Patches'!C13 -> <List Patch Here> | B21: =IF('Fun Patches'!J13="A","C","") | D21: =Petals!B37 -> Cookie | F21: =Petals!B35 -> Talk It Up | G21: =IF(Petals!J38="C","A","") | J21: ='Age-Level'!C13 -> Fall Sales (Year 1) | K21: =IF('Age-Level'!J13="A","C","")
A22: ='Fun Patches'!C14 -> <List Patch Here> | B22: =IF('Fun Patches'!J14="A","C","") | J22: ='Age-Level'!C14 -> Fall Sales (Year 2) | K22: =IF('Age-Level'!J14="A","C","")
A23: ='Fun Patches'!C15 -> <List Patch Here> | B23: =IF('Fun Patches'!J15="A","C","") | D23: Journey Awards | J23: ='Age-Level'!C16 -> Thinking Day (Year 1) | K23: =IF('Age-Level'!J16="A","C","")
A24: ='Fun Patches'!C16 -> <List Patch Here> | B24: =IF('Fun Patches'!J16="A","C","") | J24: ='Age-Level'!C17 -> Thinking Day (Year 2) | K24: =IF('Age-Level'!J17="A","C","")
A25: ='Fun Patches'!C17 -> <List Patch Here> | B25: =IF('Fun Patches'!J17="A","C","") | D25: ='Journey Awards'!A6 -> Welcome to the Daisy Flower Garden | J25: ='Age-Level'!C19 -> Investiture | K25: =IF('Age-Level'!J19="A","C","")
A26: ='Fun Patches'!C18 -> <List Patch Here> | B26: =IF('Fun Patches'!J18="A","C","") | E26: Watering Can | G26: =IF('Journey Awards'!J8="A","A","") | J26: ='Age-Level'!C20 -> Rededication (1st year) | K26: =IF('Age-Level'!J20="A","C","")
A27: ='Fun Patches'!C19 -> <List Patch Here> | B27: =IF('Fun Patches'!J19="A","C","") | E27: Golden Honey Bee | G27: =IF('Journey Awards'!J9="A","A","") | J27: ='Age-Level'!B21 -> My Promise, My Faith (Year 1) | K27: =IF('Age-Level'!J27="C","C","")
A28: ='Fun Patches'!C20 -> <List Patch Here> | B28: =IF('Fun Patches'!J20="A","C","") | E28: Amazing Daisy | G28: =IF('Journey Awards'!J10="A","A","") | J28: ='Age-Level'!B28 -> My Promise, My Faith (Year 2) | K28: =IF('Age-Level'!J34="C","C","")
A29: ='Fun Patches'!C21 -> <List Patch Here> | B29: =IF('Fun Patches'!J21="A","C","") | D29: ='Journey Awards'!A14 -> Between Earth and Sky | J29: ='Age-Level'!C36 -> Global Action Award | K29: =IF('Age-Level'!J36="A","C","")
A30: ='Fun Patches'!C22 -> <List Patch Here> | B30: =IF('Fun Patches'!J22="A","C","") | E30: ='Journey Awards'!C16 -> The Blue Bucket Award | G30: =IF('Journey Awards'!J16="A","A","") | J30: ='Age-Level'!C38 -> Journey Summit Pin | K30: =IF('Age-Level'!J38="C","C","")
A31: ='Fun Patches'!C23 -> <List Patch Here> | B31: =IF('Fun Patches'!J23="A","C","") | E31: ='Journey Awards'!C17 -> The Firefly Award | G31: =IF('Journey Awards'!J17="A","A","") | J31: ='Age-Level'!B39 -> Safety Award | K31: =IF('Age-Level'!J43="C","C","")
A32: ='Fun Patches'!C24 -> <List Patch Here> | B32: =IF('Fun Patches'!J24="A","C","") | E32: ='Journey Awards'!C18 -> The Clover Award | G32: =IF('Journey Awards'!J18="A","A","")
A33: ='Fun Patches'!C25 -> <List Patch Here> | B33: =IF('Fun Patches'!J25="A","C","") | D33: ='Journey Awards'!A22 -> 5 Flowers, 4 Stories, 3 Cheers for Animals! | G33: =IF('Journey Awards'!J15="A","A","") | J33: Fun Patches (cont'd)
A34: ='Fun Patches'!C26 -> <List Patch Here> | B34: =IF('Fun Patches'!J26="A","C","") | E34: ='Journey Awards'!C24 -> Birdbath Award | G34: =IF('Journey Awards'!J24="A","A","") | J34: ='Fun Patches'!C35 -> <List Patch Here> | K34: =IF('Fun Patches'!J35="A","C","")
A35: ='Fun Patches'!C27 -> <List Patch Here> | B35: =IF('Fun Patches'!J27="A","C","") | E35: ='Journey Awards'!C25 -> Red Robin Award | G35: =IF('Journey Awards'!J25="A","A","") | J35: ='Fun Patches'!C36 -> <List Patch Here> | K35: =IF('Fun Patches'!J36="A","C","")
A36: ='Fun Patches'!C28 -> <List Patch Here> | B36: =IF('Fun Patches'!J28="A","C","") | E36: ='Journey Awards'!C26 -> Tula Award | G36: =IF('Journey Awards'!J26="A","A","") | J36: ='Fun Patches'!C37 -> <List Patch Here> | K36: =IF('Fun Patches'!J37="A","C","")
A37: ='Fun Patches'!C29 -> <List Patch Here> | B37: =IF('Fun Patches'!J29="A","C","") | J37: ='Fun Patches'!C38 -> <List Patch Here> | K37: =IF('Fun Patches'!J38="A","C","")
D38: Fun Patches (cont'd) | J38: ='Fun Patches'!C39 -> <List Patch Here> | K38: =IF('Fun Patches'!J39="A","C","")
E39: ='Fun Patches'!C30 -> <List Patch Here> | G39: =IF('Fun Patches'!J30="A","C","") | J39: ='Fun Patches'!C40 -> <List Patch Here> | K39: =IF('Fun Patches'!J40="A","C","")
A40: Key | E40: ='Fun Patches'!C31 -> <List Patch Here> | G40: =IF('Fun Patches'!J31="A","C","") | J40: ='Fun Patches'!C41 -> <List Patch Here> | K40: =IF('Fun Patches'!J41="A","C","")
A41: C = Completed Award | E41: ='Fun Patches'!C32 -> <List Patch Here> | G41: =IF('Fun Patches'!J32="A","C","") | J41: ='Fun Patches'!C42 -> <List Patch Here> | K41: =IF('Fun Patches'!J42="A","C","")
A42: P = Partially Completed Award | E42: ='Fun Patches'!C33 -> <List Patch Here> | G42: =IF('Fun Patches'!J33="A","C","") | J42: ='Fun Patches'!C43 -> <List Patch Here> | K42: =IF('Fun Patches'!J43="A","C","")
A43: A = Individual Requirement Achieved | E43: ='Fun Patches'!C34 -> <List Patch Here> | G43: =IF('Fun Patches'!J34="A","C","") | J43: ='Fun Patches'!C44 -> <List Patch Here> | K43: =IF('Fun Patches'!J44="A","C","")

Sheet Daisy 8
A1: =MID(CELL("filename",A1),FIND(IF(ISERROR(FIND("]",CELL("filename",A1))),"$","]"),CELL("filename",A1))+1,256) -> Daisy 8 | D1: Petals | I1: Bridging
D2: Petal Center
A3: Awards | E3: =Petals!B6 -> Center | F3: =Petals!C6 -> Promise Center | G3: =IF(Petals!K6="A","A","") | I3: =Bridging!B6 -> Pass It On
A4: Petals | B4: =IF(Petals!K18="C","C",IF(Petals!K18="P","P","")) | D4: Petals | I4: 1 | J4: =Bridging!C7 -> Teach younger girls the GS Promise | K4: =IF(Bridging!K7="A","A","")
A5: Leaves | B5: =INT(COUNTIF(G18:G21,"A")) -> 0 | E5: =Petals!B8 -> Lupe | F5: =Petals!C8 -> Honest and fair | G5: =IF(Petals!K8="A","A","") | I5: 2 | J5: =Bridging!C8 -> Tell younger girls about the Flower | K5: =IF(Bridging!K8="A","A","")
A6: Journey Awards | E6: =Petals!B9 -> Sunny | F6: =Petals!C9 -> Friendly and helpful | G6: =IF(Petals!K9="A","A","") | I6: 3 | J6: =Bridging!C9 -> Play a game together! | K6: =IF(Bridging!K9="A","A","")
A7: ='Journey Awards'!A6 -> Welcome to the Daisy Flower Garden | B7: =IF('Journey Awards'!K11="C","C",IF('Journey Awards'!K11="P","P","")) | E7: =Petals!B10 -> Zinni | F7: =Petals!C10 -> Considerate and caring | G7: =IF(Petals!K10="A","A","") | I7: =Bridging!B11 -> Look Ahead
A8: ='Journey Awards'!A14 -> Between Earth and Sky | B8: =IF('Journey Awards'!K19="C","C",IF('Journey Awards'!K19="P","P","")) | E8: =Petals!B11 -> Tula | F8: =Petals!C11 -> Courageous and strong | G8: =IF(Petals!K11="A","A","") | I8: 1 | J8: =Bridging!C12 -> Say the Girl Scout Promise together. | K8: =IF(Bridging!K12="A","A","")
A9: ='Journey Awards'!A22 -> 5 Flowers, 4 Stories, 3 Cheers for Animals! | B9: =IF('Journey Awards'!K27="C","C",IF('Journey Awards'!K27="P","P","")) | E9: =Petals!B12 -> Mari | F9: =Petals!C12 -> Responsible for what I say and do | G9: =IF(Petals!K12="A","A","") | I9: 2 | J9: =Bridging!C13 -> Ask the Brownies to teach you | K9: =IF(Bridging!K13="A","A","")
A10: Bridge to Brownies | B10: =IF(Bridging!K18="C","C",IF(Bridging!K18="P","P","")) | E10: =Petals!B13 -> Gloria | F10: =Petals!C13 -> Respect for myself & others | G10: =IF(Petals!K13="A","A","") | I10: 4 | J10: =Bridging!C14 -> Ask the Brownies to show you | K10: =IF(Bridging!K14="A","A","")
E11: =Petals!B14 -> Gerri | F11: =Petals!C14 -> Respect authority | G11: =IF(Petals!K14="A","A","") | I11: =Bridging!C16 -> Plan a Ceremony | K11: =IF(Bridging!K16="A","A","")
A12: Fun Patches | E12: =Petals!B15 -> Clover | F12: =Petals!C15 -> Use resources wisely | G12: =IF(Petals!K15="A","A","")
A13: ='Fun Patches'!C5 -> <List Patch Here> | B13: =IF('Fun Patches'!K5="A","C","") | E13: =Petals!B16 -> Rosie | F13: =Petals!C16 -> Make the world a better place | G13: =IF(Petals!K16="A","A","") | I13: Earned Age-Level
A14: ='Fun Patches'!C6 -> <List Patch Here> | B14: =IF('Fun Patches'!K6="A","C","") | E14: =Petals!B17 -> Vi | F14: =Petals!C17 -> Be a sister to every Girl Scout | G14: =IF(Petals!K17="A","A","")
A15: ='Fun Patches'!C7 -> <List Patch Here> | B15: =IF('Fun Patches'!K7="A","C","") | J15: ='Age-Level'!C6 -> Cookie Rally (Year 1) | K15: =IF('Age-Level'!K6="A","C","")
A16: ='Fun Patches'!C8 -> <List Patch Here> | B16: =IF('Fun Patches'!K8="A","C","") | D16: Leaves | J16: ='Age-Level'!C7 -> Cookie Sales (Year 1) | K16: =IF('Age-Level'!K7="A","C","")
A17: ='Fun Patches'!C9 -> <List Patch Here> | B17: =IF('Fun Patches'!K9="A","C","") | J17: ='Age-Level'!C8 -> Cookie Pin (Year 1) | K17: =IF('Age-Level'!K8="A","C","")
A18: ='Fun Patches'!C10 -> <List Patch Here> | B18: =IF('Fun Patches'!K10="A","C","") | D18: =Petals!B22 -> Finance | F18: =Petals!B20 -> Money Counts | G18: =IF(Petals!K23="C","A","") | J18: ='Age-Level'!C9 -> Cookie Rally (Year 2) | K18: =IF('Age-Level'!K9="A","C","")
A19: ='Fun Patches'!C11 -> <List Patch Here> | B19: =IF('Fun Patches'!K11="A","C","") | D19: =Petals!B27 -> Finance | F19: =Petals!B25 -> Making Choices | G19: =IF(Petals!K28="C","A","") | J19: ='Age-Level'!C10 -> Cookie Sales (Year 2) | K19: =IF('Age-Level'!K10="A","C","")
A20: ='Fun Patches'!C12 -> <List Patch Here> | B20: =IF('Fun Patches'!K12="A","C","") | D20: =Petals!B32 -> Cookie | F20: =Petals!B30 -> Count It Up | G20: =IF(Petals!K33="C","A","") | J20: ='Age-Level'!C11 -> Cookie Pin (Year 2) | K20: =IF('Age-Level'!K11="A","C","")
A21: ='Fun Patches'!C13 -> <List Patch Here> | B21: =IF('Fun Patches'!K13="A","C","") | D21: =Petals!B37 -> Cookie | F21: =Petals!B35 -> Talk It Up | G21: =IF(Petals!K38="C","A","") | J21: ='Age-Level'!C13 -> Fall Sales (Year 1) | K21: =IF('Age-Level'!K13="A","C","")
A22: ='Fun Patches'!C14 -> <List Patch Here> | B22: =IF('Fun Patches'!K14="A","C","") | J22: ='Age-Level'!C14 -> Fall Sales (Year 2) | K22: =IF('Age-Level'!K14="A","C","")
A23: ='Fun Patches'!C15 -> <List Patch Here> | B23: =IF('Fun Patches'!K15="A","C","") | D23: Journey Awards | J23: ='Age-Level'!C16 -> Thinking Day (Year 1) | K23: =IF('Age-Level'!K16="A","C","")
A24: ='Fun Patches'!C16 -> <List Patch Here> | B24: =IF('Fun Patches'!K16="A","C","") | J24: ='Age-Level'!C17 -> Thinking Day (Year 2) | K24: =IF('Age-Level'!K17="A","C","")
A25: ='Fun Patches'!C17 -> <List Patch Here> | B25: =IF('Fun Patches'!K17="A","C","") | D25: ='Journey Awards'!A6 -> Welcome to the Daisy Flower Garden | J25: ='Age-Level'!C19 -> Investiture | K25: =IF('Age-Level'!K19="A","C","")
A26: ='Fun Patches'!C18 -> <List Patch Here> | B26: =IF('Fun Patches'!K18="A","C","") | E26: Watering Can | G26: =IF('Journey Awards'!K8="A","A","") | J26: ='Age-Level'!C20 -> Rededication (1st year) | K26: =IF('Age-Level'!K20="A","C","")
A27: ='Fun Patches'!C19 -> <List Patch Here> | B27: =IF('Fun Patches'!K19="A","C","") | E27: Golden Honey Bee | G27: =IF('Journey Awards'!K9="A","A","") | J27: ='Age-Level'!B21 -> My Promise, My Faith (Year 1) | K27: =IF('Age-Level'!K27="C","C","")
A28: ='Fun Patches'!C20 -> <List Patch Here> | B28: =IF('Fun Patches'!K20="A","C","") | E28: Amazing Daisy | G28: =IF('Journey Awards'!K10="A","A","") | J28: ='Age-Level'!B28 -> My Promise, My Faith (Year 2) | K28: =IF('Age-Level'!K34="C","C","")
A29: ='Fun Patches'!C21 -> <List Patch Here> | B29: =IF('Fun Patches'!K21="A","C","") | D29: ='Journey Awards'!A14 -> Between Earth and Sky | J29: ='Age-Level'!C36 -> Global Action Award | K29: =IF('Age-Level'!K36="A","C","")
A30: ='Fun Patches'!C22 -> <List Patch Here> | B30: =IF('Fun Patches'!K22="A","C","") | E30: ='Journey Awards'!C16 -> The Blue Bucket Award | G30: =IF('Journey Awards'!K16="A","A","") | J30: ='Age-Level'!C38 -> Journey Summit Pin | K30: =IF('Age-Level'!K38="C","C","")
A31: ='Fun Patches'!C23 -> <List Patch Here> | B31: =IF('Fun Patches'!K23="A","C","") | E31: ='Journey Awards'!C17 -> The Firefly Award | G31: =IF('Journey Awards'!K17="A","A","") | J31: ='Age-Level'!B39 -> Safety Award | K31: =IF('Age-Level'!K43="C","C","")
A32: ='Fun Patches'!C24 -> <List Patch Here> | B32: =IF('Fun Patches'!K24="A","C","") | E32: ='Journey Awards'!C18 -> The Clover Award | G32: =IF('Journey Awards'!K18="A","A","")
A33: ='Fun Patches'!C25 -> <List Patch Here> | B33: =IF('Fun Patches'!K25="A","C","") | D33: ='Journey Awards'!A22 -> 5 Flowers, 4 Stories, 3 Cheers for Animals! | G33: =IF('Journey Awards'!K15="A","A","") | J33: Fun Patches (cont'd)
A34: ='Fun Patches'!C26 -> <List Patch Here> | B34: =IF('Fun Patches'!K26="A","C","") | E34: ='Journey Awards'!C24 -> Birdbath Award | G34: =IF('Journey Awards'!K24="A","A","") | J34: ='Fun Patches'!C35 -> <List Patch Here> | K34: =IF('Fun Patches'!K35="A","C","")
A35: ='Fun Patches'!C27 -> <List Patch Here> | B35: =IF('Fun Patches'!K27="A","C","") | E35: ='Journey Awards'!C25 -> Red Robin Award | G35: =IF('Journey Awards'!K25="A","A","") | J35: ='Fun Patches'!C36 -> <List Patch Here> | K35: =IF('Fun Patches'!K36="A","C","")
A36: ='Fun Patches'!C28 -> <List Patch Here> | B36: =IF('Fun Patches'!K28="A","C","") | E36: ='Journey Awards'!C26 -> Tula Award | G36: =IF('Journey Awards'!K26="A","A","") | J36: ='Fun Patches'!C37 -> <List Patch Here> | K36: =IF('Fun Patches'!K37="A","C","")
A37: ='Fun Patches'!C29 -> <List Patch Here> | B37: =IF('Fun Patches'!K29="A","C","") | J37: ='Fun Patches'!C38 -> <List Patch Here> | K37: =IF('Fun Patches'!K38="A","C","")
D38: Fun Patches (cont'd) | J38: ='Fun Patches'!C39 -> <List Patch Here> | K38: =IF('Fun Patches'!K39="A","C","")
E39: ='Fun Patches'!C30 -> <List Patch Here> | G39: =IF('Fun Patches'!K30="A","C","") | J39: ='Fun Patches'!C40 -> <List Patch Here> | K39: =IF('Fun Patches'!K40="A","C","")
A40: Key | E40: ='Fun Patches'!C31 -> <List Patch Here> | G40: =IF('Fun Patches'!K31="A","C","") | J40: ='Fun Patches'!C41 -> <List Patch Here> | K40: =IF('Fun Patches'!K41="A","C","")
A41: C = Completed Award | E41: ='Fun Patches'!C32 -> <List Patch Here> | G41: =IF('Fun Patches'!K32="A","C","") | J41: ='Fun Patches'!C42 -> <List Patch Here> | K41: =IF('Fun Patches'!K42="A","C","")
A42: P = Partially Completed Award | E42: ='Fun Patches'!C33 -> <List Patch Here> | G42: =IF('Fun Patches'!K33="A","C","") | J42: ='Fun Patches'!C43 -> <List Patch Here> | K42: =IF('Fun Patches'!K43="A","C","")
A43: A = Individual Requirement Achieved | E43: ='Fun Patches'!C34 -> <List Patch Here> | G43: =IF('Fun Patches'!K34="A","C","") | J43: ='Fun Patches'!C44 -> <List Patch Here> | K43: =IF('Fun Patches'!K44="A","C","")

Sheet Daisy 9
A1: =MID(CELL("filename",A1),FIND(IF(ISERROR(FIND("]",CELL("filename",A1))),"$","]"),CELL("filename",A1))+1,256) -> Daisy 9 | D1: Petals | I1: Bridging
D2: Petal Center
A3: Awards | E3: =Petals!B6 -> Center | F3: =Petals!C6 -> Promise Center | G3: =IF(Petals!L6="A","A","") | I3: =Bridging!B6 -> Pass It On
A4: Petals | B4: =IF(Petals!L18="C","C",IF(Petals!L18="P","P","")) | D4: Petals | I4: 1 | J4: =Bridging!C7 -> Teach younger girls the GS Promise | K4: =IF(Bridging!L7="A","A","")
A5: Leaves | B5: =INT(COUNTIF(G18:G21,"A")) -> 0 | E5: =Petals!B8 -> Lupe | F5: =Petals!C8 -> Honest and fair | G5: =IF(Petals!L8="A","A","") | I5: 2 | J5: =Bridging!C8 -> Tell younger girls about the Flower | K5: =IF(Bridging!L8="A","A","")
A6: Journey Awards | E6: =Petals!B9 -> Sunny | F6: =Petals!C9 -> Friendly and helpful | G6: =IF(Petals!L9="A","A","") | I6: 3 | J6: =Bridging!C9 -> Play a game together! | K6: =IF(Bridging!L9="A","A","")
A7: ='Journey Awards'!A6 -> Welcome to the Daisy Flower Garden | B7: =IF('Journey Awards'!L11="C","C",IF('Journey Awards'!L11="P","P","")) | E7: =Petals!B10 -> Zinni | F7: =Petals!C10 -> Considerate and caring | G7: =IF(Petals!L10="A","A","") | I7: =Bridging!B11 -> Look Ahead
A8: ='Journey Awards'!A14 -> Between Earth and Sky | B8: =IF('Journey Awards'!L19="C","C",IF('Journey Awards'!L19="P","P","")) | E8: =Petals!B11 -> Tula | F8: =Petals!C11 -> Courageous and strong | G8: =IF(Petals!L11="A","A","") | I8: 1 | J8: =Bridging!C12 -> Say the Girl Scout Promise together. | K8: =IF(Bridging!L12="A","A","")
A9: ='Journey Awards'!A22 -> 5 Flowers, 4 Stories, 3 Cheers for Animals! | B9: =IF('Journey Awards'!L27="C","C",IF('Journey Awards'!L27="P","P","")) | E9: =Petals!B12 -> Mari | F9: =Petals!C12 -> Responsible for what I say and do | G9: =IF(Petals!L12="A","A","") | I9: 2 | J9: =Bridging!C13 -> Ask the Brownies to teach you | K9: =IF(Bridging!L13="A","A","")
A10: Bridge to Brownies | B10: =IF(Bridging!L18="C","C",IF(Bridging!L18="P","P","")) | E10: =Petals!B13 -> Gloria | F10: =Petals!C13 -> Respect for myself & others | G10: =IF(Petals!L13="A","A","") | I10: 4 | J10: =Bridging!C14 -> Ask the Brownies to show you | K10: =IF(Bridging!L14="A","A","")
E11: =Petals!B14 -> Gerri | F11: =Petals!C14 -> Respect authority | G11: =IF(Petals!L14="A","A","") | I11: =Bridging!C16 -> Plan a Ceremony | K11: =IF(Bridging!L16="A","A","")
A12: Fun Patches | E12: =Petals!B15 -> Clover | F12: =Petals!C15 -> Use resources wisely | G12: =IF(Petals!L15="A","A","")
A13: ='Fun Patches'!C5 -> <List Patch Here> | B13: =IF('Fun Patches'!L5="A","C","") | E13: =Petals!B16 -> Rosie | F13: =Petals!C16 -> Make the world a better place | G13: =IF(Petals!L16="A","A","") | I13: Earned Age-Level
A14: ='Fun Patches'!C6 -> <List Patch Here> | B14: =IF('Fun Patches'!L6="A","C","") | E14: =Petals!B17 -> Vi | F14: =Petals!C17 -> Be a sister to every Girl Scout | G14: =IF(Petals!L17="A","A","")
A15: ='Fun Patches'!C7 -> <List Patch Here> | B15: =IF('Fun Patches'!L7="A","C","") | J15: ='Age-Level'!C6 -> Cookie Rally (Year 1) | K15: =IF('Age-Level'!L6="A","C","")
A16: ='Fun Patches'!C8 -> <List Patch Here> | B16: =IF('Fun Patches'!L8="A","C","") | D16: Leaves | J16: ='Age-Level'!C7 -> Cookie Sales (Year 1) | K16: =IF('Age-Level'!L7="A","C","")
A17: ='Fun Patches'!C9 -> <List Patch Here> | B17: =IF('Fun Patches'!L9="A","C","") | J17: ='Age-Level'!C8 -> Cookie Pin (Year 1) | K17: =IF('Age-Level'!L8="A","C","")
A18: ='Fun Patches'!C10 -> <List Patch Here> | B18: =IF('Fun Patches'!L10="A","C","") | D18: =Petals!B22 -> Finance | F18: =Petals!B20 -> Money Counts | G18: =IF(Petals!L23="C","A","") | J18: ='Age-Level'!C9 -> Cookie Rally (Year 2) | K18: =IF('Age-Level'!L9="A","C","")
A19: ='Fun Patches'!C11 -> <List Patch Here> | B19: =IF('Fun Patches'!L11="A","C","") | D19: =Petals!B27 -> Finance | F19: =Petals!B25 -> Making Choices | G19: =IF(Petals!L28="C","A","") | J19: ='Age-Level'!C10 -> Cookie Sales (Year 2) | K19: =IF('Age-Level'!L10="A","C","")
A20: ='Fun Patches'!C12 -> <List Patch Here> | B20: =IF('Fun Patches'!L12="A","C","") | D20: =Petals!B32 -> Cookie | F20: =Petals!B30 -> Count It Up | G20: =IF(Petals!L33="C","A","") | J20: ='Age-Level'!C11 -> Cookie Pin (Year 2) | K20: =IF('Age-Level'!L11="A","C","")
A21: ='Fun Patches'!C13 -> <List Patch Here> | B21: =IF('Fun Patches'!L13="A","C","") | D21: =Petals!B37 -> Cookie | F21: =Petals!B35 -> Talk It Up | G21: =IF(Petals!L38="C","A","") | J21: ='Age-Level'!C13 -> Fall Sales (Year 1) | K21: =IF('Age-Level'!L13="A","C","")
A22: ='Fun Patches'!C14 -> <List Patch Here> | B22: =IF('Fun Patches'!L14="A","C","") | J22: ='Age-Level'!C14 -> Fall Sales (Year 2) | K22: =IF('Age-Level'!L14="A","C","")
A23: ='Fun Patches'!C15 -> <List Patch Here> | B23: =IF('Fun Patches'!L15="A","C","") | D23: Journey Awards | J23: ='Age-Level'!C16 -> Thinking Day (Year 1) | K23: =IF('Age-Level'!L16="A","C","")
A24: ='Fun Patches'!C16 -> <List Patch Here> | B24: =IF('Fun Patches'!L16="A","C","") | J24: ='Age-Level'!C17 -> Thinking Day (Year 2) | K24: =IF('Age-Level'!L17="A","C","")
A25: ='Fun Patches'!C17 -> <List Patch Here> | B25: =IF('Fun Patches'!L17="A","C","") | D25: ='Journey Awards'!A6 -> Welcome to the Daisy Flower Garden | J25: ='Age-Level'!C19 -> Investiture | K25: =IF('Age-Level'!L19="A","C","")
A26: ='Fun Patches'!C18 -> <List Patch Here> | B26: =IF('Fun Patches'!L18="A","C","") | E26: Watering Can | G26: =IF('Journey Awards'!L8="A","A","") | J26: ='Age-Level'!C20 -> Rededication (1st year) | K26: =IF('Age-Level'!L20="A","C","")
